{"text_format":"1","workbook":"xlsx","n_sheets":11,"sheets":["Document History","CoverPage","Step to Execute","Raw Data Collection Sheet","XmR_Chart","U_Chart","P_Chart","Helpsheet-1","Helpsheet-2","Helpsheet-3","Cp-Calculator"],"not_rendered":{"charts":7,"images":3,"macros":1,"external_links":1,"defined_names":70,"comments":4,"pivot_tables":0},"unopened":[],"bounds":{"document_bytes":16777216,"sheet_cells":100000,"rows_first":2000,"rows_last":500,"rows_between":2000,"halvings":0,"cell_chars":16384,"cell_head_chars":4096},"cells_cut":0,"cells_raw":0,"read":"whole","date_system":"1900"}

{"sheet":"Document History","index":0,"n_rows":44,"n_cols":6,"rows_kept":44,"cut":false,"hidden":false,"merged":[]}
[]
[null,"UniQuE"]
[null,"Subprocess-Control-Template"]
[null,"(Engagement Name and Id)"]
[null,"(Client)"]
[]
[]
[null,"Document History"]
[]
[null,"Version","Date","Author","Changes"]
[]
[]
[]
[]
[]
[null,"Review And Approval"]
[]
[null,"Company","Role","Name","Date","Signature"]
[]
[]
[]
[]
[]
[]
[null,"Distribution"]
[]
[null,"Company","Name","Number","Media","Action"]
[]
[]
[]
[]
[]
[]
[null,"Storage"]
[]
[null,"Location","Access","Administrator"]
[]
[]
[]
[]
[]
[null,"Company Confidential - Copyright © 2022 Capgemini - All rights reserved"]
[]
[null,"Template Version Number:Group Reference v1.1"]

{"sheet":"CoverPage","index":1,"n_rows":27,"n_cols":9,"rows_kept":27,"cut":false,"hidden":false,"merged":[[31,1,31,9],[32,1,32,9],[26,1,26,9],[27,1,27,9],[28,1,28,9],[29,1,29,9],[30,1,30,9],[15,1,15,3],[15,4,15,9],[10,1,10,3],[10,4,10,9],[17,1,17,9],[18,2,18,3],[18,4,18,5],[18,6,18,7],[18,8,18,9],[19,2,19,3],[19,6,19,7],[20,2,20,3],[21,2,21,3],[22,2,22,3],[23,2,23,3],[19,4,19,5],[20,4,20,5],[21,4,21,5],[22,4,22,5],[23,4,23,5],[6,1,6,3],[6,4,6,9],[7,1,7,3],[7,4,7,9],[14,1,14,3],[14,4,14,9],[11,4,11,9],[12,1,12,3],[12,4,12,9],[13,1,13,3],[8,1,8,3],[8,4,8,9],[9,1,9,3],[9,4,9,9],[11,1,11,3],[13,4,13,9],[1,1,1,9],[3,1,3,9],[4,1,4,3],[4,4,4,9],[5,1,5,3],[5,4,5,9],[20,6,20,7],[21,6,21,7],[22,6,22,7],[23,6,23,7],[19,8,19,9],[20,8,20,9],[21,8,21,9],[22,8,22,9],[23,8,23,9]]}
[]
[null,"Sub Process Control Chart Sheet"]
[]
[null,"Project Details :"]
[null,"BU / SBU Name"]
[null,"Project Name"]
[null,"Engagement Manager"]
[null,"Project Type"]
[null,"Delivery Manager"]
[null,"QA"]
[null,"Identified Sub process"]
[null,"Basis of Sub process identification"]
[null,"Prepared by / Date"]
[null,"Approved by / Date"]
[null,"Threshold Value"]
[null,"Analysis/ Review Frequence"]
[]
[null,"Document Revision History"]
[null,"Rev No.","Date of Issue",null,"Author",null,"Approved by",null,"Scope"]
[]
[]
[]
[]
[]
[]
[]
[null,"Copyright @ Altran Technologies India Pvt. Ltd 2019.  All rights reserved.\n"]

{"sheet":"Step to Execute","index":2,"n_rows":2,"n_cols":2,"rows_kept":2,"cut":false,"hidden":false,"merged":[[1,1,1,19]]}
[]
[null,"STEP TO EXECUTE (Control Chart Application)"]

{"sheet":"Raw Data Collection Sheet","index":3,"n_rows":100,"n_cols":14,"rows_kept":100,"cut":false,"hidden":false,"merged":[[8,10,8,11],[8,12,8,13],[9,10,9,11],[9,12,9,13],[10,10,10,11],[10,12,10,13],[10,7,10,8],[3,10,3,13],[4,10,4,11],[4,12,4,13],[5,10,5,11],[5,12,5,13],[6,10,6,11],[6,12,6,13],[7,10,7,11],[7,12,7,13],[4,7,4,8],[5,7,5,8],[6,7,6,8],[7,7,7,8],[8,7,8,8],[9,7,9,8],[6,1,6,2],[7,1,7,2],[10,1,10,2],[4,5,4,6],[5,5,5,6],[6,5,6,6],[7,5,7,6],[8,5,8,6],[9,5,9,6],[10,5,10,6],[8,1,8,2],[9,1,9,2],[1,1,1,15],[3,1,3,3],[3,5,3,8],[4,1,4,2],[5,1,5,2]]}
[]
[null,"RAW DATA COLLECTION SHEET (Use for Trial Control Limit)"]
[]
[null,"Control Chart Details:",null,null,null,"Control Chart Details:",null,null,null,null,"Control Chart Details:"]
[null,"Chart Type",null,"X-mR Chart",null,"Chart Type",null,"U Chart",null,null,"Chart Type",null,"P Chart"]
[null,"Distribution followed",null,"Normal",null,"Distribution followed",null,"Poisson",null,null,"Distribution followed",null,"Binomial"]
[null,"Data Type",null,"Variable",null,"Data Type",null,"Attribute",null,null,"Data Type",null,"Attribute"]
[null,"Sample or Subgroup size ",null,"Sub group size is 1",null,"Sample or Subgroup size ",null,"Unequal Sized",null,null,"Sample or Subgroup size ",null,"Equal Sized"]
[null,"Sub Process Identified",null,null,null,"Sub Process Identified",null,null,null,null,"Sub Process Identified"]
[null,"Metrics Used",null,null,null,"Metrics Used",null,null,null,null,"Metrics Used"]
[null,"Basis of Sub Process selection",null,"Derived from PPM (Sensitivity Analysis)",null,"Basis of Sub Process selection",null,"Derived from PPM (Sensitivity Analysis)",null,null,"Basis of Sub Process selection",null,"Derived from PPM (Sensitivity Analysis)"]
[]
[null,"S. No.","Module / Feature / Release","Data Points",null,"S. No.","Module / Feature / Release","Defect","Sample Size",null,"S. No.","Module / Feature / Release","Defect","Sample Size"]
[1,{"$f":"IF(D14=\"\",\"\",A14)","v":""},null,null,null,{"$f":"IF(H14=\"\",\"\",A14)","v":""},null,null,null,null,{"$f":"IF(M14=\"\",\"\",A14)","v":""}]
[2,"",null,null,null,{"$f":"IF(H15=\"\",\"\",A15)","v":""},null,null,null,null,{"$f":"IF(M15=\"\",\"\",A15)","v":""}]
[3,"",null,null,null,"",null,null,null,null,""]
[4,"",null,null,null,"",null,null,null,null,""]
[5,"",null,null,null,"",null,null,null,null,""]
[6,"",null,null,null,"",null,null,null,null,""]
[7,"",null,null,null,"",null,null,null,null,""]
[8,"",null,null,null,"",null,null,null,null,""]
[9,"",null,null,null,"",null,null,null,null,""]
[10,"",null,null,null,"",null,null,null,null,""]
[11,"",null,null,null,"",null,null,null,null,""]
[12,"",null,null,null,"",null,null,null,null,""]
[13,"",null,null,null,"",null,null,null,null,""]
[14,"",null,null,null,"",null,null,null,null,""]
[15,"",null,null,null,"",null,null,null,null,""]
[16,"",null,null,null,"",null,null,null,null,""]
[17,"",null,null,null,"",null,null,null,null,""]
[18,"",null,null,null,"",null,null,null,null,""]
[19,"",null,null,null,"",null,null,null,null,""]
[20,"",null,null,null,"",null,null,null,null,""]
[21,"",null,null,null,"",null,null,null,null,""]
[22,"",null,null,null,"",null,null,null,null,""]
[23,"",null,null,null,"",null,null,null,null,""]
[24,"",null,null,null,"",null,null,null,null,""]
[25,"",null,null,null,"",null,null,null,null,""]
[26,"",null,null,null,"",null,null,null,null,""]
[27,"",null,null,null,"",null,null,null,null,""]
[28,"",null,null,null,"",null,null,null,null,""]
[29,"",null,null,null,"",null,null,null,null,""]
[30,"",null,null,null,"",null,null,null,null,""]
[31,"",null,null,null,"",null,null,null,null,""]
[32,"",null,null,null,"",null,null,null,null,""]
[33,{"$f":"IF(D46=\"\",\"\",A46)","v":""},null,null,null,"",null,null,null,null,""]
[34,"",null,null,null,"",null,null,null,null,""]
[35,"",null,null,null,"",null,null,null,null,""]
[36,"",null,null,null,"",null,null,null,null,""]
[37,"",null,null,null,"",null,null,null,null,""]
[38,"",null,null,null,"",null,null,null,null,""]
[39,"",null,null,null,"",null,null,null,null,""]
[40,"",null,null,null,"",null,null,null,null,""]
[41,"",null,null,null,"",null,null,null,null,""]
[42,"",null,null,null,"",null,null,null,null,""]
[43,"",null,null,null,"",null,null,null,null,""]
[44,"",null,null,null,"",null,null,null,null,""]
[45,"",null,null,null,"",null,null,null,null,""]
[46,"",null,null,null,"",null,null,null,null,""]
[47,"",null,null,null,"",null,null,null,null,""]
[48,"",null,null,null,"",null,null,null,null,""]
[49,"",null,null,null,"",null,null,null,null,""]
[50,"",null,null,null,"",null,null,null,null,""]
[51,"",null,null,null,"",null,null,null,null,""]
[52,"",null,null,null,"",null,null,null,null,""]
[53,"",null,null,null,"",null,null,null,null,""]
[54,"",null,null,null,"",null,null,null,null,""]
[55,"",null,null,null,"",null,null,null,null,""]
[56,"",null,null,null,"",null,null,null,null,""]
[57,"",null,null,null,"",null,null,null,null,""]
[58,"",null,null,null,"",null,null,null,null,""]
[59,"",null,null,null,"",null,null,null,null,""]
[60,"",null,null,null,"",null,null,null,null,""]
[61,"",null,null,null,"",null,null,null,null,""]
[62,"",null,null,null,"",null,null,null,null,""]
[63,"",null,null,null,"",null,null,null,null,""]
[64,"",null,null,null,"",null,null,null,null,""]
[65,{"$f":"IF(D78=\"\",\"\",A78)","v":""},null,null,null,"",null,null,null,null,""]
[66,"",null,null,null,{"$f":"IF(H79=\"\",\"\",A79)","v":""},null,null,null,null,{"$f":"IF(M79=\"\",\"\",A79)","v":""}]
[67,"",null,null,null,"",null,null,null,null,""]
[68,"",null,null,null,"",null,null,null,null,""]
[69,"",null,null,null,"",null,null,null,null,""]
[70,"",null,null,null,"",null,null,null,null,""]
[71,"",null,null,null,"",null,null,null,null,""]
[72,"",null,null,null,"",null,null,null,null,""]
[73,"",null,null,null,"",null,null,null,null,""]
[74,"",null,null,null,"",null,null,null,null,""]
[75,"",null,null,null,"",null,null,null,null,""]
[76,"",null,null,null,"",null,null,null,null,""]
[77,"",null,null,null,"",null,null,null,null,""]
[78,"",null,null,null,"",null,null,null,null,""]
[79,"",null,null,null,"",null,null,null,null,""]
[80,"",null,null,null,"",null,null,null,null,""]
[81,"",null,null,null,"",null,null,null,null,""]
[82,"",null,null,null,"",null,null,null,null,""]
[83,"",null,null,null,"",null,null,null,null,""]
[84,"",null,null,null,"",null,null,null,null,""]
[85,"",null,null,null,"",null,null,null,null,""]
[86,"",null,null,null,"",null,null,null,null,""]
[87,"",null,null,null,"",null,null,null,null,""]

{"sheet":"XmR_Chart","index":4,"n_rows":710,"n_cols":61,"rows_kept":710,"cut":false,"hidden":false,"merged":[[4,2,4,3],[5,2,5,3],[1,0,1,31],[4,4,4,5],[4,6,4,7],[3,22,3,25],[3,0,3,7],[6,0,6,1],[7,0,7,1],[8,0,8,1],[9,0,9,1],[4,0,4,1],[5,0,5,1],[7,6,7,7],[6,2,6,3],[7,2,7,3],[8,2,8,3],[9,2,9,3]]}
[]
["       X-MR Chart for Variables",null,null,null,null,null,null,null,null,null,null,null,null,null,null,null,null,null,null,null,null,null,null,null,null,null,null,null,null,null,null,null,null,null,null,null,null,null,null,null,""]
[]
["CONTROL CHART DETAILS:",null,null,null,null,null,null,null,null,null,null,null,null,null,null,null,null,null,null,null,null,null,"Out-Of-Control Process: Sensitization Rules"]
["Chart Type",null,"X-mR Chart",null,"DATA POINT STATISTICS",null,"DEFINE SPECIFICATION LIMIT",null,null,null,null,null,null,null,null,null,null,null,null,null,null," ","Rule - 1","Rule - 2","Rule - 3","Rule - 4"]
["Distribution followed",null,"Normal",null,"Mean",{"$f":"IF(COUNTA(C13:C710)=0,\"-\",AVERAGEIF(I13:I710,\"1\",C13:C710))","v":6.125},"Upper Spec. (USL)",9,null,null,null,null,null,null,null,null,null,null,null,null,null,null,"","","",""]
["Data Type","Data Type","Variable",null,"R-Mean",{"$f":"IFERROR(AVERAGEIF(I13:I710,\"1\",D13:D710), \"-\")","v":0.7142857142857143},"Lower Spec. (LSL)",1]
["Sample or Subgroup size ","Sample or Subgroup size ","Sub group size is 1",null,"Intial Data Points\n(for Freezing Baselines)",8,"PROCESS CAPABILITY (Select this cell to view HELP)",null,null,null,null,null,null,null,null,null,null,null,null,null,null,{"$f":"ROUND(((H6-H7)/(6*(F7/(VLOOKUP(1,XMR_Table,4,FALSE))))),3)","v":2.1059999999999999}]
["Sub Process Identified","Sub Process Identified",null,null,"Revise Contril Limit","Please use separate sheet for revise control limit",{"$f":"IF(COUNTBLANK(H6:H7)>0,\"Cp = need spec. limit\",\"Cp\"&\" = \"&ROUND(((H6-H7)/(6*(F7/(VLOOKUP(1,XMR_Table,4,FALSE))))),3))","v":"Cp = 2.106"},{"$f":"IF(COUNTBLANK(H6)>0,\"need spec. limit\",\"Cpu\"&\" = \"&ROUND(((H6-F6)/(3*(F7/(VLOOKUP(1,XMR_Table,4,FALSE))))),3))","v":"Cpu = 1.513"},null,null,null,null,null,null,null,null,null,null,null,null,null,{"$f":"IF(COUNTBLANK(H6)>0,\"need spec. limit\", ROUND(((H6-F6)/(3*(F7/(VLOOKUP(1,XMR_Table,4,FALSE))))),3))","v":1.5129999999999999}]
["Basis of Sub Process selection",null,"Derived from PPM (Sensitivity Analysis)",null,"Metrics Used",null,{"$f":"\"Cpk\"&\" = \"&MIN(V9, V10)","v":"Cpk = 1.513"},{"$f":"IF(COUNTBLANK(H7)>0,\"need spec. limit\",\"Cpl\"&\" = \"&ROUND(((F6-H7)/(3*(F7/(VLOOKUP(1,XMR_Table,4,FALSE))))),3))","v":"Cpl = 2.698"},null,null,null,null,null,null,null,null,null,null,null,null,null,{"$f":"IF(COUNTBLANK(H7)>0,\"need spec. limit\", ROUND(((F6-H7)/(3*(F7/(VLOOKUP(1,XMR_Table,4,FALSE))))),3))","v":2.698},null,null,null,null,null,null,null,null,null,null,"Rule 2",null,null,null,null,null,null,null,null,"Rule 3",null,null,null,null,null,null,null,null,"Rule 4",null,null,null,null,null,null,null,null,"Rule 1"]
[null,null,null,null,null,null,null,null,null,null,null,null,null,null,null,null,null,null,null,null,null,null,null,null,null,null,null,null,null,null,null,null,null,null,null,null,null,null,"Rule 1",null,null,null,null,null,null,null,null,"Rule 1",null,null,null,null,null,null,null,null,"Rule 1"]
["Date of reporting","S. No.","Data Points","Range","R Limit","LCL","UCL","RCA for Out of Control Points","Column1","CLA","CL","Column2","2r-UCL","1r-LCL","2r-lCL","1r-UCL","-3 Sigma","1lcl","2lcl","1ucl","2ucl",null,null,null,null,null,null,null,null,null,null,null,"Between +2 to +3",null,null,"Between -2 to -3",null,null,"Rule 2",null,null,"Between +2 to +3",null,null,"Between -2 to -3",null,null,"Rule 3",null,null,"Between CL to +3",null,null,"Between CL to -3",null,null,"Rule 3",null,null,"Between -3 to +3","Rule 1"]
["2011-05-01",{"$f":"IF(C13=\"\",\"\",1)","v":1},6,null,{"$f":"IF(D13=\"\",\"\",AVERAGE($D$14:$D$511))","v":""},{"$f":"IF(C13=\"\",\"\",IF($F$6-(2.66*$F$7)<0, 0, $F$6-(2.66*$F$7)))","v":4.2249999999999996},{"$f":"IF(C13=\"\",\"\",$F$6+(2.66*$F$7))","v":8.0250000000000004},null,{"$f":"IF(B13>$F$8,0,1)","v":1},{"$f":"IF(G13=\"\",\"\",$F$6)","v":6.125},null,{"$f":"D13","v":0},{"$f":"E13","v":""},null,null,null,null,{"$f":"IF(C13=\"\",\"\",IF($F$6-(0.89*$F$7)<0, 0, $F$6-(0.89*$F$7)))","v":5.4892857142857139},{"$f":"IF(C13=\"\",\"\",IF($F$6-(1.77*$F$7)<0,0,$F$6-(1.77*$F$7)))","v":4.8607142857142858},{"$f":"IF(C13=\"\",\"\",$F$6+(0.89*$F$7))","v":6.7607142857142861},{"$f":"IF(C13=\"\",\"\",$F$6+(1.77*$F$7))","v":7.3892857142857142},null,null,null,null,null,null,null,null,null,null,null,{"$f":"IF(C13=\"\",\"\",IF(AND(C13>=U13,C13<G13),1,0))","v":0},{"$f":"SUM(AG13:AG15)","v":0},{"$f":"IF(AH14=2,\"\",IF(AH13>=2,CONCATENATE(\"Data Point \",B13,\" to \",\"Data Point \",(B13+2)),\"\"))","v":""},{"$f":"IF(C13=\"\",\"\",IF(AND(C13<=S13,C13>F13),1,0))","v":0},{"$f":"SUM(AJ13:AJ15)","v":0},{"$f":"IF(AK14=2,\"\",IF(AK13>=2,CONCATENATE(\"Data Point \",B13,\" to \",\"Data Point \",(B13+2)),\"\"))","v":""},{"$f":"IF(AND(AI13<>\"\",AL13=\"\"),AI13,IF(AND(AI13=\"\",AL13<>\"\"),AL13,IF(AND(AI13<>\"\",AL13<>\"\"),AI13,\"\")))","v":""},null,null,{"$f":"IF(C13=\"\",\"\",IF(AND(C13>=T13,C13<G13),1,0))","v":0},{"$f":"SUM(AP13:AP17)","v":1},{"$f":"IF(AQ14=4,\"\",IF(AQ13>=4,CONCATENATE(\"Data Point \",B13,\" to \",\"Data Point \",(B13+4)),\"\"))","v":""},{"$f":"IF(C13=\"\",\"\",IF(AND(C13<=R13,C13>F13),1,0))","v":0},{"$f":"SUM(AS13:AS17)","v":2},{"$f":"IF(AT14=4,\"\",IF(AT13>=4,CONCATENATE(\"Data Point \",B13,\" to \",\"Data Point \",(B13+4)),\"\"))","v":""},{"$f":"IF(AND(AR13<>\"\",AU13=\"\"),AR13,IF(AND(AR13=\"\",AU13<>\"\"),AU13,IF(AND(AR13<>\"\",AU13<>\"\"),AR13,\"\")))","v":""},null,null,{"$f":"IF(C13=\"\",\"\",IF(AND(C13>=J13,C13<G13),1,0))","v":0},{"$f":"SUM(AY13:AY20)","v":3},{"$f":"IF(AZ13=8,CONCATENATE(\"Data Point \",B13,\" to \",\"Data Point \",(B13+8)),\"\")","v":""},{"$f":"IF(C13=\"\",\"\",IF(AND(C13<=J13,C13>F13),1,0))","v":1},{"$f":"SUM(BB13:BB20)","v":5},{"$f":"IF(BC13=8,CONCATENATE(\"Data Point \",B13,\" to \",\"Data Point \",(B13+8)),\"\")","v":""},{"$f":"IF(AND(BA13<>\"\",BD13=\"\"),BA13,IF(AND(BA13=\"\",BD13<>\"\"),BD13,IF(AND(BA13<>\"\",BD13<>\"\"),BA13,\"\")))","v":""},null,null,{"$f":"IF(C13=\"\",\"\",IF(OR(C13>G13,C13<Table115[[#This Row],[LCL]]),1,0))","v":0},{"$f":"IF(BH13=1,CONCATENATE(\"Data Point \",B13),\"\")","v":""}]
["2011-06-03",{"$f":"IF(C14=\"\",\"\",B13+1)","v":2},6,{"$f":"IF(C14=\"\",\"\",ABS(C14-C13))","v":0},{"$f":"IF(C14=\"\",\"\",3.27*$F$7)","v":2.3357142857142859},{"$f":"IF(C14=\"\",\"\",IF($F$6-(2.66*$F$7)<0, 0, $F$6-(2.66*$F$7)))","v":4.2249999999999996},8.0250000000000004,null,1,6.125,{"$f":"IF(G14=\"\",\"\",$F$7)","v":0.7142857142857143},0,{"$f":"IF(C14=\"\",\"\",IF((3.27*$F$7)*(2/3)<0,0,(3.27*$F$7)*(2/3)))","v":1.5571428571428572},{"$f":"IF(C14=\"\",\"\",IF((-3.27*$F$7)*(1/3)<0,0,(-3.27*$F$7)*(1/3)))","v":0},{"$f":"IF(C14=\"\",\"\",IF((-3.27*$F$7)*(2/3)<0,0,(-3.27*$F$7)*(2/3)))","v":0},{"$f":"IF(C14=\"\",\"\",(3.27*$F$7)*(1/3))","v":0.77857142857142858},{"$f":"IF(B14=\"\", \"\", 0)","v":0},5.4892857142857139,4.8607142857142858,6.7607142857142861,7.3892857142857142,null,null,null,null,null,null,null,null,null,null,null,{"$f":"IF(C14=\"\",\"\",IF(AND(C14>=U14,C14<G14),1,0))","v":0},{"$f":"SUM(AG14:AG16)","v":0},{"$f":"IF(AH15=2,\"\",IF(AH14>=2,CONCATENATE(\"Data Point \",B14,\" to \",\"Data Point \",(B14+2)),\"\"))","v":""},{"$f":"IF(C14=\"\",\"\",IF(AND(C14<=S14,C14>F14),1,0))","v":0},0,{"$f":"IF(AK15=2,\"\",IF(AK14>=2,CONCATENATE(\"Data Point \",B14,\" to \",\"Data Point \",(B14+2)),\"\"))","v":""},"",null,null,{"$f":"IF(C14=\"\",\"\",IF(AND(C14>=T14,C14<G14),1,0))","v":0},{"$f":"SUM(AP14:AP18)","v":1},{"$f":"IF(AQ15=4,\"\",IF(AQ14>=4,CONCATENATE(\"Data Point \",B14,\" to \",\"Data Point \",(B14+4)),\"\"))","v":""},{"$f":"IF(C14=\"\",\"\",IF(AND(C14<=R14,C14>F14),1,0))","v":0},{"$f":"SUM(AS14:AS18)","v":2},{"$f":"IF(AT15=4,\"\",IF(AT14>=4,CONCATENATE(\"Data Point \",B14,\" to \",\"Data Point \",(B14+4)),\"\"))","v":""},{"$f":"IF(AND(AR14<>\"\",AU14=\"\"),AR14,IF(AND(AR14=\"\",AU14<>\"\"),AU14,IF(AND(AR14<>\"\",AU14<>\"\"),AR14,\"\")))","v":""},null,null,{"$f":"IF(C14=\"\",\"\",IF(AND(C14>=J14,C14<G14),1,0))","v":0},{"$f":"SUM(AY14:AY21)","v":3},{"$f":"IF(AZ14=8,CONCATENATE(\"Data Point \",B14,\" to \",\"Data Point \",(B14+8)),\"\")","v":""},{"$f":"IF(C14=\"\",\"\",IF(AND(C14<=J14,C14>F14),1,0))","v":1},{"$f":"SUM(BB14:BB21)","v":4},{"$f":"IF(BC14=8,CONCATENATE(\"Data Point \",B14,\" to \",\"Data Point \",(B14+8)),\"\")","v":""},{"$f":"IF(AND(BA14<>\"\",BD14=\"\"),BA14,IF(AND(BA14=\"\",BD14<>\"\"),BD14,IF(AND(BA14<>\"\",BD14<>\"\"),BA14,\"\")))","v":""},null,null,{"$f":"IF(C14=\"\",\"\",IF(OR(C14>G14,C14<Table115[[#This Row],[LCL]]),1,0))","v":0},{"$f":"IF(BH14=1,CONCATENATE(\"Data Point \",B14),\"\")","v":""}]
["2011-07-04",{"$f":"IF(C15=\"\",\"\",B14+1)","v":3},5,{"$f":"IF(C15=\"\",\"\",ABS(C15-C14))","v":1},2.3357142857142859,4.2249999999999996,8.0250000000000004,null,1,6.125,0.7142857142857143,1,{"$f":"IF(C15=\"\",\"\",IF((3.27*$F$7)*(2/3)<0,0,(3.27*$F$7)*(2/3)))","v":1.5571428571428572},{"$f":"IF(C15=\"\",\"\",IF((-3.27*$F$7)*(1/3)<0,0,(-3.27*$F$7)*(1/3)))","v":0},{"$f":"IF(C15=\"\",\"\",IF((-3.27*$F$7)*(2/3)<0,0,(-3.27*$F$7)*(2/3)))","v":0},{"$f":"IF(C15=\"\",\"\",(3.27*$F$7)*(1/3))","v":0.77857142857142858},{"$f":"IF(B15=\"\", \"\", 0)","v":0},5.4892857142857139,4.8607142857142858,6.7607142857142861,7.3892857142857142,null,null,null,null,null,null,null,null,null,null,null,0,0,"",0,0,"","",null,null,0,{"$f":"SUM(AP15:AP19)","v":2},"",1,2,"","",null,null,0,3,"",1,3,"","",null,null,{"$f":"IF(C15=\"\",\"\",IF(OR(C15>G15,C15<Table115[[#This Row],[LCL]]),1,0))","v":0},""]
["2011-08-05",4,5,{"$f":"IF(C16=\"\",\"\",ABS(C16-C15))","v":0},2.3357142857142859,4.2249999999999996,8.0250000000000004,null,1,6.125,0.7142857142857143,{"$f":"D16","v":0},1.5571428571428572,0,0,0.77857142857142858,0,5.4892857142857139,4.8607142857142858,6.7607142857142861,7.3892857142857142,null,null,null,null,null,null,null,null,null,null,null,0,0,"",0,0,"","",null,null,0,3,"",1,1,"","",null,null,0,3,"",1,2,"","",null,null,{"$f":"IF(C16=\"\",\"\",IF(OR(C16>G16,C16<Table115[[#This Row],[LCL]]),1,0))","v":0},""]
["2011-09-02",5,7,{"$f":"IF(C17=\"\",\"\",ABS(C17-C16))","v":2},2.3357142857142859,4.2249999999999996,8.0250000000000004,null,1,6.125,0.7142857142857143,2,1.5571428571428572,0,0,0.77857142857142858,0,5.4892857142857139,4.8607142857142858,6.7607142857142861,7.3892857142857142,null,null,null,null,null,null,null,null,null,null,null,0,0,"",0,0,"","",null,null,1,3,"",0,0,"","",null,null,1,3,"",0,1,"","",null,null,{"$f":"IF(C17=\"\",\"\",IF(OR(C17>G17,C17<Table115[[#This Row],[LCL]]),1,0))","v":0},""]
["2011-10-01",6,6,1,2.3357142857142859,4.2249999999999996,8.0250000000000004,null,1,6.125,0.7142857142857143,1,1.5571428571428572,0,0,0.77857142857142858,0,5.4892857142857139,4.8607142857142858,6.7607142857142861,7.3892857142857142,null,null,null,null,null,null,null,null,null,null,null,0,0,"",0,0,"","",null,null,0,2,"",0,0,"","",null,null,0,2,"",1,1,"","",null,null,{"$f":"IF(C18=\"\",\"\",IF(OR(C18>G18,C18<Table115[[#This Row],[LCL]]),1,0))","v":0},""]
["2011-10-04",7,7,1,2.3357142857142859,4.2249999999999996,8.0250000000000004,null,1,6.125,0.7142857142857143,1,1.5571428571428572,0,0,0.77857142857142858,0,5.4892857142857139,4.8607142857142858,6.7607142857142861,7.3892857142857142,null,null,null,null,null,null,null,null,null,null,null,0,0,"",0,0,"","",null,null,1,2,"",0,0,"","",null,null,1,2,"",0,0,"","",null,null,{"$f":"IF(C19=\"\",\"\",IF(OR(C19>G19,C19<Table115[[#This Row],[LCL]]),1,0))","v":0},""]
["2011-10-10",8,7,0,2.3357142857142859,4.2249999999999996,8.0250000000000004,null,1,6.125,0.7142857142857143,0,1.5571428571428572,0,0,0.77857142857142858,0,5.4892857142857139,4.8607142857142858,6.7607142857142861,7.3892857142857142,null,null,null,null,null,null,null,null,null,null,null,0,0,"",0,0,"","",null,null,1,1,"",0,0,"","",null,null,1,1,"",0,0,"","",null,null,{"$f":"IF(C20=\"\",\"\",IF(OR(C20>G20,C20<Table115[[#This Row],[LCL]]),1,0))","v":0},""]
[null,"",null,"","","","",null,0,"","",{"$f":"D21","v":""},"","","","","","","","","",null,null,null,null,null,null,null,null,null,null,null,"",0,"","",0,"","",null,null,"",0,"","",0,"","",null,null,"",0,"","",0,"","",null,null,{"$f":"IF(C21=\"\",\"\",IF(OR(C21>G21,C21<Table115[[#This Row],[LCL]]),1,0))","v":""},""]
[null,"",null,"","","","",null,0,"","","","","","","","","","","","",null,null,null,null,null,null,null,null,null,null,null,"",0,"","",0,"","",null,null,"",0,"","",0,"","",null,null,"",0,"","",0,"","",null,null,{"$f":"IF(C22=\"\",\"\",IF(OR(C22>G22,C22<Table115[[#This Row],[LCL]]),1,0))","v":""},""]
[null,"",null,"","","","",null,0,"","","","","","","","","","","","",null,null,null,null,null,null,null,null,null,null,null,"",0,"","",0,"","",null,null,"",0,"","",0,"","",null,null,"",0,"","",0,"","",null,null,{"$f":"IF(C23=\"\",\"\",IF(OR(C23>G23,C23<Table115[[#This Row],[LCL]]),1,0))","v":""},""]
[null,"",null,"","","","",null,0,"","","","","","","","","","","","",null,null,null,null,null,null,null,null,null,null,null,"",0,"","",0,"","",null,null,"",{"$f":"SUM(AP24:AP28)","v":0},"","",0,"","",null,null,"",0,"","",0,"","",null,null,{"$f":"IF(C24=\"\",\"\",IF(OR(C24>G24,C24<Table115[[#This Row],[LCL]]),1,0))","v":""},""]
[null,"",null,"","","","",null,0,"","","","","","","","","","","","",null,null,null,null,null,null,null,null,null,null,null,"",0,"","",0,"","",null,null,"",0,"","",0,"","",null,null,"",0,"","",0,"","",null,null,{"$f":"IF(C25=\"\",\"\",IF(OR(C25>G25,C25<Table115[[#This Row],[LCL]]),1,0))","v":""},""]
[null,"",null,"","","","",null,0,"","","","","","","","","","","","",null,null,null,null,null,null,null,null,null,null,null,"",0,"","",0,"","",null,null,"",0,"","",0,"","",null,null,"",0,"","",0,"","",null,null,{"$f":"IF(C26=\"\",\"\",IF(OR(C26>G26,C26<Table115[[#This Row],[LCL]]),1,0))","v":""},""]
[null,"",null,"","","","",null,0,"","","","","","","","","","","","",null,null,null,null,null,null,null,null,null,null,null,"",0,"","",0,"","",null,null,"",0,"","",0,"","",null,null,"",0,"","",0,"","",null,null,{"$f":"IF(C27=\"\",\"\",IF(OR(C27>G27,C27<Table115[[#This Row],[LCL]]),1,0))","v":""},""]
[null,"",null,"","","","",null,0,"","","","","","","","","","","","",null,null,null,null,null,null,null,null,null,null,null,"",0,"","",0,"","",null,null,"",0,"","",0,"","",null,null,"",0,"","",0,"","",null,null,{"$f":"IF(C28=\"\",\"\",IF(OR(C28>G28,C28<Table115[[#This Row],[LCL]]),1,0))","v":""},""]
[null,"",null,"","","","",null,0,"","","","","","","","","","","","",null,null,null,null,null,null,null,null,null,null,null,"",0,"","",0,"","",null,null,"",0,"","",0,"","",null,null,"",0,"","",0,"","",null,null,{"$f":"IF(C29=\"\",\"\",IF(OR(C29>G29,C29<Table115[[#This Row],[LCL]]),1,0))","v":""},""]
[null,"",null,"","","","",null,0,"","","","","","","","","","","","",null,null,null,null,null,null,null,null,null,null,null,"",0,"","",0,"","",null,null,"",0,"","",0,"","",null,null,"",0,"","",0,"","",null,null,{"$f":"IF(C30=\"\",\"\",IF(OR(C30>G30,C30<Table115[[#This Row],[LCL]]),1,0))","v":""},""]
[null,"",null,"","","","",null,0,"","","","","","","","","","","","",null,null,null,null,null,null,null,null,null,null,null,"",0,"","",0,"","",null,null,"",0,"","",0,"","",null,null,"",0,"","",0,"","",null,null,{"$f":"IF(C31=\"\",\"\",IF(OR(C31>G31,C31<Table115[[#This Row],[LCL]]),1,0))","v":""},""]
[null,"",null,"","","","",null,0,"","","","","","","","","","","","",null,null,null,null,null,null,null,null,null,null,null,{"$f":"IF(C32=\"\",\"\",IF(AND(C32>=U32,C32<G32),1,0))","v":""},0,"",{"$f":"IF(C32=\"\",\"\",IF(AND(C32<=S32,C32>F32),1,0))","v":""},0,"","",null,null,"",0,"","",0,"","",null,null,"",0,"","",0,"","",null,null,{"$f":"IF(C32=\"\",\"\",IF(OR(C32>G32,C32<Table115[[#This Row],[LCL]]),1,0))","v":""},""]
[null,"",null,"","","","",null,0,"","","","","","","","","","","","",null,null,null,null,null,null,null,null,null,null,null,"",0,"","",0,"","",null,null,"",0,"","",0,"","",null,null,"",0,"","",0,"","",null,null,{"$f":"IF(C33=\"\",\"\",IF(OR(C33>G33,C33<Table115[[#This Row],[LCL]]),1,0))","v":""},""]
[null,"",null,"","","","",null,0,"","","","","","","","","","","","",null,null,null,null,null,null,null,null,null,null,null,"",0,"","",0,"","",null,null,"",0,"","",0,"","",null,null,"",0,"","",0,"","",null,null,{"$f":"IF(C34=\"\",\"\",IF(OR(C34>G34,C34<Table115[[#This Row],[LCL]]),1,0))","v":""},""]
[null,"",null,"","","","",null,0,"","","","","","","","","","","","",null,null,null,null,null,null,null,null,null,null,null,"",0,"","",0,"","",null,null,"",0,"","",0,"","",null,null,"",0,"","",0,"","",null,null,{"$f":"IF(C35=\"\",\"\",IF(OR(C35>G35,C35<Table115[[#This Row],[LCL]]),1,0))","v":""},""]
[null,"",null,"","","","",null,0,"","","","","","","","","","","","",null,null,null,null,null,null,null,null,null,null,null,"",0,"","",0,"","",null,null,"",0,"","",0,"","",null,null,"",0,"","",0,"","",null,null,{"$f":"IF(C36=\"\",\"\",IF(OR(C36>G36,C36<Table115[[#This Row],[LCL]]),1,0))","v":""},""]
[null,"",null,"","","","",null,0,"","","","","","","","","","","","",null,null,null,null,null,null,null,null,null,null,null,"",0,"","",0,"","",null,null,"",0,"","",0,"","",null,null,"",0,"","",0,"","",null,null,{"$f":"IF(C37=\"\",\"\",IF(OR(C37>G37,C37<Table115[[#This Row],[LCL]]),1,0))","v":""},""]
[null,"",null,"","","","",null,0,"","","","","","","","","","","","",null,null,null,null,null,null,null,null,null,null,null,"",0,"","",0,"","",null,null,"",0,"","",0,"","",null,null,"",0,"","",0,"","",null,null,{"$f":"IF(C38=\"\",\"\",IF(OR(C38>G38,C38<Table115[[#This Row],[LCL]]),1,0))","v":""},""]
[null,"",null,"","","","",null,0,"","","","","","","","","","","","",null,null,null,null,null,null,null,null,null,null,null,"",0,"","",0,"","",null,null,"",0,"","",0,"","",null,null,"",0,"","",0,"","",null,null,{"$f":"IF(C39=\"\",\"\",IF(OR(C39>G39,C39<Table115[[#This Row],[LCL]]),1,0))","v":""},""]
[null,"",null,"","","","",null,0,"","","","","","","","","","","","",null,null,null,null,null,null,null,null,null,null,null,"",0,"","",0,"","",null,null,"",0,"","",0,"","",null,null,"",0,"","",0,"","",null,null,{"$f":"IF(C40=\"\",\"\",IF(OR(C40>G40,C40<Table115[[#This Row],[LCL]]),1,0))","v":""},""]
[null,"",null,"","","","",null,0,"","","","","","","","","","","","",null,null,null,null,null,null,null,null,null,null,null,"",0,"","",0,"","",null,null,"",0,"","",0,"","",null,null,"",0,"","",0,"","",null,null,{"$f":"IF(C41=\"\",\"\",IF(OR(C41>G41,C41<Table115[[#This Row],[LCL]]),1,0))","v":""},""]
[null,"",null,"","","","",null,0,"","","","","","","","","","","","",null,null,null,null,null,null,null,null,null,null,null,"",0,"","",0,"","",null,null,"",0,"","",0,"","",null,null,"",0,"","",0,"","",null,null,{"$f":"IF(C42=\"\",\"\",IF(OR(C42>G42,C42<Table115[[#This Row],[LCL]]),1,0))","v":""},""]
[null,"",null,"","","","",null,0,"","","","","","","","","","","","",null,null,null,null,null,null,null,null,null,null,null,"",0,"","",0,"","",null,null,"",0,"","",0,"","",null,null,"",0,"","",0,"","",null,null,{"$f":"IF(C43=\"\",\"\",IF(OR(C43>G43,C43<Table115[[#This Row],[LCL]]),1,0))","v":""},""]
[null,"",null,"","","","",null,0,"","","","","","","","","","","","",null,null,null,null,null,null,null,null,null,null,null,"",0,"","",0,"","",null,null,"",0,"","",0,"","",null,null,"",0,"","",0,"","",null,null,{"$f":"IF(C44=\"\",\"\",IF(OR(C44>G44,C44<Table115[[#This Row],[LCL]]),1,0))","v":""},""]
[null,"",null,"","","","",null,0,"","","","","","","","","","","","",null,null,null,null,null,null,null,null,null,null,null,"",0,"","",0,"","",null,null,"",0,"","",0,"","",null,null,"",0,"","",0,"","",null,null,{"$f":"IF(C45=\"\",\"\",IF(OR(C45>G45,C45<Table115[[#This Row],[LCL]]),1,0))","v":""},""]
[null,"",null,"","","","",null,0,"","","","","","","","","","","","",null,null,null,null,null,null,null,null,null,null,null,"",0,"","",0,"","",null,null,"",0,"","",0,"","",null,null,"",0,"","",0,"","",null,null,{"$f":"IF(C46=\"\",\"\",IF(OR(C46>G46,C46<Table115[[#This Row],[LCL]]),1,0))","v":""},""]
[null,"",null,"","","","",null,0,"","","","","","","","","","","","",null,null,null,null,null,null,null,null,null,null,null,"",0,"","",0,"","",null,null,"",0,"","",0,"","",null,null,"",0,"","",0,"","",null,null,{"$f":"IF(C47=\"\",\"\",IF(OR(C47>G47,C47<Table115[[#This Row],[LCL]]),1,0))","v":""},""]
[null,"",null,"","","","",null,0,"","","","","","","","","","","","",null,null,null,null,null,null,null,null,null,null,null,"",0,"","",0,"","",null,null,"",0,"","",0,"","",null,null,"",0,"","",0,"","",null,null,{"$f":"IF(C48=\"\",\"\",IF(OR(C48>G48,C48<Table115[[#This Row],[LCL]]),1,0))","v":""},""]
[null,"",null,"","","","",null,0,"","","","","","","","","","","","",null,null,null,null,null,null,null,null,null,null,null,"",0,"","",0,"","",null,null,"",0,"","",0,"","",null,null,"",0,"","",0,"","",null,null,{"$f":"IF(C49=\"\",\"\",IF(OR(C49>G49,C49<Table115[[#This Row],[LCL]]),1,0))","v":""},""]
[null,"",null,"","","","",null,0,"","","","","","","","","","","","",null,null,null,null,null,null,null,null,null,null,null,"",0,"","",0,"","",null,null,"",0,"","",0,"","",null,null,"",0,"","",0,"","",null,null,{"$f":"IF(C50=\"\",\"\",IF(OR(C50>G50,C50<Table115[[#This Row],[LCL]]),1,0))","v":""},""]
[null,"",null,"","","","",null,0,"","","","","","","","","","","","",null,null,null,null,null,null,null,null,null,null,null,"",0,"","",0,"","",null,null,"",0,"","",0,"","",null,null,"",0,"","",0,"","",null,null,{"$f":"IF(C51=\"\",\"\",IF(OR(C51>G51,C51<Table115[[#This Row],[LCL]]),1,0))","v":""},""]
[null,"",null,"","","","",null,0,"","","","","","","","","","","","",null,null,null,null,null,null,null,null,null,null,null,"",0,"","",0,"","",null,null,"",0,"","",0,"","",null,null,"",0,"","",0,"","",null,null,{"$f":"IF(C52=\"\",\"\",IF(OR(C52>G52,C52<Table115[[#This Row],[LCL]]),1,0))","v":""},""]
[null,"",null,"","","","",null,0,"","","","","","","","","","","","",null,null,null,null,null,null,null,null,null,null,null,"",0,"","",0,"","",null,null,"",0,"","",0,"","",null,null,"",0,"","",0,"","",null,null,{"$f":"IF(C53=\"\",\"\",IF(OR(C53>G53,C53<Table115[[#This Row],[LCL]]),1,0))","v":""},""]
[null,"",null,"","","","",null,0,"","","","","","","","","","","","",null,null,null,null,null,null,null,null,null,null,null,"",0,"","",0,"","",null,null,"",0,"","",0,"","",null,null,"",0,"","",0,"","",null,null,{"$f":"IF(C54=\"\",\"\",IF(OR(C54>G54,C54<Table115[[#This Row],[LCL]]),1,0))","v":""},""]
[null,"",null,"","","","",null,0,"","","","","","","","","","","","",null,null,null,null,null,null,null,null,null,null,null,"",0,"","",0,"","",null,null,"",0,"","",0,"","",null,null,"",0,"","",0,"","",null,null,{"$f":"IF(C55=\"\",\"\",IF(OR(C55>G55,C55<Table115[[#This Row],[LCL]]),1,0))","v":""},""]
[null,"",null,"","","","",null,0,"","","","","","","","","","","","",null,null,null,null,null,null,null,null,null,null,null,"",0,"","",0,"","",null,null,"",0,"","",0,"","",null,null,"",0,"","",0,"","",null,null,{"$f":"IF(C56=\"\",\"\",IF(OR(C56>G56,C56<Table115[[#This Row],[LCL]]),1,0))","v":""},""]
[null,"",null,"","","","",null,0,"","","","","","","","","","","","",null,null,null,null,null,null,null,null,null,null,null,"",0,"","",0,"","",null,null,"",0,"","",0,"","",null,null,"",0,"","",0,"","",null,null,{"$f":"IF(C57=\"\",\"\",IF(OR(C57>G57,C57<Table115[[#This Row],[LCL]]),1,0))","v":""},""]
[null,"",null,"","","","",null,0,"","","","","","","","","","","","",null,null,null,null,null,null,null,null,null,null,null,"",0,"","",0,"","",null,null,"",0,"","",0,"","",null,null,"",0,"","",0,"","",null,null,{"$f":"IF(C58=\"\",\"\",IF(OR(C58>G58,C58<Table115[[#This Row],[LCL]]),1,0))","v":""},""]
[null,"",null,"","","","",null,0,"","","","","","","","","","","","",null,null,null,null,null,null,null,null,null,null,null,"",0,"","",0,"","",null,null,"",0,"","",0,"","",null,null,"",0,"","",0,"","",null,null,{"$f":"IF(C59=\"\",\"\",IF(OR(C59>G59,C59<Table115[[#This Row],[LCL]]),1,0))","v":""},""]
[null,"",null,"","","","",null,0,"","","","","","","","","","","","",null,null,null,null,null,null,null,null,null,null,null,"",0,"","",0,"","",null,null,"",0,"","",0,"","",null,null,"",0,"","",0,"","",null,null,{"$f":"IF(C60=\"\",\"\",IF(OR(C60>G60,C60<Table115[[#This Row],[LCL]]),1,0))","v":""},""]
[null,"",null,"","","","",null,0,"","","","","","","","","","","","",null,null,null,null,null,null,null,null,null,null,null,"",0,"","",0,"","",null,null,"",0,"","",0,"","",null,null,"",0,"","",0,"","",null,null,{"$f":"IF(C61=\"\",\"\",IF(OR(C61>G61,C61<Table115[[#This Row],[LCL]]),1,0))","v":""},""]
[null,"",null,"","","","",null,0,"","","","","","","","","","","","",null,null,null,null,null,null,null,null,null,null,null,"",0,"","",0,"","",null,null,"",0,"","",0,"","",null,null,"",0,"","",0,"","",null,null,{"$f":"IF(C62=\"\",\"\",IF(OR(C62>G62,C62<Table115[[#This Row],[LCL]]),1,0))","v":""},""]
[null,"",null,"","","","",null,0,"","","","","","","","","","","","",null,null,null,null,null,null,null,null,null,null,null,"",0,"","",0,"","",null,null,"",0,"","",0,"","",null,null,"",0,"","",0,"","",null,null,{"$f":"IF(C63=\"\",\"\",IF(OR(C63>G63,C63<Table115[[#This Row],[LCL]]),1,0))","v":""},""]
[null,"",null,"","","","",null,0,"","","","","","","","","","","","",null,null,null,null,null,null,null,null,null,null,null,"",0,"","",0,"","",null,null,"",0,"","",0,"","",null,null,"",0,"","",0,"","",null,null,{"$f":"IF(C64=\"\",\"\",IF(OR(C64>G64,C64<Table115[[#This Row],[LCL]]),1,0))","v":""},""]
[null,"",null,"","","","",null,0,"","","","","","","","","","","","",null,null,null,null,null,null,null,null,null,null,null,"",0,"","",0,"","",null,null,"",0,"","",0,"","",null,null,"",0,"","",0,"","",null,null,{"$f":"IF(C65=\"\",\"\",IF(OR(C65>G65,C65<Table115[[#This Row],[LCL]]),1,0))","v":""},""]
[null,"",null,"","","","",null,0,"","","","","","","","","","","","",null,null,null,null,null,null,null,null,null,null,null,"",0,"","",0,"","",null,null,"",0,"","",0,"","",null,null,"",0,"","",0,"","",null,null,{"$f":"IF(C66=\"\",\"\",IF(OR(C66>G66,C66<Table115[[#This Row],[LCL]]),1,0))","v":""},""]
[null,"",null,"","","","",null,0,"","","","","","","","","","","","",null,null,null,null,null,null,null,null,null,null,null,"",0,"","",0,"","",null,null,"",0,"","",0,"","",null,null,"",0,"","",0,"","",null,null,{"$f":"IF(C67=\"\",\"\",IF(OR(C67>G67,C67<Table115[[#This Row],[LCL]]),1,0))","v":""},""]
[null,"",null,"","","","",null,0,"","","","","","","","","","","","",null,null,null,null,null,null,null,null,null,null,null,"",0,"","",0,"","",null,null,"",0,"","",0,"","",null,null,"",0,"","",0,"","",null,null,{"$f":"IF(C68=\"\",\"\",IF(OR(C68>G68,C68<Table115[[#This Row],[LCL]]),1,0))","v":""},""]
[null,"",null,"","","","",null,0,"","","","","","","","","","","","",null,null,null,null,null,null,null,null,null,null,null,"",0,"","",0,"","",null,null,"",0,"","",0,"","",null,null,"",0,"","",0,"","",null,null,{"$f":"IF(C69=\"\",\"\",IF(OR(C69>G69,C69<Table115[[#This Row],[LCL]]),1,0))","v":""},""]
[null,"",null,"","","","",null,0,"","","","","","","","","","","","",null,null,null,null,null,null,null,null,null,null,null,"",0,"","",0,"","",null,null,"",0,"","",0,"","",null,null,"",0,"","",0,"","",null,null,{"$f":"IF(C70=\"\",\"\",IF(OR(C70>G70,C70<Table115[[#This Row],[LCL]]),1,0))","v":""},""]
[null,"",null,"","","","",null,0,"","","","","","","","","","","","",null,null,null,null,null,null,null,null,null,null,null,"",0,"","",0,"","",null,null,"",0,"","",0,"","",null,null,"",0,"","",0,"","",null,null,{"$f":"IF(C71=\"\",\"\",IF(OR(C71>G71,C71<Table115[[#This Row],[LCL]]),1,0))","v":""},""]
[null,"",null,"","","","",null,0,"","","","","","","","","","","","",null,null,null,null,null,null,null,null,null,null,null,"",0,"","",0,"","",null,null,"",0,"","",0,"","",null,null,"",0,"","",0,"","",null,null,{"$f":"IF(C72=\"\",\"\",IF(OR(C72>G72,C72<Table115[[#This Row],[LCL]]),1,0))","v":""},""]
[null,"",null,"","","","",null,0,"","","","","","","","","","","","",null,null,null,null,null,null,null,null,null,null,null,"",0,"","",0,"","",null,null,"",0,"","",0,"","",null,null,"",0,"","",0,"","",null,null,{"$f":"IF(C73=\"\",\"\",IF(OR(C73>G73,C73<Table115[[#This Row],[LCL]]),1,0))","v":""},""]
[null,"",null,"","","","",null,0,"","","","","","","","","","","","",null,null,null,null,null,null,null,null,null,null,null,"",0,"","",0,"","",null,null,"",0,"","",0,"","",null,null,"",0,"","",0,"","",null,null,{"$f":"IF(C74=\"\",\"\",IF(OR(C74>G74,C74<Table115[[#This Row],[LCL]]),1,0))","v":""},""]
[null,"",null,"","","","",null,0,"","","","","","","","","","","","",null,null,null,null,null,null,null,null,null,null,null,"",0,"","",0,"","",null,null,"",0,"","",0,"","",null,null,"",0,"","",0,"","",null,null,{"$f":"IF(C75=\"\",\"\",IF(OR(C75>G75,C75<Table115[[#This Row],[LCL]]),1,0))","v":""},""]
[null,"",null,"","","","",null,0,"","","","","","","","","","","","",null,null,null,null,null,null,null,null,null,null,null,"",0,"","",0,"","",null,null,"",0,"","",0,"","",null,null,"",0,"","",0,"","",null,null,{"$f":"IF(C76=\"\",\"\",IF(OR(C76>G76,C76<Table115[[#This Row],[LCL]]),1,0))","v":""},""]
[null,"",null,{"$f":"IF(C77=\"\",\"\",ABS(C77-C76))","v":""},"","",{"$f":"IF(C77=\"\",\"\",$F$6+(2.66*$F$7))","v":""},null,{"$f":"IF(B77>$F$8,0,1)","v":0},{"$f":"IF(G77=\"\",\"\",$F$6)","v":""},"","","","","","","",{"$f":"IF(C77=\"\",\"\",IF($F$6-(0.89*$F$7)<0, 0, $F$6-(0.89*$F$7)))","v":""},{"$f":"IF(C77=\"\",\"\",IF($F$6-(1.77*$F$7)<0,0,$F$6-(1.77*$F$7)))","v":""},{"$f":"IF(C77=\"\",\"\",$F$6+(0.89*$F$7))","v":""},{"$f":"IF(C77=\"\",\"\",$F$6+(1.77*$F$7))","v":""},null,null,null,null,null,null,null,null,null,null,null,"",0,"","",0,"","",null,null,"",0,"","",0,"","",null,null,"",0,"","",0,"","",null,null,{"$f":"IF(C77=\"\",\"\",IF(OR(C77>G77,C77<Table115[[#This Row],[LCL]]),1,0))","v":""},""]
[null,"",null,"",{"$f":"IF(C78=\"\",\"\",3.27*$F$7)","v":""},{"$f":"IF(C78=\"\",\"\",IF($F$6-(2.66*$F$7)<0, 0, $F$6-(2.66*$F$7)))","v":""},"",null,0,"",{"$f":"IF(G78=\"\",\"\",$F$7)","v":""},"","","","",{"$f":"IF(C78=\"\",\"\",(3.27*$F$7)*(1/3))","v":""},"","","","","",null,null,null,null,null,null,null,null,null,null,null,"",{"$f":"SUM(AG78:AG80)","v":0},{"$f":"IF(AH79=2,\"\",IF(AH78>=2,CONCATENATE(\"Data Point \",B78,\" to \",\"Data Point \",(B78+2)),\"\"))","v":""},"",{"$f":"SUM(AJ78:AJ80)","v":0},{"$f":"IF(AK79=2,\"\",IF(AK78>=2,CONCATENATE(\"Data Point \",B78,\" to \",\"Data Point \",(B78+2)),\"\"))","v":""},{"$f":"IF(AND(AI78<>\"\",AL78=\"\"),AI78,IF(AND(AI78=\"\",AL78<>\"\"),AL78,IF(AND(AI78<>\"\",AL78<>\"\"),AI78,\"\")))","v":""},null,null,{"$f":"IF(C78=\"\",\"\",IF(AND(C78>=T78,C78<G78),1,0))","v":""},{"$f":"SUM(AP78:AP82)","v":0},{"$f":"IF(AQ79=4,\"\",IF(AQ78>=4,CONCATENATE(\"Data Point \",B78,\" to \",\"Data Point \",(B78+4)),\"\"))","v":""},{"$f":"IF(C78=\"\",\"\",IF(AND(C78<=R78,C78>F78),1,0))","v":""},{"$f":"SUM(AS78:AS82)","v":0},{"$f":"IF(AT79=4,\"\",IF(AT78>=4,CONCATENATE(\"Data Point \",B78,\" to \",\"Data Point \",(B78+4)),\"\"))","v":""},{"$f":"IF(AND(AR78<>\"\",AU78=\"\"),AR78,IF(AND(AR78=\"\",AU78<>\"\"),AU78,IF(AND(AR78<>\"\",AU78<>\"\"),AR78,\"\")))","v":""},null,null,{"$f":"IF(C78=\"\",\"\",IF(AND(C78>=J78,C78<G78),1,0))","v":""},{"$f":"SUM(AY78:AY85)","v":0},{"$f":"IF(AZ78=8,CONCATENATE(\"Data Point \",B78,\" to \",\"Data Point \",(B78+8)),\"\")","v":""},{"$f":"IF(C78=\"\",\"\",IF(AND(C78<=J78,C78>F78),1,0))","v":""},{"$f":"SUM(BB78:BB85)","v":0},{"$f":"IF(BC78=8,CONCATENATE(\"Data Point \",B78,\" to \",\"Data Point \",(B78+8)),\"\")","v":""},{"$f":"IF(AND(BA78<>\"\",BD78=\"\"),BA78,IF(AND(BA78=\"\",BD78<>\"\"),BD78,IF(AND(BA78<>\"\",BD78<>\"\"),BA78,\"\")))","v":""},null,null,{"$f":"IF(C78=\"\",\"\",IF(OR(C78>G78,C78<Table115[[#This Row],[LCL]]),1,0))","v":""},{"$f":"IF(BH78=1,CONCATENATE(\"Data Point \",B78),\"\")","v":""}]
[null,{"$f":"IF(C79=\"\",\"\",B78+1)","v":""},null,"","","","",null,0,"","","",{"$f":"IF(C79=\"\",\"\",IF((3.27*$F$7)*(2/3)<0,0,(3.27*$F$7)*(2/3)))","v":""},{"$f":"IF(C79=\"\",\"\",IF((-3.27*$F$7)*(1/3)<0,0,(-3.27*$F$7)*(1/3)))","v":""},{"$f":"IF(C79=\"\",\"\",IF((-3.27*$F$7)*(2/3)<0,0,(-3.27*$F$7)*(2/3)))","v":""},"",{"$f":"IF(B79=\"\", \"\", 0)","v":""},"","","","",null,null,null,null,null,null,null,null,null,null,null,"",0,"","",0,"","",null,null,"",0,"","",0,"","",null,null,"",0,"","",0,"","",null,null,{"$f":"IF(C79=\"\",\"\",IF(OR(C79>G79,C79<Table115[[#This Row],[LCL]]),1,0))","v":""},""]
[null,"",null,"","","","",null,0,"","","","","","","","","","","","",null,null,null,null,null,null,null,null,null,null,null,"",0,"","",0,"","",null,null,"",0,"","",0,"","",null,null,"",0,"","",0,"","",null,null,{"$f":"IF(C80=\"\",\"\",IF(OR(C80>G80,C80<Table115[[#This Row],[LCL]]),1,0))","v":""},""]
[null,"",null,"","","","",null,0,"","","","","","","","","","","","",null,null,null,null,null,null,null,null,null,null,null,"",0,"","",0,"","",null,null,"",0,"","",0,"","",null,null,"",0,"","",0,"","",null,null,{"$f":"IF(C81=\"\",\"\",IF(OR(C81>G81,C81<Table115[[#This Row],[LCL]]),1,0))","v":""},""]
[null,"",null,"","","","",null,0,"","","","","","","","","","","","",null,null,null,null,null,null,null,null,null,null,null,"",0,"","",0,"","",null,null,"",0,"","",0,"","",null,null,"",0,"","",0,"","",null,null,{"$f":"IF(C82=\"\",\"\",IF(OR(C82>G82,C82<Table115[[#This Row],[LCL]]),1,0))","v":""},""]
[null,"",null,"","","","",null,0,"","","","","","","","","","","","",null,null,null,null,null,null,null,null,null,null,null,"",0,"","",0,"","",null,null,"",0,"","",0,"","",null,null,"",0,"","",0,"","",null,null,{"$f":"IF(C83=\"\",\"\",IF(OR(C83>G83,C83<Table115[[#This Row],[LCL]]),1,0))","v":""},""]
[null,"",null,"","","","",null,0,"","","","","","","","","","","","",null,null,null,null,null,null,null,null,null,null,null,"",0,"","",0,"","",null,null,"",0,"","",0,"","",null,null,"",0,"","",0,"","",null,null,{"$f":"IF(C84=\"\",\"\",IF(OR(C84>G84,C84<Table115[[#This Row],[LCL]]),1,0))","v":""},""]
[null,"",null,"","","","",null,0,"","",{"$f":"D85","v":""},"","","","","","","","","",null,null,null,null,null,null,null,null,null,null,null,"",0,"","",0,"","",null,null,"",0,"","",0,"","",null,null,"",0,"","",0,"","",null,null,{"$f":"IF(C85=\"\",\"\",IF(OR(C85>G85,C85<Table115[[#This Row],[LCL]]),1,0))","v":""},""]
[null,"",null,"","","","",null,0,"","","","","","","","","","","","",null,null,null,null,null,null,null,null,null,null,null,"",0,"","",0,"","",null,null,"",0,"","",0,"","",null,null,"",0,"","",0,"","",null,null,{"$f":"IF(C86=\"\",\"\",IF(OR(C86>G86,C86<Table115[[#This Row],[LCL]]),1,0))","v":""},""]
[null,"",null,"","","","",null,0,"","","","","","","","","","","","",null,null,null,null,null,null,null,null,null,null,null,"",0,"","",0,"","",null,null,"",0,"","",0,"","",null,null,"",0,"","",0,"","",null,null,{"$f":"IF(C87=\"\",\"\",IF(OR(C87>G87,C87<Table115[[#This Row],[LCL]]),1,0))","v":""},""]
[null,"",null,"","","","",null,0,"","","","","","","","","","","","",null,null,null,null,null,null,null,null,null,null,null,"",0,"","",0,"","",null,null,"",0,"","",0,"","",null,null,"",0,"","",0,"","",null,null,{"$f":"IF(C88=\"\",\"\",IF(OR(C88>G88,C88<Table115[[#This Row],[LCL]]),1,0))","v":""},""]
[null,"",null,"","","","",null,0,"","","","","","","","","","","","",null,null,null,null,null,null,null,null,null,null,null,"",0,"","",0,"","",null,null,"",0,"","",0,"","",null,null,"",0,"","",0,"","",null,null,{"$f":"IF(C89=\"\",\"\",IF(OR(C89>G89,C89<Table115[[#This Row],[LCL]]),1,0))","v":""},""]
[null,"",null,"","","","",null,0,"","","","","","","","","","","","",null,null,null,null,null,null,null,null,null,null,null,"",0,"","",0,"","",null,null,"",0,"","",0,"","",null,null,"",0,"","",0,"","",null,null,{"$f":"IF(C90=\"\",\"\",IF(OR(C90>G90,C90<Table115[[#This Row],[LCL]]),1,0))","v":""},""]
[null,"",null,"","","","",null,0,"","","","","","","","","","","","",null,null,null,null,null,null,null,null,null,null,null,"",0,"","",0,"","",null,null,"",0,"","",0,"","",null,null,"",0,"","",0,"","",null,null,{"$f":"IF(C91=\"\",\"\",IF(OR(C91>G91,C91<Table115[[#This Row],[LCL]]),1,0))","v":""},""]
[null,"",null,"","","","",null,0,"","","","","","","","","","","","",null,null,null,null,null,null,null,null,null,null,null,"",0,"","",0,"","",null,null,"",0,"","",0,"","",null,null,"",0,"","",0,"","",null,null,{"$f":"IF(C92=\"\",\"\",IF(OR(C92>G92,C92<Table115[[#This Row],[LCL]]),1,0))","v":""},""]
[null,"",null,"","","","",null,0,"","","","","","","","","","","","",null,null,null,null,null,null,null,null,null,null,null,"",0,"","",0,"","",null,null,"",0,"","",0,"","",null,null,"",0,"","",0,"","",null,null,{"$f":"IF(C93=\"\",\"\",IF(OR(C93>G93,C93<Table115[[#This Row],[LCL]]),1,0))","v":""},""]
[null,"",null,"","","","",null,0,"","","","","","","","","","","","",null,null,null,null,null,null,null,null,null,null,null,"",0,"","",0,"","",null,null,"",0,"","",0,"","",null,null,"",0,"","",0,"","",null,null,{"$f":"IF(C94=\"\",\"\",IF(OR(C94>G94,C94<Table115[[#This Row],[LCL]]),1,0))","v":""},""]
[null,"",null,"","","","",null,0,"","","","","","","","","","","","",null,null,null,null,null,null,null,null,null,null,null,"",0,"","",0,"","",null,null,"",0,"","",0,"","",null,null,"",0,"","",0,"","",null,null,{"$f":"IF(C95=\"\",\"\",IF(OR(C95>G95,C95<Table115[[#This Row],[LCL]]),1,0))","v":""},""]
[null,"",null,"","","","",null,0,"","","","","","","","","","","","",null,null,null,null,null,null,null,null,null,null,null,{"$f":"IF(C96=\"\",\"\",IF(AND(C96>=U96,C96<G96),1,0))","v":""},0,"",{"$f":"IF(C96=\"\",\"\",IF(AND(C96<=S96,C96>F96),1,0))","v":""},0,"","",null,null,"",0,"","",0,"","",null,null,"",0,"","",0,"","",null,null,{"$f":"IF(C96=\"\",\"\",IF(OR(C96>G96,C96<Table115[[#This Row],[LCL]]),1,0))","v":""},""]
[null,"",null,"","","","",null,0,"","","","","","","","","","","","",null,null,null,null,null,null,null,null,null,null,null,"",0,"","",0,"","",null,null,"",0,"","",0,"","",null,null,"",0,"","",0,"","",null,null,{"$f":"IF(C97=\"\",\"\",IF(OR(C97>G97,C97<Table115[[#This Row],[LCL]]),1,0))","v":""},""]
[null,"",null,"","","","",null,0,"","","","","","","","","","","","",null,null,null,null,null,null,null,null,null,null,null,"",0,"","",0,"","",null,null,"",0,"","",0,"","",null,null,"",0,"","",0,"","",null,null,{"$f":"IF(C98=\"\",\"\",IF(OR(C98>G98,C98<Table115[[#This Row],[LCL]]),1,0))","v":""},""]
[null,"",null,"","","","",null,0,"","","","","","","","","","","","",null,null,null,null,null,null,null,null,null,null,null,"",0,"","",0,"","",null,null,"",0,"","",0,"","",null,null,"",0,"","",0,"","",null,null,{"$f":"IF(C99=\"\",\"\",IF(OR(C99>G99,C99<Table115[[#This Row],[LCL]]),1,0))","v":""},""]
[null,"",null,"","","","",null,0,"","","","","","","","","","","","",null,null,null,null,null,null,null,null,null,null,null,"",0,"","",0,"","",null,null,"",0,"","",0,"","",null,null,"",0,"","",0,"","",null,null,{"$f":"IF(C100=\"\",\"\",IF(OR(C100>G100,C100<Table115[[#This Row],[LCL]]),1,0))","v":""},""]
[null,"",null,"","","","",null,0,"","","","","","","","","","","","",null,null,null,null,null,null,null,null,null,null,null,"",0,"","",0,"","",null,null,"",0,"","",0,"","",null,null,"",0,"","",0,"","",null,null,{"$f":"IF(C101=\"\",\"\",IF(OR(C101>G101,C101<Table115[[#This Row],[LCL]]),1,0))","v":""},""]
[null,"",null,"","","","",null,0,"","","","","","","","","","","","",null,null,null,null,null,null,null,null,null,null,null,"",0,"","",0,"","",null,null,"",0,"","",0,"","",null,null,"",0,"","",0,"","",null,null,{"$f":"IF(C102=\"\",\"\",IF(OR(C102>G102,C102<Table115[[#This Row],[LCL]]),1,0))","v":""},""]
[null,"",null,"","","","",null,0,"","","","","","","","","","","","",null,null,null,null,null,null,null,null,null,null,null,"",0,"","",0,"","",null,null,"",0,"","",0,"","",null,null,"",0,"","",0,"","",null,null,{"$f":"IF(C103=\"\",\"\",IF(OR(C103>G103,C103<Table115[[#This Row],[LCL]]),1,0))","v":""},""]
[null,"",null,"","","","",null,0,"","","","","","","","","","","","",null,null,null,null,null,null,null,null,null,null,null,"",0,"","",0,"","",null,null,"",0,"","",0,"","",null,null,"",0,"","",0,"","",null,null,{"$f":"IF(C104=\"\",\"\",IF(OR(C104>G104,C104<Table115[[#This Row],[LCL]]),1,0))","v":""},""]
[null,"",null,"","","","",null,0,"","","","","","","","","","","","",null,null,null,null,null,null,null,null,null,null,null,"",0,"","",0,"","",null,null,"",0,"","",0,"","",null,null,"",0,"","",0,"","",null,null,{"$f":"IF(C105=\"\",\"\",IF(OR(C105>G105,C105<Table115[[#This Row],[LCL]]),1,0))","v":""},""]
[null,"",null,"","","","",null,0,"","","","","","","","","","","","",null,null,null,null,null,null,null,null,null,null,null,"",0,"","",0,"","",null,null,"",0,"","",0,"","",null,null,"",0,"","",0,"","",null,null,{"$f":"IF(C106=\"\",\"\",IF(OR(C106>G106,C106<Table115[[#This Row],[LCL]]),1,0))","v":""},""]
[null,"",null,"","","","",null,0,"","","","","","","","","","","","",null,null,null,null,null,null,null,null,null,null,null,"",0,"","",0,"","",null,null,"",0,"","",0,"","",null,null,"",0,"","",0,"","",null,null,{"$f":"IF(C107=\"\",\"\",IF(OR(C107>G107,C107<Table115[[#This Row],[LCL]]),1,0))","v":""},""]
[null,"",null,"","","","",null,0,"","","","","","","","","","","","",null,null,null,null,null,null,null,null,null,null,null,"",0,"","",0,"","",null,null,"",0,"","",0,"","",null,null,"",0,"","",0,"","",null,null,{"$f":"IF(C108=\"\",\"\",IF(OR(C108>G108,C108<Table115[[#This Row],[LCL]]),1,0))","v":""},""]
[null,"",null,"","","","",null,0,"","","","","","","","","","","","",null,null,null,null,null,null,null,null,null,null,null,"",0,"","",0,"","",null,null,"",0,"","",0,"","",null,null,"",0,"","",0,"","",null,null,{"$f":"IF(C109=\"\",\"\",IF(OR(C109>G109,C109<Table115[[#This Row],[LCL]]),1,0))","v":""},""]
[null,"",null,"","","","",null,0,"","","","","","","","","","","","",null,null,null,null,null,null,null,null,null,null,null,"",0,"","",0,"","",null,null,"",0,"","",0,"","",null,null,"",0,"","",0,"","",null,null,{"$f":"IF(C110=\"\",\"\",IF(OR(C110>G110,C110<Table115[[#This Row],[LCL]]),1,0))","v":""},""]
[null,"",null,"","","","",null,0,"","","","","","","","","","","","",null,null,null,null,null,null,null,null,null,null,null,"",0,"","",0,"","",null,null,"",0,"","",0,"","",null,null,"",0,"","",0,"","",null,null,{"$f":"IF(C111=\"\",\"\",IF(OR(C111>G111,C111<Table115[[#This Row],[LCL]]),1,0))","v":""},""]
[null,"",null,"","","","",null,0,"","","","","","","","","","","","",null,null,null,null,null,null,null,null,null,null,null,"",0,"","",0,"","",null,null,"",0,"","",0,"","",null,null,"",0,"","",0,"","",null,null,{"$f":"IF(C112=\"\",\"\",IF(OR(C112>G112,C112<Table115[[#This Row],[LCL]]),1,0))","v":""},""]
[null,"",null,"","","","",null,0,"","","","","","","","","","","","",null,null,null,null,null,null,null,null,null,null,null,"",0,"","",0,"","",null,null,"",0,"","",0,"","",null,null,"",0,"","",0,"","",null,null,{"$f":"IF(C113=\"\",\"\",IF(OR(C113>G113,C113<Table115[[#This Row],[LCL]]),1,0))","v":""},""]
[null,"",null,"","","","",null,0,"","","","","","","","","","","","",null,null,null,null,null,null,null,null,null,null,null,"",0,"","",0,"","",null,null,"",0,"","",0,"","",null,null,"",0,"","",0,"","",null,null,{"$f":"IF(C114=\"\",\"\",IF(OR(C114>G114,C114<Table115[[#This Row],[LCL]]),1,0))","v":""},""]
[null,"",null,"","","","",null,0,"","","","","","","","","","","","",null,null,null,null,null,null,null,null,null,null,null,"",0,"","",0,"","",null,null,"",0,"","",0,"","",null,null,"",0,"","",0,"","",null,null,{"$f":"IF(C115=\"\",\"\",IF(OR(C115>G115,C115<Table115[[#This Row],[LCL]]),1,0))","v":""},""]
[null,"",null,"","","","",null,0,"","","","","","","","","","","","",null,null,null,null,null,null,null,null,null,null,null,"",0,"","",0,"","",null,null,"",0,"","",0,"","",null,null,"",0,"","",0,"","",null,null,{"$f":"IF(C116=\"\",\"\",IF(OR(C116>G116,C116<Table115[[#This Row],[LCL]]),1,0))","v":""},""]
[null,"",null,"","","","",null,0,"","","","","","","","","","","","",null,null,null,null,null,null,null,null,null,null,null,"",0,"","",0,"","",null,null,"",0,"","",0,"","",null,null,"",0,"","",0,"","",null,null,{"$f":"IF(C117=\"\",\"\",IF(OR(C117>G117,C117<Table115[[#This Row],[LCL]]),1,0))","v":""},""]
[null,"",null,"","","","",null,0,"","","","","","","","","","","","",null,null,null,null,null,null,null,null,null,null,null,"",0,"","",0,"","",null,null,"",0,"","",0,"","",null,null,"",0,"","",0,"","",null,null,{"$f":"IF(C118=\"\",\"\",IF(OR(C118>G118,C118<Table115[[#This Row],[LCL]]),1,0))","v":""},""]
[null,"",null,"","","","",null,0,"","","","","","","","","","","","",null,null,null,null,null,null,null,null,null,null,null,"",0,"","",0,"","",null,null,"",0,"","",0,"","",null,null,"",0,"","",0,"","",null,null,{"$f":"IF(C119=\"\",\"\",IF(OR(C119>G119,C119<Table115[[#This Row],[LCL]]),1,0))","v":""},""]
[null,"",null,"","","","",null,0,"","","","","","","","","","","","",null,null,null,null,null,null,null,null,null,null,null,"",0,"","",0,"","",null,null,"",0,"","",0,"","",null,null,"",0,"","",0,"","",null,null,{"$f":"IF(C120=\"\",\"\",IF(OR(C120>G120,C120<Table115[[#This Row],[LCL]]),1,0))","v":""},""]
[null,"",null,"","","","",null,0,"","","","","","","","","","","","",null,null,null,null,null,null,null,null,null,null,null,"",0,"","",0,"","",null,null,"",0,"","",0,"","",null,null,"",0,"","",0,"","",null,null,{"$f":"IF(C121=\"\",\"\",IF(OR(C121>G121,C121<Table115[[#This Row],[LCL]]),1,0))","v":""},""]
[null,"",null,"","","","",null,0,"","","","","","","","","","","","",null,null,null,null,null,null,null,null,null,null,null,"",0,"","",0,"","",null,null,"",0,"","",0,"","",null,null,"",0,"","",0,"","",null,null,{"$f":"IF(C122=\"\",\"\",IF(OR(C122>G122,C122<Table115[[#This Row],[LCL]]),1,0))","v":""},""]
[null,"",null,"","","","",null,0,"","","","","","","","","","","","",null,null,null,null,null,null,null,null,null,null,null,"",0,"","",0,"","",null,null,"",0,"","",0,"","",null,null,"",0,"","",0,"","",null,null,{"$f":"IF(C123=\"\",\"\",IF(OR(C123>G123,C123<Table115[[#This Row],[LCL]]),1,0))","v":""},""]
[null,"",null,"","","","",null,0,"","","","","","","","","","","","",null,null,null,null,null,null,null,null,null,null,null,"",0,"","",0,"","",null,null,"",0,"","",0,"","",null,null,"",0,"","",0,"","",null,null,{"$f":"IF(C124=\"\",\"\",IF(OR(C124>G124,C124<Table115[[#This Row],[LCL]]),1,0))","v":""},""]
[null,"",null,"","","","",null,0,"","","","","","","","","","","","",null,null,null,null,null,null,null,null,null,null,null,"",0,"","",0,"","",null,null,"",0,"","",0,"","",null,null,"",0,"","",0,"","",null,null,{"$f":"IF(C125=\"\",\"\",IF(OR(C125>G125,C125<Table115[[#This Row],[LCL]]),1,0))","v":""},""]
[null,"",null,"","","","",null,0,"","","","","","","","","","","","",null,null,null,null,null,null,null,null,null,null,null,"",0,"","",0,"","",null,null,"",0,"","",0,"","",null,null,"",0,"","",0,"","",null,null,{"$f":"IF(C126=\"\",\"\",IF(OR(C126>G126,C126<Table115[[#This Row],[LCL]]),1,0))","v":""},""]
[null,"",null,"","","","",null,0,"","","","","","","","","","","","",null,null,null,null,null,null,null,null,null,null,null,"",0,"","",0,"","",null,null,"",0,"","",0,"","",null,null,"",0,"","",0,"","",null,null,{"$f":"IF(C127=\"\",\"\",IF(OR(C127>G127,C127<Table115[[#This Row],[LCL]]),1,0))","v":""},""]
[null,"",null,"","","","",null,0,"","","","","","","","","","","","",null,null,null,null,null,null,null,null,null,null,null,"",0,"","",0,"","",null,null,"",0,"","",0,"","",null,null,"",0,"","",0,"","",null,null,{"$f":"IF(C128=\"\",\"\",IF(OR(C128>G128,C128<Table115[[#This Row],[LCL]]),1,0))","v":""},""]
[null,"",null,"","","","",null,0,"","","","","","","","","","","","",null,null,null,null,null,null,null,null,null,null,null,"",0,"","",0,"","",null,null,"",0,"","",0,"","",null,null,"",0,"","",0,"","",null,null,{"$f":"IF(C129=\"\",\"\",IF(OR(C129>G129,C129<Table115[[#This Row],[LCL]]),1,0))","v":""},""]
[null,"",null,"","","","",null,0,"","","","","","","","","","","","",null,null,null,null,null,null,null,null,null,null,null,"",0,"","",0,"","",null,null,"",0,"","",0,"","",null,null,"",0,"","",0,"","",null,null,{"$f":"IF(C130=\"\",\"\",IF(OR(C130>G130,C130<Table115[[#This Row],[LCL]]),1,0))","v":""},""]
[null,"",null,"","","","",null,0,"","","","","","","","","","","","",null,null,null,null,null,null,null,null,null,null,null,"",0,"","",0,"","",null,null,"",0,"","",0,"","",null,null,"",0,"","",0,"","",null,null,{"$f":"IF(C131=\"\",\"\",IF(OR(C131>G131,C131<Table115[[#This Row],[LCL]]),1,0))","v":""},""]
[null,"",null,"","","","",null,0,"","","","","","","","","","","","",null,null,null,null,null,null,null,null,null,null,null,"",0,"","",0,"","",null,null,"",0,"","",0,"","",null,null,"",0,"","",0,"","",null,null,{"$f":"IF(C132=\"\",\"\",IF(OR(C132>G132,C132<Table115[[#This Row],[LCL]]),1,0))","v":""},""]
[null,"",null,"","","","",null,0,"","","","","","","","","","","","",null,null,null,null,null,null,null,null,null,null,null,"",0,"","",0,"","",null,null,"",0,"","",0,"","",null,null,"",0,"","",0,"","",null,null,{"$f":"IF(C133=\"\",\"\",IF(OR(C133>G133,C133<Table115[[#This Row],[LCL]]),1,0))","v":""},""]
[null,"",null,"","","","",null,0,"","","","","","","","","","","","",null,null,null,null,null,null,null,null,null,null,null,"",0,"","",0,"","",null,null,"",0,"","",0,"","",null,null,"",0,"","",0,"","",null,null,{"$f":"IF(C134=\"\",\"\",IF(OR(C134>G134,C134<Table115[[#This Row],[LCL]]),1,0))","v":""},""]
[null,"",null,"","","","",null,0,"","","","","","","","","","","","",null,null,null,null,null,null,null,null,null,null,null,"",0,"","",0,"","",null,null,"",0,"","",0,"","",null,null,"",0,"","",0,"","",null,null,{"$f":"IF(C135=\"\",\"\",IF(OR(C135>G135,C135<Table115[[#This Row],[LCL]]),1,0))","v":""},""]
[null,"",null,"","","","",null,0,"","","","","","","","","","","","",null,null,null,null,null,null,null,null,null,null,null,"",0,"","",0,"","",null,null,"",0,"","",0,"","",null,null,"",0,"","",0,"","",null,null,{"$f":"IF(C136=\"\",\"\",IF(OR(C136>G136,C136<Table115[[#This Row],[LCL]]),1,0))","v":""},""]
[null,"",null,"","","","",null,0,"","","","","","","","","","","","",null,null,null,null,null,null,null,null,null,null,null,"",0,"","",0,"","",null,null,"",0,"","",0,"","",null,null,"",0,"","",0,"","",null,null,{"$f":"IF(C137=\"\",\"\",IF(OR(C137>G137,C137<Table115[[#This Row],[LCL]]),1,0))","v":""},""]
[null,"",null,"","","","",null,0,"","","","","","","","","","","","",null,null,null,null,null,null,null,null,null,null,null,"",0,"","",0,"","",null,null,"",0,"","",0,"","",null,null,"",0,"","",0,"","",null,null,{"$f":"IF(C138=\"\",\"\",IF(OR(C138>G138,C138<Table115[[#This Row],[LCL]]),1,0))","v":""},""]
[null,"",null,"","","","",null,0,"","","","","","","","","","","","",null,null,null,null,null,null,null,null,null,null,null,"",0,"","",0,"","",null,null,"",0,"","",0,"","",null,null,"",0,"","",0,"","",null,null,{"$f":"IF(C139=\"\",\"\",IF(OR(C139>G139,C139<Table115[[#This Row],[LCL]]),1,0))","v":""},""]
[null,"",null,"","","","",null,0,"","","","","","","","","","","","",null,null,null,null,null,null,null,null,null,null,null,"",0,"","",0,"","",null,null,"",0,"","",0,"","",null,null,"",0,"","",0,"","",null,null,{"$f":"IF(C140=\"\",\"\",IF(OR(C140>G140,C140<Table115[[#This Row],[LCL]]),1,0))","v":""},""]
[null,"",null,{"$f":"IF(C141=\"\",\"\",ABS(C141-C140))","v":""},"","",{"$f":"IF(C141=\"\",\"\",$F$6+(2.66*$F$7))","v":""},null,{"$f":"IF(B141>$F$8,0,1)","v":0},{"$f":"IF(G141=\"\",\"\",$F$6)","v":""},"","","","","","","",{"$f":"IF(C141=\"\",\"\",IF($F$6-(0.89*$F$7)<0, 0, $F$6-(0.89*$F$7)))","v":""},{"$f":"IF(C141=\"\",\"\",IF($F$6-(1.77*$F$7)<0,0,$F$6-(1.77*$F$7)))","v":""},{"$f":"IF(C141=\"\",\"\",$F$6+(0.89*$F$7))","v":""},{"$f":"IF(C141=\"\",\"\",$F$6+(1.77*$F$7))","v":""},null,null,null,null,null,null,null,null,null,null,null,"",0,"","",0,"","",null,null,"",0,"","",0,"","",null,null,"",0,"","",0,"","",null,null,{"$f":"IF(C141=\"\",\"\",IF(OR(C141>G141,C141<Table115[[#This Row],[LCL]]),1,0))","v":""},""]
[null,"",null,"",{"$f":"IF(C142=\"\",\"\",3.27*$F$7)","v":""},{"$f":"IF(C142=\"\",\"\",IF($F$6-(2.66*$F$7)<0, 0, $F$6-(2.66*$F$7)))","v":""},"",null,0,"",{"$f":"IF(G142=\"\",\"\",$F$7)","v":""},"","","","",{"$f":"IF(C142=\"\",\"\",(3.27*$F$7)*(1/3))","v":""},"","","","","",null,null,null,null,null,null,null,null,null,null,null,"",{"$f":"SUM(AG142:AG144)","v":0},{"$f":"IF(AH143=2,\"\",IF(AH142>=2,CONCATENATE(\"Data Point \",B142,\" to \",\"Data Point \",(B142+2)),\"\"))","v":""},"",{"$f":"SUM(AJ142:AJ144)","v":0},{"$f":"IF(AK143=2,\"\",IF(AK142>=2,CONCATENATE(\"Data Point \",B142,\" to \",\"Data Point \",(B142+2)),\"\"))","v":""},{"$f":"IF(AND(AI142<>\"\",AL142=\"\"),AI142,IF(AND(AI142=\"\",AL142<>\"\"),AL142,IF(AND(AI142<>\"\",AL142<>\"\"),AI142,\"\")))","v":""},null,null,{"$f":"IF(C142=\"\",\"\",IF(AND(C142>=T142,C142<G142),1,0))","v":""},{"$f":"SUM(AP142:AP146)","v":0},{"$f":"IF(AQ143=4,\"\",IF(AQ142>=4,CONCATENATE(\"Data Point \",B142,\" to \",\"Data Point \",(B142+4)),\"\"))","v":""},{"$f":"IF(C142=\"\",\"\",IF(AND(C142<=R142,C142>F142),1,0))","v":""},{"$f":"SUM(AS142:AS146)","v":0},{"$f":"IF(AT143=4,\"\",IF(AT142>=4,CONCATENATE(\"Data Point \",B142,\" to \",\"Data Point \",(B142+4)),\"\"))","v":""},{"$f":"IF(AND(AR142<>\"\",AU142=\"\"),AR142,IF(AND(AR142=\"\",AU142<>\"\"),AU142,IF(AND(AR142<>\"\",AU142<>\"\"),AR142,\"\")))","v":""},null,null,{"$f":"IF(C142=\"\",\"\",IF(AND(C142>=J142,C142<G142),1,0))","v":""},{"$f":"SUM(AY142:AY149)","v":0},{"$f":"IF(AZ142=8,CONCATENATE(\"Data Point \",B142,\" to \",\"Data Point \",(B142+8)),\"\")","v":""},{"$f":"IF(C142=\"\",\"\",IF(AND(C142<=J142,C142>F142),1,0))","v":""},{"$f":"SUM(BB142:BB149)","v":0},{"$f":"IF(BC142=8,CONCATENATE(\"Data Point \",B142,\" to \",\"Data Point \",(B142+8)),\"\")","v":""},{"$f":"IF(AND(BA142<>\"\",BD142=\"\"),BA142,IF(AND(BA142=\"\",BD142<>\"\"),BD142,IF(AND(BA142<>\"\",BD142<>\"\"),BA142,\"\")))","v":""},null,null,{"$f":"IF(C142=\"\",\"\",IF(OR(C142>G142,C142<Table115[[#This Row],[LCL]]),1,0))","v":""},{"$f":"IF(BH142=1,CONCATENATE(\"Data Point \",B142),\"\")","v":""}]
[null,{"$f":"IF(C143=\"\",\"\",B142+1)","v":""},null,"","","","",null,0,"","","",{"$f":"IF(C143=\"\",\"\",IF((3.27*$F$7)*(2/3)<0,0,(3.27*$F$7)*(2/3)))","v":""},{"$f":"IF(C143=\"\",\"\",IF((-3.27*$F$7)*(1/3)<0,0,(-3.27*$F$7)*(1/3)))","v":""},{"$f":"IF(C143=\"\",\"\",IF((-3.27*$F$7)*(2/3)<0,0,(-3.27*$F$7)*(2/3)))","v":""},"",{"$f":"IF(B143=\"\", \"\", 0)","v":""},"","","","",null,null,null,null,null,null,null,null,null,null,null,"",0,"","",0,"","",null,null,"",0,"","",0,"","",null,null,"",0,"","",0,"","",null,null,{"$f":"IF(C143=\"\",\"\",IF(OR(C143>G143,C143<Table115[[#This Row],[LCL]]),1,0))","v":""},""]
[null,"",null,"","","","",null,0,"","","","","","","","","","","","",null,null,null,null,null,null,null,null,null,null,null,"",0,"","",0,"","",null,null,"",0,"","",0,"","",null,null,"",0,"","",0,"","",null,null,{"$f":"IF(C144=\"\",\"\",IF(OR(C144>G144,C144<Table115[[#This Row],[LCL]]),1,0))","v":""},""]
[null,"",null,"","","","",null,0,"","","","","","","","","","","","",null,null,null,null,null,null,null,null,null,null,null,"",0,"","",0,"","",null,null,"",0,"","",0,"","",null,null,"",0,"","",0,"","",null,null,{"$f":"IF(C145=\"\",\"\",IF(OR(C145>G145,C145<Table115[[#This Row],[LCL]]),1,0))","v":""},""]
[null,"",null,"","","","",null,0,"","","","","","","","","","","","",null,null,null,null,null,null,null,null,null,null,null,"",0,"","",0,"","",null,null,"",0,"","",0,"","",null,null,"",0,"","",0,"","",null,null,{"$f":"IF(C146=\"\",\"\",IF(OR(C146>G146,C146<Table115[[#This Row],[LCL]]),1,0))","v":""},""]
[null,"",null,"","","","",null,0,"","","","","","","","","","","","",null,null,null,null,null,null,null,null,null,null,null,"",0,"","",0,"","",null,null,"",0,"","",0,"","",null,null,"",0,"","",0,"","",null,null,{"$f":"IF(C147=\"\",\"\",IF(OR(C147>G147,C147<Table115[[#This Row],[LCL]]),1,0))","v":""},""]
[null,"",null,"","","","",null,0,"","","","","","","","","","","","",null,null,null,null,null,null,null,null,null,null,null,"",0,"","",0,"","",null,null,"",0,"","",0,"","",null,null,"",0,"","",0,"","",null,null,{"$f":"IF(C148=\"\",\"\",IF(OR(C148>G148,C148<Table115[[#This Row],[LCL]]),1,0))","v":""},""]
[null,"",null,"","","","",null,0,"","",{"$f":"D149","v":""},"","","","","","","","","",null,null,null,null,null,null,null,null,null,null,null,"",0,"","",0,"","",null,null,"",0,"","",0,"","",null,null,"",0,"","",0,"","",null,null,{"$f":"IF(C149=\"\",\"\",IF(OR(C149>G149,C149<Table115[[#This Row],[LCL]]),1,0))","v":""},""]
[null,"",null,"","","","",null,0,"","","","","","","","","","","","",null,null,null,null,null,null,null,null,null,null,null,"",0,"","",0,"","",null,null,"",0,"","",0,"","",null,null,"",0,"","",0,"","",null,null,{"$f":"IF(C150=\"\",\"\",IF(OR(C150>G150,C150<Table115[[#This Row],[LCL]]),1,0))","v":""},""]
[null,"",null,"","","","",null,0,"","","","","","","","","","","","",null,null,null,null,null,null,null,null,null,null,null,"",0,"","",0,"","",null,null,"",0,"","",0,"","",null,null,"",0,"","",0,"","",null,null,{"$f":"IF(C151=\"\",\"\",IF(OR(C151>G151,C151<Table115[[#This Row],[LCL]]),1,0))","v":""},""]
[null,"",null,"","","","",null,0,"","","","","","","","","","","","",null,null,null,null,null,null,null,null,null,null,null,"",0,"","",0,"","",null,null,"",0,"","",0,"","",null,null,"",0,"","",0,"","",null,null,{"$f":"IF(C152=\"\",\"\",IF(OR(C152>G152,C152<Table115[[#This Row],[LCL]]),1,0))","v":""},""]
[null,"",null,"","","","",null,0,"","","","","","","","","","","","",null,null,null,null,null,null,null,null,null,null,null,"",0,"","",0,"","",null,null,"",0,"","",0,"","",null,null,"",0,"","",0,"","",null,null,{"$f":"IF(C153=\"\",\"\",IF(OR(C153>G153,C153<Table115[[#This Row],[LCL]]),1,0))","v":""},""]
[null,"",null,"","","","",null,0,"","","","","","","","","","","","",null,null,null,null,null,null,null,null,null,null,null,"",0,"","",0,"","",null,null,"",0,"","",0,"","",null,null,"",0,"","",0,"","",null,null,{"$f":"IF(C154=\"\",\"\",IF(OR(C154>G154,C154<Table115[[#This Row],[LCL]]),1,0))","v":""},""]
[null,"",null,"","","","",null,0,"","","","","","","","","","","","",null,null,null,null,null,null,null,null,null,null,null,"",0,"","",0,"","",null,null,"",0,"","",0,"","",null,null,"",0,"","",0,"","",null,null,{"$f":"IF(C155=\"\",\"\",IF(OR(C155>G155,C155<Table115[[#This Row],[LCL]]),1,0))","v":""},""]
[null,"",null,"","","","",null,0,"","","","","","","","","","","","",null,null,null,null,null,null,null,null,null,null,null,"",0,"","",0,"","",null,null,"",0,"","",0,"","",null,null,"",0,"","",0,"","",null,null,{"$f":"IF(C156=\"\",\"\",IF(OR(C156>G156,C156<Table115[[#This Row],[LCL]]),1,0))","v":""},""]
[null,"",null,"","","","",null,0,"","","","","","","","","","","","",null,null,null,null,null,null,null,null,null,null,null,"",0,"","",0,"","",null,null,"",0,"","",0,"","",null,null,"",0,"","",0,"","",null,null,{"$f":"IF(C157=\"\",\"\",IF(OR(C157>G157,C157<Table115[[#This Row],[LCL]]),1,0))","v":""},""]
[null,"",null,"","","","",null,0,"","","","","","","","","","","","",null,null,null,null,null,null,null,null,null,null,null,"",0,"","",0,"","",null,null,"",0,"","",0,"","",null,null,"",0,"","",0,"","",null,null,{"$f":"IF(C158=\"\",\"\",IF(OR(C158>G158,C158<Table115[[#This Row],[LCL]]),1,0))","v":""},""]
[null,"",null,"","","","",null,0,"","","","","","","","","","","","",null,null,null,null,null,null,null,null,null,null,null,"",0,"","",0,"","",null,null,"",0,"","",0,"","",null,null,"",0,"","",0,"","",null,null,{"$f":"IF(C159=\"\",\"\",IF(OR(C159>G159,C159<Table115[[#This Row],[LCL]]),1,0))","v":""},""]
[null,"",null,"","","","",null,0,"","","","","","","","","","","","",null,null,null,null,null,null,null,null,null,null,null,{"$f":"IF(C160=\"\",\"\",IF(AND(C160>=U160,C160<G160),1,0))","v":""},0,"",{"$f":"IF(C160=\"\",\"\",IF(AND(C160<=S160,C160>F160),1,0))","v":""},0,"","",null,null,"",0,"","",0,"","",null,null,"",0,"","",0,"","",null,null,{"$f":"IF(C160=\"\",\"\",IF(OR(C160>G160,C160<Table115[[#This Row],[LCL]]),1,0))","v":""},""]
[null,"",null,"","","","",null,0,"","","","","","","","","","","","",null,null,null,null,null,null,null,null,null,null,null,"",0,"","",0,"","",null,null,"",0,"","",0,"","",null,null,"",0,"","",0,"","",null,null,{"$f":"IF(C161=\"\",\"\",IF(OR(C161>G161,C161<Table115[[#This Row],[LCL]]),1,0))","v":""},""]
[null,"",null,"","","","",null,0,"","","","","","","","","","","","",null,null,null,null,null,null,null,null,null,null,null,"",0,"","",0,"","",null,null,"",0,"","",0,"","",null,null,"",0,"","",0,"","",null,null,{"$f":"IF(C162=\"\",\"\",IF(OR(C162>G162,C162<Table115[[#This Row],[LCL]]),1,0))","v":""},""]
[null,"",null,"","","","",null,0,"","","","","","","","","","","","",null,null,null,null,null,null,null,null,null,null,null,"",0,"","",0,"","",null,null,"",0,"","",0,"","",null,null,"",0,"","",0,"","",null,null,{"$f":"IF(C163=\"\",\"\",IF(OR(C163>G163,C163<Table115[[#This Row],[LCL]]),1,0))","v":""},""]
[null,"",null,"","","","",null,0,"","","","","","","","","","","","",null,null,null,null,null,null,null,null,null,null,null,"",0,"","",0,"","",null,null,"",0,"","",0,"","",null,null,"",0,"","",0,"","",null,null,{"$f":"IF(C164=\"\",\"\",IF(OR(C164>G164,C164<Table115[[#This Row],[LCL]]),1,0))","v":""},""]
[null,"",null,"","","","",null,0,"","","","","","","","","","","","",null,null,null,null,null,null,null,null,null,null,null,"",0,"","",0,"","",null,null,"",0,"","",0,"","",null,null,"",0,"","",0,"","",null,null,{"$f":"IF(C165=\"\",\"\",IF(OR(C165>G165,C165<Table115[[#This Row],[LCL]]),1,0))","v":""},""]
[null,"",null,"","","","",null,0,"","","","","","","","","","","","",null,null,null,null,null,null,null,null,null,null,null,"",0,"","",0,"","",null,null,"",0,"","",0,"","",null,null,"",0,"","",0,"","",null,null,{"$f":"IF(C166=\"\",\"\",IF(OR(C166>G166,C166<Table115[[#This Row],[LCL]]),1,0))","v":""},""]
[null,"",null,"","","","",null,0,"","","","","","","","","","","","",null,null,null,null,null,null,null,null,null,null,null,"",0,"","",0,"","",null,null,"",0,"","",0,"","",null,null,"",0,"","",0,"","",null,null,{"$f":"IF(C167=\"\",\"\",IF(OR(C167>G167,C167<Table115[[#This Row],[LCL]]),1,0))","v":""},""]
[null,"",null,"","","","",null,0,"","","","","","","","","","","","",null,null,null,null,null,null,null,null,null,null,null,"",0,"","",0,"","",null,null,"",0,"","",0,"","",null,null,"",0,"","",0,"","",null,null,{"$f":"IF(C168=\"\",\"\",IF(OR(C168>G168,C168<Table115[[#This Row],[LCL]]),1,0))","v":""},""]
[null,"",null,"","","","",null,0,"","","","","","","","","","","","",null,null,null,null,null,null,null,null,null,null,null,"",0,"","",0,"","",null,null,"",0,"","",0,"","",null,null,"",0,"","",0,"","",null,null,{"$f":"IF(C169=\"\",\"\",IF(OR(C169>G169,C169<Table115[[#This Row],[LCL]]),1,0))","v":""},""]
[null,"",null,"","","","",null,0,"","","","","","","","","","","","",null,null,null,null,null,null,null,null,null,null,null,"",0,"","",0,"","",null,null,"",0,"","",0,"","",null,null,"",0,"","",0,"","",null,null,{"$f":"IF(C170=\"\",\"\",IF(OR(C170>G170,C170<Table115[[#This Row],[LCL]]),1,0))","v":""},""]
[null,"",null,"","","","",null,0,"","","","","","","","","","","","",null,null,null,null,null,null,null,null,null,null,null,"",0,"","",0,"","",null,null,"",0,"","",0,"","",null,null,"",0,"","",0,"","",null,null,{"$f":"IF(C171=\"\",\"\",IF(OR(C171>G171,C171<Table115[[#This Row],[LCL]]),1,0))","v":""},""]
[null,"",null,"","","","",null,0,"","","","","","","","","","","","",null,null,null,null,null,null,null,null,null,null,null,"",0,"","",0,"","",null,null,"",0,"","",0,"","",null,null,"",0,"","",0,"","",null,null,{"$f":"IF(C172=\"\",\"\",IF(OR(C172>G172,C172<Table115[[#This Row],[LCL]]),1,0))","v":""},""]
[null,"",null,"","","","",null,0,"","","","","","","","","","","","",null,null,null,null,null,null,null,null,null,null,null,"",0,"","",0,"","",null,null,"",0,"","",0,"","",null,null,"",0,"","",0,"","",null,null,{"$f":"IF(C173=\"\",\"\",IF(OR(C173>G173,C173<Table115[[#This Row],[LCL]]),1,0))","v":""},""]
[null,"",null,"","","","",null,0,"","","","","","","","","","","","",null,null,null,null,null,null,null,null,null,null,null,"",0,"","",0,"","",null,null,"",0,"","",0,"","",null,null,"",0,"","",0,"","",null,null,{"$f":"IF(C174=\"\",\"\",IF(OR(C174>G174,C174<Table115[[#This Row],[LCL]]),1,0))","v":""},""]
[null,"",null,"","","","",null,0,"","","","","","","","","","","","",null,null,null,null,null,null,null,null,null,null,null,"",0,"","",0,"","",null,null,"",0,"","",0,"","",null,null,"",0,"","",0,"","",null,null,{"$f":"IF(C175=\"\",\"\",IF(OR(C175>G175,C175<Table115[[#This Row],[LCL]]),1,0))","v":""},""]
[null,"",null,"","","","",null,0,"","","","","","","","","","","","",null,null,null,null,null,null,null,null,null,null,null,"",0,"","",0,"","",null,null,"",0,"","",0,"","",null,null,"",0,"","",0,"","",null,null,{"$f":"IF(C176=\"\",\"\",IF(OR(C176>G176,C176<Table115[[#This Row],[LCL]]),1,0))","v":""},""]
[null,"",null,"","","","",null,0,"","","","","","","","","","","","",null,null,null,null,null,null,null,null,null,null,null,"",0,"","",0,"","",null,null,"",0,"","",0,"","",null,null,"",0,"","",0,"","",null,null,{"$f":"IF(C177=\"\",\"\",IF(OR(C177>G177,C177<Table115[[#This Row],[LCL]]),1,0))","v":""},""]
[null,"",null,"","","","",null,0,"","","","","","","","","","","","",null,null,null,null,null,null,null,null,null,null,null,"",0,"","",0,"","",null,null,"",0,"","",0,"","",null,null,"",0,"","",0,"","",null,null,{"$f":"IF(C178=\"\",\"\",IF(OR(C178>G178,C178<Table115[[#This Row],[LCL]]),1,0))","v":""},""]
[null,"",null,"","","","",null,0,"","","","","","","","","","","","",null,null,null,null,null,null,null,null,null,null,null,"",0,"","",0,"","",null,null,"",0,"","",0,"","",null,null,"",0,"","",0,"","",null,null,{"$f":"IF(C179=\"\",\"\",IF(OR(C179>G179,C179<Table115[[#This Row],[LCL]]),1,0))","v":""},""]
[null,"",null,"","","","",null,0,"","","","","","","","","","","","",null,null,null,null,null,null,null,null,null,null,null,"",0,"","",0,"","",null,null,"",0,"","",0,"","",null,null,"",0,"","",0,"","",null,null,{"$f":"IF(C180=\"\",\"\",IF(OR(C180>G180,C180<Table115[[#This Row],[LCL]]),1,0))","v":""},""]
[null,"",null,"","","","",null,0,"","","","","","","","","","","","",null,null,null,null,null,null,null,null,null,null,null,"",0,"","",0,"","",null,null,"",0,"","",0,"","",null,null,"",0,"","",0,"","",null,null,{"$f":"IF(C181=\"\",\"\",IF(OR(C181>G181,C181<Table115[[#This Row],[LCL]]),1,0))","v":""},""]
[null,"",null,"","","","",null,0,"","","","","","","","","","","","",null,null,null,null,null,null,null,null,null,null,null,"",0,"","",0,"","",null,null,"",0,"","",0,"","",null,null,"",0,"","",0,"","",null,null,{"$f":"IF(C182=\"\",\"\",IF(OR(C182>G182,C182<Table115[[#This Row],[LCL]]),1,0))","v":""},""]
[null,"",null,"","","","",null,0,"","","","","","","","","","","","",null,null,null,null,null,null,null,null,null,null,null,"",0,"","",0,"","",null,null,"",0,"","",0,"","",null,null,"",0,"","",0,"","",null,null,{"$f":"IF(C183=\"\",\"\",IF(OR(C183>G183,C183<Table115[[#This Row],[LCL]]),1,0))","v":""},""]
[null,"",null,"","","","",null,0,"","","","","","","","","","","","",null,null,null,null,null,null,null,null,null,null,null,"",0,"","",0,"","",null,null,"",0,"","",0,"","",null,null,"",0,"","",0,"","",null,null,{"$f":"IF(C184=\"\",\"\",IF(OR(C184>G184,C184<Table115[[#This Row],[LCL]]),1,0))","v":""},""]
[null,"",null,"","","","",null,0,"","","","","","","","","","","","",null,null,null,null,null,null,null,null,null,null,null,"",0,"","",0,"","",null,null,"",0,"","",0,"","",null,null,"",0,"","",0,"","",null,null,{"$f":"IF(C185=\"\",\"\",IF(OR(C185>G185,C185<Table115[[#This Row],[LCL]]),1,0))","v":""},""]
[null,"",null,"","","","",null,0,"","","","","","","","","","","","",null,null,null,null,null,null,null,null,null,null,null,"",0,"","",0,"","",null,null,"",0,"","",0,"","",null,null,"",0,"","",0,"","",null,null,{"$f":"IF(C186=\"\",\"\",IF(OR(C186>G186,C186<Table115[[#This Row],[LCL]]),1,0))","v":""},""]
[null,"",null,"","","","",null,0,"","","","","","","","","","","","",null,null,null,null,null,null,null,null,null,null,null,"",0,"","",0,"","",null,null,"",0,"","",0,"","",null,null,"",0,"","",0,"","",null,null,{"$f":"IF(C187=\"\",\"\",IF(OR(C187>G187,C187<Table115[[#This Row],[LCL]]),1,0))","v":""},""]
[null,"",null,"","","","",null,0,"","","","","","","","","","","","",null,null,null,null,null,null,null,null,null,null,null,"",0,"","",0,"","",null,null,"",0,"","",0,"","",null,null,"",0,"","",0,"","",null,null,{"$f":"IF(C188=\"\",\"\",IF(OR(C188>G188,C188<Table115[[#This Row],[LCL]]),1,0))","v":""},""]
[null,"",null,"","","","",null,0,"","","","","","","","","","","","",null,null,null,null,null,null,null,null,null,null,null,"",0,"","",0,"","",null,null,"",0,"","",0,"","",null,null,"",0,"","",0,"","",null,null,{"$f":"IF(C189=\"\",\"\",IF(OR(C189>G189,C189<Table115[[#This Row],[LCL]]),1,0))","v":""},""]
[null,"",null,"","","","",null,0,"","","","","","","","","","","","",null,null,null,null,null,null,null,null,null,null,null,"",0,"","",0,"","",null,null,"",0,"","",0,"","",null,null,"",0,"","",0,"","",null,null,{"$f":"IF(C190=\"\",\"\",IF(OR(C190>G190,C190<Table115[[#This Row],[LCL]]),1,0))","v":""},""]
[null,"",null,"","","","",null,0,"","","","","","","","","","","","",null,null,null,null,null,null,null,null,null,null,null,"",0,"","",0,"","",null,null,"",0,"","",0,"","",null,null,"",0,"","",0,"","",null,null,{"$f":"IF(C191=\"\",\"\",IF(OR(C191>G191,C191<Table115[[#This Row],[LCL]]),1,0))","v":""},""]
[null,"",null,"","","","",null,0,"","","","","","","","","","","","",null,null,null,null,null,null,null,null,null,null,null,"",0,"","",0,"","",null,null,"",0,"","",0,"","",null,null,"",0,"","",0,"","",null,null,{"$f":"IF(C192=\"\",\"\",IF(OR(C192>G192,C192<Table115[[#This Row],[LCL]]),1,0))","v":""},""]
[null,"",null,"","","","",null,0,"","","","","","","","","","","","",null,null,null,null,null,null,null,null,null,null,null,"",0,"","",0,"","",null,null,"",0,"","",0,"","",null,null,"",0,"","",0,"","",null,null,{"$f":"IF(C193=\"\",\"\",IF(OR(C193>G193,C193<Table115[[#This Row],[LCL]]),1,0))","v":""},""]
[null,"",null,"","","","",null,0,"","","","","","","","","","","","",null,null,null,null,null,null,null,null,null,null,null,"",0,"","",0,"","",null,null,"",0,"","",0,"","",null,null,"",0,"","",0,"","",null,null,{"$f":"IF(C194=\"\",\"\",IF(OR(C194>G194,C194<Table115[[#This Row],[LCL]]),1,0))","v":""},""]
[null,"",null,"","","","",null,0,"","","","","","","","","","","","",null,null,null,null,null,null,null,null,null,null,null,"",0,"","",0,"","",null,null,"",0,"","",0,"","",null,null,"",0,"","",0,"","",null,null,{"$f":"IF(C195=\"\",\"\",IF(OR(C195>G195,C195<Table115[[#This Row],[LCL]]),1,0))","v":""},""]
[null,"",null,"","","","",null,0,"","","","","","","","","","","","",null,null,null,null,null,null,null,null,null,null,null,"",0,"","",0,"","",null,null,"",0,"","",0,"","",null,null,"",0,"","",0,"","",null,null,{"$f":"IF(C196=\"\",\"\",IF(OR(C196>G196,C196<Table115[[#This Row],[LCL]]),1,0))","v":""},""]
[null,"",null,"","","","",null,0,"","","","","","","","","","","","",null,null,null,null,null,null,null,null,null,null,null,"",0,"","",0,"","",null,null,"",0,"","",0,"","",null,null,"",0,"","",0,"","",null,null,{"$f":"IF(C197=\"\",\"\",IF(OR(C197>G197,C197<Table115[[#This Row],[LCL]]),1,0))","v":""},""]
[null,"",null,"","","","",null,0,"","","","","","","","","","","","",null,null,null,null,null,null,null,null,null,null,null,"",0,"","",0,"","",null,null,"",0,"","",0,"","",null,null,"",0,"","",0,"","",null,null,{"$f":"IF(C198=\"\",\"\",IF(OR(C198>G198,C198<Table115[[#This Row],[LCL]]),1,0))","v":""},""]
[null,"",null,"","","","",null,0,"","","","","","","","","","","","",null,null,null,null,null,null,null,null,null,null,null,"",0,"","",0,"","",null,null,"",0,"","",0,"","",null,null,"",0,"","",0,"","",null,null,{"$f":"IF(C199=\"\",\"\",IF(OR(C199>G199,C199<Table115[[#This Row],[LCL]]),1,0))","v":""},""]
[null,"",null,"","","","",null,0,"","","","","","","","","","","","",null,null,null,null,null,null,null,null,null,null,null,"",0,"","",0,"","",null,null,"",0,"","",0,"","",null,null,"",0,"","",0,"","",null,null,{"$f":"IF(C200=\"\",\"\",IF(OR(C200>G200,C200<Table115[[#This Row],[LCL]]),1,0))","v":""},""]
[null,"",null,"","","","",null,0,"","","","","","","","","","","","",null,null,null,null,null,null,null,null,null,null,null,"",0,"","",0,"","",null,null,"",0,"","",0,"","",null,null,"",0,"","",0,"","",null,null,{"$f":"IF(C201=\"\",\"\",IF(OR(C201>G201,C201<Table115[[#This Row],[LCL]]),1,0))","v":""},""]
[null,"",null,"","","","",null,0,"","","","","","","","","","","","",null,null,null,null,null,null,null,null,null,null,null,"",0,"","",0,"","",null,null,"",0,"","",0,"","",null,null,"",0,"","",0,"","",null,null,{"$f":"IF(C202=\"\",\"\",IF(OR(C202>G202,C202<Table115[[#This Row],[LCL]]),1,0))","v":""},""]
[null,"",null,"","","","",null,0,"","","","","","","","","","","","",null,null,null,null,null,null,null,null,null,null,null,"",0,"","",0,"","",null,null,"",0,"","",0,"","",null,null,"",0,"","",0,"","",null,null,{"$f":"IF(C203=\"\",\"\",IF(OR(C203>G203,C203<Table115[[#This Row],[LCL]]),1,0))","v":""},""]
[null,"",null,"","","","",null,0,"","","","","","","","","","","","",null,null,null,null,null,null,null,null,null,null,null,"",0,"","",0,"","",null,null,"",0,"","",0,"","",null,null,"",0,"","",0,"","",null,null,{"$f":"IF(C204=\"\",\"\",IF(OR(C204>G204,C204<Table115[[#This Row],[LCL]]),1,0))","v":""},""]
[null,"",null,{"$f":"IF(C205=\"\",\"\",ABS(C205-C204))","v":""},"","",{"$f":"IF(C205=\"\",\"\",$F$6+(2.66*$F$7))","v":""},null,{"$f":"IF(B205>$F$8,0,1)","v":0},{"$f":"IF(G205=\"\",\"\",$F$6)","v":""},"","","","","","","",{"$f":"IF(C205=\"\",\"\",IF($F$6-(0.89*$F$7)<0, 0, $F$6-(0.89*$F$7)))","v":""},{"$f":"IF(C205=\"\",\"\",IF($F$6-(1.77*$F$7)<0,0,$F$6-(1.77*$F$7)))","v":""},{"$f":"IF(C205=\"\",\"\",$F$6+(0.89*$F$7))","v":""},{"$f":"IF(C205=\"\",\"\",$F$6+(1.77*$F$7))","v":""},null,null,null,null,null,null,null,null,null,null,null,"",0,"","",0,"","",null,null,"",0,"","",0,"","",null,null,"",0,"","",0,"","",null,null,{"$f":"IF(C205=\"\",\"\",IF(OR(C205>G205,C205<Table115[[#This Row],[LCL]]),1,0))","v":""},""]
[null,"",null,"",{"$f":"IF(C206=\"\",\"\",3.27*$F$7)","v":""},{"$f":"IF(C206=\"\",\"\",IF($F$6-(2.66*$F$7)<0, 0, $F$6-(2.66*$F$7)))","v":""},"",null,0,"",{"$f":"IF(G206=\"\",\"\",$F$7)","v":""},"","","","",{"$f":"IF(C206=\"\",\"\",(3.27*$F$7)*(1/3))","v":""},"","","","","",null,null,null,null,null,null,null,null,null,null,null,"",{"$f":"SUM(AG206:AG208)","v":0},{"$f":"IF(AH207=2,\"\",IF(AH206>=2,CONCATENATE(\"Data Point \",B206,\" to \",\"Data Point \",(B206+2)),\"\"))","v":""},"",{"$f":"SUM(AJ206:AJ208)","v":0},{"$f":"IF(AK207=2,\"\",IF(AK206>=2,CONCATENATE(\"Data Point \",B206,\" to \",\"Data Point \",(B206+2)),\"\"))","v":""},{"$f":"IF(AND(AI206<>\"\",AL206=\"\"),AI206,IF(AND(AI206=\"\",AL206<>\"\"),AL206,IF(AND(AI206<>\"\",AL206<>\"\"),AI206,\"\")))","v":""},null,null,{"$f":"IF(C206=\"\",\"\",IF(AND(C206>=T206,C206<G206),1,0))","v":""},{"$f":"SUM(AP206:AP210)","v":0},{"$f":"IF(AQ207=4,\"\",IF(AQ206>=4,CONCATENATE(\"Data Point \",B206,\" to \",\"Data Point \",(B206+4)),\"\"))","v":""},{"$f":"IF(C206=\"\",\"\",IF(AND(C206<=R206,C206>F206),1,0))","v":""},{"$f":"SUM(AS206:AS210)","v":0},{"$f":"IF(AT207=4,\"\",IF(AT206>=4,CONCATENATE(\"Data Point \",B206,\" to \",\"Data Point \",(B206+4)),\"\"))","v":""},{"$f":"IF(AND(AR206<>\"\",AU206=\"\"),AR206,IF(AND(AR206=\"\",AU206<>\"\"),AU206,IF(AND(AR206<>\"\",AU206<>\"\"),AR206,\"\")))","v":""},null,null,{"$f":"IF(C206=\"\",\"\",IF(AND(C206>=J206,C206<G206),1,0))","v":""},{"$f":"SUM(AY206:AY213)","v":0},{"$f":"IF(AZ206=8,CONCATENATE(\"Data Point \",B206,\" to \",\"Data Point \",(B206+8)),\"\")","v":""},{"$f":"IF(C206=\"\",\"\",IF(AND(C206<=J206,C206>F206),1,0))","v":""},{"$f":"SUM(BB206:BB213)","v":0},{"$f":"IF(BC206=8,CONCATENATE(\"Data Point \",B206,\" to \",\"Data Point \",(B206+8)),\"\")","v":""},{"$f":"IF(AND(BA206<>\"\",BD206=\"\"),BA206,IF(AND(BA206=\"\",BD206<>\"\"),BD206,IF(AND(BA206<>\"\",BD206<>\"\"),BA206,\"\")))","v":""},null,null,{"$f":"IF(C206=\"\",\"\",IF(OR(C206>G206,C206<Table115[[#This Row],[LCL]]),1,0))","v":""},{"$f":"IF(BH206=1,CONCATENATE(\"Data Point \",B206),\"\")","v":""}]
[null,{"$f":"IF(C207=\"\",\"\",B206+1)","v":""},null,"","","","",null,0,"","","",{"$f":"IF(C207=\"\",\"\",IF((3.27*$F$7)*(2/3)<0,0,(3.27*$F$7)*(2/3)))","v":""},{"$f":"IF(C207=\"\",\"\",IF((-3.27*$F$7)*(1/3)<0,0,(-3.27*$F$7)*(1/3)))","v":""},{"$f":"IF(C207=\"\",\"\",IF((-3.27*$F$7)*(2/3)<0,0,(-3.27*$F$7)*(2/3)))","v":""},"",{"$f":"IF(B207=\"\", \"\", 0)","v":""},"","","","",null,null,null,null,null,null,null,null,null,null,null,"",0,"","",0,"","",null,null,"",0,"","",0,"","",null,null,"",0,"","",0,"","",null,null,{"$f":"IF(C207=\"\",\"\",IF(OR(C207>G207,C207<Table115[[#This Row],[LCL]]),1,0))","v":""},""]
[null,"",null,"","","","",null,0,"","","","","","","","","","","","",null,null,null,null,null,null,null,null,null,null,null,"",0,"","",0,"","",null,null,"",0,"","",0,"","",null,null,"",0,"","",0,"","",null,null,{"$f":"IF(C208=\"\",\"\",IF(OR(C208>G208,C208<Table115[[#This Row],[LCL]]),1,0))","v":""},""]
[null,"",null,"","","","",null,0,"","","","","","","","","","","","",null,null,null,null,null,null,null,null,null,null,null,"",0,"","",0,"","",null,null,"",0,"","",0,"","",null,null,"",0,"","",0,"","",null,null,{"$f":"IF(C209=\"\",\"\",IF(OR(C209>G209,C209<Table115[[#This Row],[LCL]]),1,0))","v":""},""]
[null,"",null,"","","","",null,0,"","","","","","","","","","","","",null,null,null,null,null,null,null,null,null,null,null,"",0,"","",0,"","",null,null,"",0,"","",0,"","",null,null,"",0,"","",0,"","",null,null,{"$f":"IF(C210=\"\",\"\",IF(OR(C210>G210,C210<Table115[[#This Row],[LCL]]),1,0))","v":""},""]
[null,"",null,"","","","",null,0,"","","","","","","","","","","","",null,null,null,null,null,null,null,null,null,null,null,"",0,"","",0,"","",null,null,"",0,"","",0,"","",null,null,"",0,"","",0,"","",null,null,{"$f":"IF(C211=\"\",\"\",IF(OR(C211>G211,C211<Table115[[#This Row],[LCL]]),1,0))","v":""},""]
[null,"",null,"","","","",null,0,"","","","","","","","","","","","",null,null,null,null,null,null,null,null,null,null,null,"",0,"","",0,"","",null,null,"",0,"","",0,"","",null,null,"",0,"","",0,"","",null,null,{"$f":"IF(C212=\"\",\"\",IF(OR(C212>G212,C212<Table115[[#This Row],[LCL]]),1,0))","v":""},""]
[null,"",null,"","","","",null,0,"","",{"$f":"D213","v":""},"","","","","","","","","",null,null,null,null,null,null,null,null,null,null,null,"",0,"","",0,"","",null,null,"",0,"","",0,"","",null,null,"",0,"","",0,"","",null,null,{"$f":"IF(C213=\"\",\"\",IF(OR(C213>G213,C213<Table115[[#This Row],[LCL]]),1,0))","v":""},""]
[null,"",null,"","","","",null,0,"","","","","","","","","","","","",null,null,null,null,null,null,null,null,null,null,null,"",0,"","",0,"","",null,null,"",0,"","",0,"","",null,null,"",0,"","",0,"","",null,null,{"$f":"IF(C214=\"\",\"\",IF(OR(C214>G214,C214<Table115[[#This Row],[LCL]]),1,0))","v":""},""]
[null,"",null,"","","","",null,0,"","","","","","","","","","","","",null,null,null,null,null,null,null,null,null,null,null,"",0,"","",0,"","",null,null,"",0,"","",0,"","",null,null,"",0,"","",0,"","",null,null,{"$f":"IF(C215=\"\",\"\",IF(OR(C215>G215,C215<Table115[[#This Row],[LCL]]),1,0))","v":""},""]
[null,"",null,"","","","",null,0,"","","","","","","","","","","","",null,null,null,null,null,null,null,null,null,null,null,"",0,"","",0,"","",null,null,"",0,"","",0,"","",null,null,"",0,"","",0,"","",null,null,{"$f":"IF(C216=\"\",\"\",IF(OR(C216>G216,C216<Table115[[#This Row],[LCL]]),1,0))","v":""},""]
[null,"",null,"","","","",null,0,"","","","","","","","","","","","",null,null,null,null,null,null,null,null,null,null,null,"",0,"","",0,"","",null,null,"",0,"","",0,"","",null,null,"",0,"","",0,"","",null,null,{"$f":"IF(C217=\"\",\"\",IF(OR(C217>G217,C217<Table115[[#This Row],[LCL]]),1,0))","v":""},""]
[null,"",null,"","","","",null,0,"","","","","","","","","","","","",null,null,null,null,null,null,null,null,null,null,null,"",0,"","",0,"","",null,null,"",0,"","",0,"","",null,null,"",0,"","",0,"","",null,null,{"$f":"IF(C218=\"\",\"\",IF(OR(C218>G218,C218<Table115[[#This Row],[LCL]]),1,0))","v":""},""]
[null,"",null,"","","","",null,0,"","","","","","","","","","","","",null,null,null,null,null,null,null,null,null,null,null,"",0,"","",0,"","",null,null,"",0,"","",0,"","",null,null,"",0,"","",0,"","",null,null,{"$f":"IF(C219=\"\",\"\",IF(OR(C219>G219,C219<Table115[[#This Row],[LCL]]),1,0))","v":""},""]
[null,"",null,"","","","",null,0,"","","","","","","","","","","","",null,null,null,null,null,null,null,null,null,null,null,"",0,"","",0,"","",null,null,"",0,"","",0,"","",null,null,"",0,"","",0,"","",null,null,{"$f":"IF(C220=\"\",\"\",IF(OR(C220>G220,C220<Table115[[#This Row],[LCL]]),1,0))","v":""},""]
[null,"",null,"","","","",null,0,"","","","","","","","","","","","",null,null,null,null,null,null,null,null,null,null,null,"",0,"","",0,"","",null,null,"",0,"","",0,"","",null,null,"",0,"","",0,"","",null,null,{"$f":"IF(C221=\"\",\"\",IF(OR(C221>G221,C221<Table115[[#This Row],[LCL]]),1,0))","v":""},""]
[null,"",null,"","","","",null,0,"","","","","","","","","","","","",null,null,null,null,null,null,null,null,null,null,null,"",0,"","",0,"","",null,null,"",0,"","",0,"","",null,null,"",0,"","",0,"","",null,null,{"$f":"IF(C222=\"\",\"\",IF(OR(C222>G222,C222<Table115[[#This Row],[LCL]]),1,0))","v":""},""]
[null,"",null,"","","","",null,0,"","","","","","","","","","","","",null,null,null,null,null,null,null,null,null,null,null,"",0,"","",0,"","",null,null,"",0,"","",0,"","",null,null,"",0,"","",0,"","",null,null,{"$f":"IF(C223=\"\",\"\",IF(OR(C223>G223,C223<Table115[[#This Row],[LCL]]),1,0))","v":""},""]
[null,"",null,"","","","",null,0,"","","","","","","","","","","","",null,null,null,null,null,null,null,null,null,null,null,{"$f":"IF(C224=\"\",\"\",IF(AND(C224>=U224,C224<G224),1,0))","v":""},0,"",{"$f":"IF(C224=\"\",\"\",IF(AND(C224<=S224,C224>F224),1,0))","v":""},0,"","",null,null,"",0,"","",0,"","",null,null,"",0,"","",0,"","",null,null,{"$f":"IF(C224=\"\",\"\",IF(OR(C224>G224,C224<Table115[[#This Row],[LCL]]),1,0))","v":""},""]
[null,"",null,"","","","",null,0,"","","","","","","","","","","","",null,null,null,null,null,null,null,null,null,null,null,"",0,"","",0,"","",null,null,"",0,"","",0,"","",null,null,"",0,"","",0,"","",null,null,{"$f":"IF(C225=\"\",\"\",IF(OR(C225>G225,C225<Table115[[#This Row],[LCL]]),1,0))","v":""},""]
[null,"",null,"","","","",null,0,"","","","","","","","","","","","",null,null,null,null,null,null,null,null,null,null,null,"",0,"","",0,"","",null,null,"",0,"","",0,"","",null,null,"",0,"","",0,"","",null,null,{"$f":"IF(C226=\"\",\"\",IF(OR(C226>G226,C226<Table115[[#This Row],[LCL]]),1,0))","v":""},""]
[null,"",null,"","","","",null,0,"","","","","","","","","","","","",null,null,null,null,null,null,null,null,null,null,null,"",0,"","",0,"","",null,null,"",0,"","",0,"","",null,null,"",0,"","",0,"","",null,null,{"$f":"IF(C227=\"\",\"\",IF(OR(C227>G227,C227<Table115[[#This Row],[LCL]]),1,0))","v":""},""]
[null,"",null,"","","","",null,0,"","","","","","","","","","","","",null,null,null,null,null,null,null,null,null,null,null,"",0,"","",0,"","",null,null,"",0,"","",0,"","",null,null,"",0,"","",0,"","",null,null,{"$f":"IF(C228=\"\",\"\",IF(OR(C228>G228,C228<Table115[[#This Row],[LCL]]),1,0))","v":""},""]
[null,"",null,"","","","",null,0,"","","","","","","","","","","","",null,null,null,null,null,null,null,null,null,null,null,"",0,"","",0,"","",null,null,"",0,"","",0,"","",null,null,"",0,"","",0,"","",null,null,{"$f":"IF(C229=\"\",\"\",IF(OR(C229>G229,C229<Table115[[#This Row],[LCL]]),1,0))","v":""},""]
[null,"",null,"","","","",null,0,"","","","","","","","","","","","",null,null,null,null,null,null,null,null,null,null,null,"",0,"","",0,"","",null,null,"",0,"","",0,"","",null,null,"",0,"","",0,"","",null,null,{"$f":"IF(C230=\"\",\"\",IF(OR(C230>G230,C230<Table115[[#This Row],[LCL]]),1,0))","v":""},""]
[null,"",null,"","","","",null,0,"","","","","","","","","","","","",null,null,null,null,null,null,null,null,null,null,null,"",0,"","",0,"","",null,null,"",0,"","",0,"","",null,null,"",0,"","",0,"","",null,null,{"$f":"IF(C231=\"\",\"\",IF(OR(C231>G231,C231<Table115[[#This Row],[LCL]]),1,0))","v":""},""]
[null,"",null,"","","","",null,0,"","","","","","","","","","","","",null,null,null,null,null,null,null,null,null,null,null,"",0,"","",0,"","",null,null,"",0,"","",0,"","",null,null,"",0,"","",0,"","",null,null,{"$f":"IF(C232=\"\",\"\",IF(OR(C232>G232,C232<Table115[[#This Row],[LCL]]),1,0))","v":""},""]
[null,"",null,"","","","",null,0,"","","","","","","","","","","","",null,null,null,null,null,null,null,null,null,null,null,"",0,"","",0,"","",null,null,"",0,"","",0,"","",null,null,"",0,"","",0,"","",null,null,{"$f":"IF(C233=\"\",\"\",IF(OR(C233>G233,C233<Table115[[#This Row],[LCL]]),1,0))","v":""},""]
[null,"",null,"","","","",null,0,"","","","","","","","","","","","",null,null,null,null,null,null,null,null,null,null,null,"",0,"","",0,"","",null,null,"",0,"","",0,"","",null,null,"",0,"","",0,"","",null,null,{"$f":"IF(C234=\"\",\"\",IF(OR(C234>G234,C234<Table115[[#This Row],[LCL]]),1,0))","v":""},""]
[null,"",null,"","","","",null,0,"","","","","","","","","","","","",null,null,null,null,null,null,null,null,null,null,null,"",0,"","",0,"","",null,null,"",0,"","",0,"","",null,null,"",0,"","",0,"","",null,null,{"$f":"IF(C235=\"\",\"\",IF(OR(C235>G235,C235<Table115[[#This Row],[LCL]]),1,0))","v":""},""]
[null,"",null,"","","","",null,0,"","","","","","","","","","","","",null,null,null,null,null,null,null,null,null,null,null,"",0,"","",0,"","",null,null,"",0,"","",0,"","",null,null,"",0,"","",0,"","",null,null,{"$f":"IF(C236=\"\",\"\",IF(OR(C236>G236,C236<Table115[[#This Row],[LCL]]),1,0))","v":""},""]
[null,"",null,"","","","",null,0,"","","","","","","","","","","","",null,null,null,null,null,null,null,null,null,null,null,"",0,"","",0,"","",null,null,"",0,"","",0,"","",null,null,"",0,"","",0,"","",null,null,{"$f":"IF(C237=\"\",\"\",IF(OR(C237>G237,C237<Table115[[#This Row],[LCL]]),1,0))","v":""},""]
[null,"",null,"","","","",null,0,"","","","","","","","","","","","",null,null,null,null,null,null,null,null,null,null,null,"",0,"","",0,"","",null,null,"",0,"","",0,"","",null,null,"",0,"","",0,"","",null,null,{"$f":"IF(C238=\"\",\"\",IF(OR(C238>G238,C238<Table115[[#This Row],[LCL]]),1,0))","v":""},""]
[null,"",null,"","","","",null,0,"","","","","","","","","","","","",null,null,null,null,null,null,null,null,null,null,null,"",0,"","",0,"","",null,null,"",0,"","",0,"","",null,null,"",0,"","",0,"","",null,null,{"$f":"IF(C239=\"\",\"\",IF(OR(C239>G239,C239<Table115[[#This Row],[LCL]]),1,0))","v":""},""]
[null,"",null,"","","","",null,0,"","","","","","","","","","","","",null,null,null,null,null,null,null,null,null,null,null,"",0,"","",0,"","",null,null,"",0,"","",0,"","",null,null,"",0,"","",0,"","",null,null,{"$f":"IF(C240=\"\",\"\",IF(OR(C240>G240,C240<Table115[[#This Row],[LCL]]),1,0))","v":""},""]
[null,"",null,"","","","",null,0,"","","","","","","","","","","","",null,null,null,null,null,null,null,null,null,null,null,"",0,"","",0,"","",null,null,"",0,"","",0,"","",null,null,"",0,"","",0,"","",null,null,{"$f":"IF(C241=\"\",\"\",IF(OR(C241>G241,C241<Table115[[#This Row],[LCL]]),1,0))","v":""},""]
[null,"",null,"","","","",null,0,"","","","","","","","","","","","",null,null,null,null,null,null,null,null,null,null,null,"",0,"","",0,"","",null,null,"",0,"","",0,"","",null,null,"",0,"","",0,"","",null,null,{"$f":"IF(C242=\"\",\"\",IF(OR(C242>G242,C242<Table115[[#This Row],[LCL]]),1,0))","v":""},""]
[null,"",null,"","","","",null,0,"","","","","","","","","","","","",null,null,null,null,null,null,null,null,null,null,null,"",0,"","",0,"","",null,null,"",0,"","",0,"","",null,null,"",0,"","",0,"","",null,null,{"$f":"IF(C243=\"\",\"\",IF(OR(C243>G243,C243<Table115[[#This Row],[LCL]]),1,0))","v":""},""]
[null,"",null,"","","","",null,0,"","","","","","","","","","","","",null,null,null,null,null,null,null,null,null,null,null,"",0,"","",0,"","",null,null,"",0,"","",0,"","",null,null,"",0,"","",0,"","",null,null,{"$f":"IF(C244=\"\",\"\",IF(OR(C244>G244,C244<Table115[[#This Row],[LCL]]),1,0))","v":""},""]
[null,"",null,"","","","",null,0,"","","","","","","","","","","","",null,null,null,null,null,null,null,null,null,null,null,"",0,"","",0,"","",null,null,"",0,"","",0,"","",null,null,"",0,"","",0,"","",null,null,{"$f":"IF(C245=\"\",\"\",IF(OR(C245>G245,C245<Table115[[#This Row],[LCL]]),1,0))","v":""},""]
[null,"",null,"","","","",null,0,"","","","","","","","","","","","",null,null,null,null,null,null,null,null,null,null,null,"",0,"","",0,"","",null,null,"",0,"","",0,"","",null,null,"",0,"","",0,"","",null,null,{"$f":"IF(C246=\"\",\"\",IF(OR(C246>G246,C246<Table115[[#This Row],[LCL]]),1,0))","v":""},""]
[null,"",null,"","","","",null,0,"","","","","","","","","","","","",null,null,null,null,null,null,null,null,null,null,null,"",0,"","",0,"","",null,null,"",0,"","",0,"","",null,null,"",0,"","",0,"","",null,null,{"$f":"IF(C247=\"\",\"\",IF(OR(C247>G247,C247<Table115[[#This Row],[LCL]]),1,0))","v":""},""]
[null,"",null,"","","","",null,0,"","","","","","","","","","","","",null,null,null,null,null,null,null,null,null,null,null,"",0,"","",0,"","",null,null,"",0,"","",0,"","",null,null,"",0,"","",0,"","",null,null,{"$f":"IF(C248=\"\",\"\",IF(OR(C248>G248,C248<Table115[[#This Row],[LCL]]),1,0))","v":""},""]
[null,"",null,"","","","",null,0,"","","","","","","","","","","","",null,null,null,null,null,null,null,null,null,null,null,"",0,"","",0,"","",null,null,"",0,"","",0,"","",null,null,"",0,"","",0,"","",null,null,{"$f":"IF(C249=\"\",\"\",IF(OR(C249>G249,C249<Table115[[#This Row],[LCL]]),1,0))","v":""},""]
[null,"",null,"","","","",null,0,"","","","","","","","","","","","",null,null,null,null,null,null,null,null,null,null,null,"",0,"","",0,"","",null,null,"",0,"","",0,"","",null,null,"",0,"","",0,"","",null,null,{"$f":"IF(C250=\"\",\"\",IF(OR(C250>G250,C250<Table115[[#This Row],[LCL]]),1,0))","v":""},""]
[null,"",null,"","","","",null,0,"","","","","","","","","","","","",null,null,null,null,null,null,null,null,null,null,null,"",0,"","",0,"","",null,null,"",0,"","",0,"","",null,null,"",0,"","",0,"","",null,null,{"$f":"IF(C251=\"\",\"\",IF(OR(C251>G251,C251<Table115[[#This Row],[LCL]]),1,0))","v":""},""]
[null,"",null,"","","","",null,0,"","","","","","","","","","","","",null,null,null,null,null,null,null,null,null,null,null,"",0,"","",0,"","",null,null,"",0,"","",0,"","",null,null,"",0,"","",0,"","",null,null,{"$f":"IF(C252=\"\",\"\",IF(OR(C252>G252,C252<Table115[[#This Row],[LCL]]),1,0))","v":""},""]
[null,"",null,"","","","",null,0,"","","","","","","","","","","","",null,null,null,null,null,null,null,null,null,null,null,"",0,"","",0,"","",null,null,"",0,"","",0,"","",null,null,"",0,"","",0,"","",null,null,{"$f":"IF(C253=\"\",\"\",IF(OR(C253>G253,C253<Table115[[#This Row],[LCL]]),1,0))","v":""},""]
[null,"",null,"","","","",null,0,"","","","","","","","","","","","",null,null,null,null,null,null,null,null,null,null,null,"",0,"","",0,"","",null,null,"",0,"","",0,"","",null,null,"",0,"","",0,"","",null,null,{"$f":"IF(C254=\"\",\"\",IF(OR(C254>G254,C254<Table115[[#This Row],[LCL]]),1,0))","v":""},""]
[null,"",null,"","","","",null,0,"","","","","","","","","","","","",null,null,null,null,null,null,null,null,null,null,null,"",0,"","",0,"","",null,null,"",0,"","",0,"","",null,null,"",0,"","",0,"","",null,null,{"$f":"IF(C255=\"\",\"\",IF(OR(C255>G255,C255<Table115[[#This Row],[LCL]]),1,0))","v":""},""]
[null,"",null,"","","","",null,0,"","","","","","","","","","","","",null,null,null,null,null,null,null,null,null,null,null,"",0,"","",0,"","",null,null,"",0,"","",0,"","",null,null,"",0,"","",0,"","",null,null,{"$f":"IF(C256=\"\",\"\",IF(OR(C256>G256,C256<Table115[[#This Row],[LCL]]),1,0))","v":""},""]
[null,"",null,"","","","",null,0,"","","","","","","","","","","","",null,null,null,null,null,null,null,null,null,null,null,"",0,"","",0,"","",null,null,"",0,"","",0,"","",null,null,"",0,"","",0,"","",null,null,{"$f":"IF(C257=\"\",\"\",IF(OR(C257>G257,C257<Table115[[#This Row],[LCL]]),1,0))","v":""},""]
[null,"",null,"","","","",null,0,"","","","","","","","","","","","",null,null,null,null,null,null,null,null,null,null,null,"",0,"","",0,"","",null,null,"",0,"","",0,"","",null,null,"",0,"","",0,"","",null,null,{"$f":"IF(C258=\"\",\"\",IF(OR(C258>G258,C258<Table115[[#This Row],[LCL]]),1,0))","v":""},""]
[null,"",null,"","","","",null,0,"","","","","","","","","","","","",null,null,null,null,null,null,null,null,null,null,null,"",0,"","",0,"","",null,null,"",0,"","",0,"","",null,null,"",0,"","",0,"","",null,null,{"$f":"IF(C259=\"\",\"\",IF(OR(C259>G259,C259<Table115[[#This Row],[LCL]]),1,0))","v":""},""]
[null,"",null,"","","","",null,0,"","","","","","","","","","","","",null,null,null,null,null,null,null,null,null,null,null,"",0,"","",0,"","",null,null,"",0,"","",0,"","",null,null,"",0,"","",0,"","",null,null,{"$f":"IF(C260=\"\",\"\",IF(OR(C260>G260,C260<Table115[[#This Row],[LCL]]),1,0))","v":""},""]
[null,"",null,"","","","",null,0,"","","","","","","","","","","","",null,null,null,null,null,null,null,null,null,null,null,"",0,"","",0,"","",null,null,"",0,"","",0,"","",null,null,"",0,"","",0,"","",null,null,{"$f":"IF(C261=\"\",\"\",IF(OR(C261>G261,C261<Table115[[#This Row],[LCL]]),1,0))","v":""},""]
[null,"",null,"","","","",null,0,"","","","","","","","","","","","",null,null,null,null,null,null,null,null,null,null,null,"",0,"","",0,"","",null,null,"",0,"","",0,"","",null,null,"",0,"","",0,"","",null,null,{"$f":"IF(C262=\"\",\"\",IF(OR(C262>G262,C262<Table115[[#This Row],[LCL]]),1,0))","v":""},""]
[null,"",null,"","","","",null,0,"","","","","","","","","","","","",null,null,null,null,null,null,null,null,null,null,null,"",0,"","",0,"","",null,null,"",0,"","",0,"","",null,null,"",0,"","",0,"","",null,null,{"$f":"IF(C263=\"\",\"\",IF(OR(C263>G263,C263<Table115[[#This Row],[LCL]]),1,0))","v":""},""]
[null,"",null,"","","","",null,0,"","","","","","","","","","","","",null,null,null,null,null,null,null,null,null,null,null,"",0,"","",0,"","",null,null,"",0,"","",0,"","",null,null,"",0,"","",0,"","",null,null,{"$f":"IF(C264=\"\",\"\",IF(OR(C264>G264,C264<Table115[[#This Row],[LCL]]),1,0))","v":""},""]
[null,"",null,"","","","",null,0,"","","","","","","","","","","","",null,null,null,null,null,null,null,null,null,null,null,"",0,"","",0,"","",null,null,"",0,"","",0,"","",null,null,"",0,"","",0,"","",null,null,{"$f":"IF(C265=\"\",\"\",IF(OR(C265>G265,C265<Table115[[#This Row],[LCL]]),1,0))","v":""},""]
[null,"",null,"","","","",null,0,"","","","","","","","","","","","",null,null,null,null,null,null,null,null,null,null,null,"",0,"","",0,"","",null,null,"",0,"","",0,"","",null,null,"",0,"","",0,"","",null,null,{"$f":"IF(C266=\"\",\"\",IF(OR(C266>G266,C266<Table115[[#This Row],[LCL]]),1,0))","v":""},""]
[null,"",null,"","","","",null,0,"","","","","","","","","","","","",null,null,null,null,null,null,null,null,null,null,null,"",0,"","",0,"","",null,null,"",0,"","",0,"","",null,null,"",0,"","",0,"","",null,null,{"$f":"IF(C267=\"\",\"\",IF(OR(C267>G267,C267<Table115[[#This Row],[LCL]]),1,0))","v":""},""]
[null,"",null,"","","","",null,0,"","","","","","","","","","","","",null,null,null,null,null,null,null,null,null,null,null,"",0,"","",0,"","",null,null,"",0,"","",0,"","",null,null,"",0,"","",0,"","",null,null,{"$f":"IF(C268=\"\",\"\",IF(OR(C268>G268,C268<Table115[[#This Row],[LCL]]),1,0))","v":""},""]
[null,"",null,{"$f":"IF(C269=\"\",\"\",ABS(C269-C268))","v":""},"","",{"$f":"IF(C269=\"\",\"\",$F$6+(2.66*$F$7))","v":""},null,{"$f":"IF(B269>$F$8,0,1)","v":0},{"$f":"IF(G269=\"\",\"\",$F$6)","v":""},"","","","","","","",{"$f":"IF(C269=\"\",\"\",IF($F$6-(0.89*$F$7)<0, 0, $F$6-(0.89*$F$7)))","v":""},{"$f":"IF(C269=\"\",\"\",IF($F$6-(1.77*$F$7)<0,0,$F$6-(1.77*$F$7)))","v":""},{"$f":"IF(C269=\"\",\"\",$F$6+(0.89*$F$7))","v":""},{"$f":"IF(C269=\"\",\"\",$F$6+(1.77*$F$7))","v":""},null,null,null,null,null,null,null,null,null,null,null,"",0,"","",0,"","",null,null,"",0,"","",0,"","",null,null,"",0,"","",0,"","",null,null,{"$f":"IF(C269=\"\",\"\",IF(OR(C269>G269,C269<Table115[[#This Row],[LCL]]),1,0))","v":""},""]
[null,"",null,"",{"$f":"IF(C270=\"\",\"\",3.27*$F$7)","v":""},{"$f":"IF(C270=\"\",\"\",IF($F$6-(2.66*$F$7)<0, 0, $F$6-(2.66*$F$7)))","v":""},"",null,0,"",{"$f":"IF(G270=\"\",\"\",$F$7)","v":""},"","","","",{"$f":"IF(C270=\"\",\"\",(3.27*$F$7)*(1/3))","v":""},"","","","","",null,null,null,null,null,null,null,null,null,null,null,"",{"$f":"SUM(AG270:AG272)","v":0},{"$f":"IF(AH271=2,\"\",IF(AH270>=2,CONCATENATE(\"Data Point \",B270,\" to \",\"Data Point \",(B270+2)),\"\"))","v":""},"",{"$f":"SUM(AJ270:AJ272)","v":0},{"$f":"IF(AK271=2,\"\",IF(AK270>=2,CONCATENATE(\"Data Point \",B270,\" to \",\"Data Point \",(B270+2)),\"\"))","v":""},{"$f":"IF(AND(AI270<>\"\",AL270=\"\"),AI270,IF(AND(AI270=\"\",AL270<>\"\"),AL270,IF(AND(AI270<>\"\",AL270<>\"\"),AI270,\"\")))","v":""},null,null,{"$f":"IF(C270=\"\",\"\",IF(AND(C270>=T270,C270<G270),1,0))","v":""},{"$f":"SUM(AP270:AP274)","v":0},{"$f":"IF(AQ271=4,\"\",IF(AQ270>=4,CONCATENATE(\"Data Point \",B270,\" to \",\"Data Point \",(B270+4)),\"\"))","v":""},{"$f":"IF(C270=\"\",\"\",IF(AND(C270<=R270,C270>F270),1,0))","v":""},{"$f":"SUM(AS270:AS274)","v":0},{"$f":"IF(AT271=4,\"\",IF(AT270>=4,CONCATENATE(\"Data Point \",B270,\" to \",\"Data Point \",(B270+4)),\"\"))","v":""},{"$f":"IF(AND(AR270<>\"\",AU270=\"\"),AR270,IF(AND(AR270=\"\",AU270<>\"\"),AU270,IF(AND(AR270<>\"\",AU270<>\"\"),AR270,\"\")))","v":""},null,null,{"$f":"IF(C270=\"\",\"\",IF(AND(C270>=J270,C270<G270),1,0))","v":""},{"$f":"SUM(AY270:AY277)","v":0},{"$f":"IF(AZ270=8,CONCATENATE(\"Data Point \",B270,\" to \",\"Data Point \",(B270+8)),\"\")","v":""},{"$f":"IF(C270=\"\",\"\",IF(AND(C270<=J270,C270>F270),1,0))","v":""},{"$f":"SUM(BB270:BB277)","v":0},{"$f":"IF(BC270=8,CONCATENATE(\"Data Point \",B270,\" to \",\"Data Point \",(B270+8)),\"\")","v":""},{"$f":"IF(AND(BA270<>\"\",BD270=\"\"),BA270,IF(AND(BA270=\"\",BD270<>\"\"),BD270,IF(AND(BA270<>\"\",BD270<>\"\"),BA270,\"\")))","v":""},null,null,{"$f":"IF(C270=\"\",\"\",IF(OR(C270>G270,C270<Table115[[#This Row],[LCL]]),1,0))","v":""},{"$f":"IF(BH270=1,CONCATENATE(\"Data Point \",B270),\"\")","v":""}]
[null,{"$f":"IF(C271=\"\",\"\",B270+1)","v":""},null,"","","","",null,0,"","","",{"$f":"IF(C271=\"\",\"\",IF((3.27*$F$7)*(2/3)<0,0,(3.27*$F$7)*(2/3)))","v":""},{"$f":"IF(C271=\"\",\"\",IF((-3.27*$F$7)*(1/3)<0,0,(-3.27*$F$7)*(1/3)))","v":""},{"$f":"IF(C271=\"\",\"\",IF((-3.27*$F$7)*(2/3)<0,0,(-3.27*$F$7)*(2/3)))","v":""},"",{"$f":"IF(B271=\"\", \"\", 0)","v":""},"","","","",null,null,null,null,null,null,null,null,null,null,null,"",0,"","",0,"","",null,null,"",0,"","",0,"","",null,null,"",0,"","",0,"","",null,null,{"$f":"IF(C271=\"\",\"\",IF(OR(C271>G271,C271<Table115[[#This Row],[LCL]]),1,0))","v":""},""]
[null,"",null,"","","","",null,0,"","","","","","","","","","","","",null,null,null,null,null,null,null,null,null,null,null,"",0,"","",0,"","",null,null,"",0,"","",0,"","",null,null,"",0,"","",0,"","",null,null,{"$f":"IF(C272=\"\",\"\",IF(OR(C272>G272,C272<Table115[[#This Row],[LCL]]),1,0))","v":""},""]
[null,"",null,"","","","",null,0,"","","","","","","","","","","","",null,null,null,null,null,null,null,null,null,null,null,"",0,"","",0,"","",null,null,"",0,"","",0,"","",null,null,"",0,"","",0,"","",null,null,{"$f":"IF(C273=\"\",\"\",IF(OR(C273>G273,C273<Table115[[#This Row],[LCL]]),1,0))","v":""},""]
[null,"",null,"","","","",null,0,"","","","","","","","","","","","",null,null,null,null,null,null,null,null,null,null,null,"",0,"","",0,"","",null,null,"",0,"","",0,"","",null,null,"",0,"","",0,"","",null,null,{"$f":"IF(C274=\"\",\"\",IF(OR(C274>G274,C274<Table115[[#This Row],[LCL]]),1,0))","v":""},""]
[null,"",null,"","","","",null,0,"","","","","","","","","","","","",null,null,null,null,null,null,null,null,null,null,null,"",0,"","",0,"","",null,null,"",0,"","",0,"","",null,null,"",0,"","",0,"","",null,null,{"$f":"IF(C275=\"\",\"\",IF(OR(C275>G275,C275<Table115[[#This Row],[LCL]]),1,0))","v":""},""]
[null,"",null,"","","","",null,0,"","","","","","","","","","","","",null,null,null,null,null,null,null,null,null,null,null,"",0,"","",0,"","",null,null,"",0,"","",0,"","",null,null,"",0,"","",0,"","",null,null,{"$f":"IF(C276=\"\",\"\",IF(OR(C276>G276,C276<Table115[[#This Row],[LCL]]),1,0))","v":""},""]
[null,"",null,"","","","",null,0,"","",{"$f":"D277","v":""},"","","","","","","","","",null,null,null,null,null,null,null,null,null,null,null,"",0,"","",0,"","",null,null,"",0,"","",0,"","",null,null,"",0,"","",0,"","",null,null,{"$f":"IF(C277=\"\",\"\",IF(OR(C277>G277,C277<Table115[[#This Row],[LCL]]),1,0))","v":""},""]
[null,"",null,"","","","",null,0,"","","","","","","","","","","","",null,null,null,null,null,null,null,null,null,null,null,"",0,"","",0,"","",null,null,"",0,"","",0,"","",null,null,"",0,"","",0,"","",null,null,{"$f":"IF(C278=\"\",\"\",IF(OR(C278>G278,C278<Table115[[#This Row],[LCL]]),1,0))","v":""},""]
[null,"",null,"","","","",null,0,"","","","","","","","","","","","",null,null,null,null,null,null,null,null,null,null,null,"",0,"","",0,"","",null,null,"",0,"","",0,"","",null,null,"",0,"","",0,"","",null,null,{"$f":"IF(C279=\"\",\"\",IF(OR(C279>G279,C279<Table115[[#This Row],[LCL]]),1,0))","v":""},""]
[null,"",null,"","","","",null,0,"","","","","","","","","","","","",null,null,null,null,null,null,null,null,null,null,null,"",0,"","",0,"","",null,null,"",0,"","",0,"","",null,null,"",0,"","",0,"","",null,null,{"$f":"IF(C280=\"\",\"\",IF(OR(C280>G280,C280<Table115[[#This Row],[LCL]]),1,0))","v":""},""]
[null,"",null,"","","","",null,0,"","","","","","","","","","","","",null,null,null,null,null,null,null,null,null,null,null,"",0,"","",0,"","",null,null,"",0,"","",0,"","",null,null,"",0,"","",0,"","",null,null,{"$f":"IF(C281=\"\",\"\",IF(OR(C281>G281,C281<Table115[[#This Row],[LCL]]),1,0))","v":""},""]
[null,"",null,"","","","",null,0,"","","","","","","","","","","","",null,null,null,null,null,null,null,null,null,null,null,"",0,"","",0,"","",null,null,"",0,"","",0,"","",null,null,"",0,"","",0,"","",null,null,{"$f":"IF(C282=\"\",\"\",IF(OR(C282>G282,C282<Table115[[#This Row],[LCL]]),1,0))","v":""},""]
[null,"",null,"","","","",null,0,"","","","","","","","","","","","",null,null,null,null,null,null,null,null,null,null,null,"",0,"","",0,"","",null,null,"",0,"","",0,"","",null,null,"",0,"","",0,"","",null,null,{"$f":"IF(C283=\"\",\"\",IF(OR(C283>G283,C283<Table115[[#This Row],[LCL]]),1,0))","v":""},""]
[null,"",null,"","","","",null,0,"","","","","","","","","","","","",null,null,null,null,null,null,null,null,null,null,null,"",0,"","",0,"","",null,null,"",0,"","",0,"","",null,null,"",0,"","",0,"","",null,null,{"$f":"IF(C284=\"\",\"\",IF(OR(C284>G284,C284<Table115[[#This Row],[LCL]]),1,0))","v":""},""]
[null,"",null,"","","","",null,0,"","","","","","","","","","","","",null,null,null,null,null,null,null,null,null,null,null,"",0,"","",0,"","",null,null,"",0,"","",0,"","",null,null,"",0,"","",0,"","",null,null,{"$f":"IF(C285=\"\",\"\",IF(OR(C285>G285,C285<Table115[[#This Row],[LCL]]),1,0))","v":""},""]
[null,"",null,"","","","",null,0,"","","","","","","","","","","","",null,null,null,null,null,null,null,null,null,null,null,"",0,"","",0,"","",null,null,"",0,"","",0,"","",null,null,"",0,"","",0,"","",null,null,{"$f":"IF(C286=\"\",\"\",IF(OR(C286>G286,C286<Table115[[#This Row],[LCL]]),1,0))","v":""},""]
[null,"",null,"","","","",null,0,"","","","","","","","","","","","",null,null,null,null,null,null,null,null,null,null,null,"",0,"","",0,"","",null,null,"",0,"","",0,"","",null,null,"",0,"","",0,"","",null,null,{"$f":"IF(C287=\"\",\"\",IF(OR(C287>G287,C287<Table115[[#This Row],[LCL]]),1,0))","v":""},""]
[null,"",null,"","","","",null,0,"","","","","","","","","","","","",null,null,null,null,null,null,null,null,null,null,null,{"$f":"IF(C288=\"\",\"\",IF(AND(C288>=U288,C288<G288),1,0))","v":""},0,"",{"$f":"IF(C288=\"\",\"\",IF(AND(C288<=S288,C288>F288),1,0))","v":""},0,"","",null,null,"",0,"","",0,"","",null,null,"",0,"","",0,"","",null,null,{"$f":"IF(C288=\"\",\"\",IF(OR(C288>G288,C288<Table115[[#This Row],[LCL]]),1,0))","v":""},""]
[null,"",null,"","","","",null,0,"","","","","","","","","","","","",null,null,null,null,null,null,null,null,null,null,null,"",0,"","",0,"","",null,null,"",0,"","",0,"","",null,null,"",0,"","",0,"","",null,null,{"$f":"IF(C289=\"\",\"\",IF(OR(C289>G289,C289<Table115[[#This Row],[LCL]]),1,0))","v":""},""]
[null,"",null,"","","","",null,0,"","","","","","","","","","","","",null,null,null,null,null,null,null,null,null,null,null,"",0,"","",0,"","",null,null,"",0,"","",0,"","",null,null,"",0,"","",0,"","",null,null,{"$f":"IF(C290=\"\",\"\",IF(OR(C290>G290,C290<Table115[[#This Row],[LCL]]),1,0))","v":""},""]
[null,"",null,"","","","",null,0,"","","","","","","","","","","","",null,null,null,null,null,null,null,null,null,null,null,"",0,"","",0,"","",null,null,"",0,"","",0,"","",null,null,"",0,"","",0,"","",null,null,{"$f":"IF(C291=\"\",\"\",IF(OR(C291>G291,C291<Table115[[#This Row],[LCL]]),1,0))","v":""},""]
[null,"",null,"","","","",null,0,"","","","","","","","","","","","",null,null,null,null,null,null,null,null,null,null,null,"",0,"","",0,"","",null,null,"",0,"","",0,"","",null,null,"",0,"","",0,"","",null,null,{"$f":"IF(C292=\"\",\"\",IF(OR(C292>G292,C292<Table115[[#This Row],[LCL]]),1,0))","v":""},""]
[null,"",null,"","","","",null,0,"","","","","","","","","","","","",null,null,null,null,null,null,null,null,null,null,null,"",0,"","",0,"","",null,null,"",0,"","",0,"","",null,null,"",0,"","",0,"","",null,null,{"$f":"IF(C293=\"\",\"\",IF(OR(C293>G293,C293<Table115[[#This Row],[LCL]]),1,0))","v":""},""]
[null,"",null,"","","","",null,0,"","","","","","","","","","","","",null,null,null,null,null,null,null,null,null,null,null,"",0,"","",0,"","",null,null,"",0,"","",0,"","",null,null,"",0,"","",0,"","",null,null,{"$f":"IF(C294=\"\",\"\",IF(OR(C294>G294,C294<Table115[[#This Row],[LCL]]),1,0))","v":""},""]
[null,"",null,"","","","",null,0,"","","","","","","","","","","","",null,null,null,null,null,null,null,null,null,null,null,"",0,"","",0,"","",null,null,"",0,"","",0,"","",null,null,"",0,"","",0,"","",null,null,{"$f":"IF(C295=\"\",\"\",IF(OR(C295>G295,C295<Table115[[#This Row],[LCL]]),1,0))","v":""},""]
[null,"",null,"","","","",null,0,"","","","","","","","","","","","",null,null,null,null,null,null,null,null,null,null,null,"",0,"","",0,"","",null,null,"",0,"","",0,"","",null,null,"",0,"","",0,"","",null,null,{"$f":"IF(C296=\"\",\"\",IF(OR(C296>G296,C296<Table115[[#This Row],[LCL]]),1,0))","v":""},""]
[null,"",null,"","","","",null,0,"","","","","","","","","","","","",null,null,null,null,null,null,null,null,null,null,null,"",0,"","",0,"","",null,null,"",0,"","",0,"","",null,null,"",0,"","",0,"","",null,null,{"$f":"IF(C297=\"\",\"\",IF(OR(C297>G297,C297<Table115[[#This Row],[LCL]]),1,0))","v":""},""]
[null,"",null,"","","","",null,0,"","","","","","","","","","","","",null,null,null,null,null,null,null,null,null,null,null,"",0,"","",0,"","",null,null,"",0,"","",0,"","",null,null,"",0,"","",0,"","",null,null,{"$f":"IF(C298=\"\",\"\",IF(OR(C298>G298,C298<Table115[[#This Row],[LCL]]),1,0))","v":""},""]
[null,"",null,"","","","",null,0,"","","","","","","","","","","","",null,null,null,null,null,null,null,null,null,null,null,"",0,"","",0,"","",null,null,"",0,"","",0,"","",null,null,"",0,"","",0,"","",null,null,{"$f":"IF(C299=\"\",\"\",IF(OR(C299>G299,C299<Table115[[#This Row],[LCL]]),1,0))","v":""},""]
[null,"",null,"","","","",null,0,"","","","","","","","","","","","",null,null,null,null,null,null,null,null,null,null,null,"",0,"","",0,"","",null,null,"",0,"","",0,"","",null,null,"",0,"","",0,"","",null,null,{"$f":"IF(C300=\"\",\"\",IF(OR(C300>G300,C300<Table115[[#This Row],[LCL]]),1,0))","v":""},""]
[null,"",null,"","","","",null,0,"","","","","","","","","","","","",null,null,null,null,null,null,null,null,null,null,null,"",0,"","",0,"","",null,null,"",0,"","",0,"","",null,null,"",0,"","",0,"","",null,null,{"$f":"IF(C301=\"\",\"\",IF(OR(C301>G301,C301<Table115[[#This Row],[LCL]]),1,0))","v":""},""]
[null,"",null,"","","","",null,0,"","","","","","","","","","","","",null,null,null,null,null,null,null,null,null,null,null,"",0,"","",0,"","",null,null,"",0,"","",0,"","",null,null,"",0,"","",0,"","",null,null,{"$f":"IF(C302=\"\",\"\",IF(OR(C302>G302,C302<Table115[[#This Row],[LCL]]),1,0))","v":""},""]
[null,"",null,"","","","",null,0,"","","","","","","","","","","","",null,null,null,null,null,null,null,null,null,null,null,"",0,"","",0,"","",null,null,"",0,"","",0,"","",null,null,"",0,"","",0,"","",null,null,{"$f":"IF(C303=\"\",\"\",IF(OR(C303>G303,C303<Table115[[#This Row],[LCL]]),1,0))","v":""},""]
[null,"",null,"","","","",null,0,"","","","","","","","","","","","",null,null,null,null,null,null,null,null,null,null,null,"",0,"","",0,"","",null,null,"",0,"","",0,"","",null,null,"",0,"","",0,"","",null,null,{"$f":"IF(C304=\"\",\"\",IF(OR(C304>G304,C304<Table115[[#This Row],[LCL]]),1,0))","v":""},""]
[null,"",null,"","","","",null,0,"","","","","","","","","","","","",null,null,null,null,null,null,null,null,null,null,null,"",0,"","",0,"","",null,null,"",0,"","",0,"","",null,null,"",0,"","",0,"","",null,null,{"$f":"IF(C305=\"\",\"\",IF(OR(C305>G305,C305<Table115[[#This Row],[LCL]]),1,0))","v":""},""]
[null,"",null,"","","","",null,0,"","","","","","","","","","","","",null,null,null,null,null,null,null,null,null,null,null,"",0,"","",0,"","",null,null,"",0,"","",0,"","",null,null,"",0,"","",0,"","",null,null,{"$f":"IF(C306=\"\",\"\",IF(OR(C306>G306,C306<Table115[[#This Row],[LCL]]),1,0))","v":""},""]
[null,"",null,"","","","",null,0,"","","","","","","","","","","","",null,null,null,null,null,null,null,null,null,null,null,"",0,"","",0,"","",null,null,"",0,"","",0,"","",null,null,"",0,"","",0,"","",null,null,{"$f":"IF(C307=\"\",\"\",IF(OR(C307>G307,C307<Table115[[#This Row],[LCL]]),1,0))","v":""},""]
[null,"",null,"","","","",null,0,"","","","","","","","","","","","",null,null,null,null,null,null,null,null,null,null,null,"",0,"","",0,"","",null,null,"",0,"","",0,"","",null,null,"",0,"","",0,"","",null,null,{"$f":"IF(C308=\"\",\"\",IF(OR(C308>G308,C308<Table115[[#This Row],[LCL]]),1,0))","v":""},""]
[null,"",null,"","","","",null,0,"","","","","","","","","","","","",null,null,null,null,null,null,null,null,null,null,null,"",0,"","",0,"","",null,null,"",0,"","",0,"","",null,null,"",0,"","",0,"","",null,null,{"$f":"IF(C309=\"\",\"\",IF(OR(C309>G309,C309<Table115[[#This Row],[LCL]]),1,0))","v":""},""]
[null,"",null,"","","","",null,0,"","","","","","","","","","","","",null,null,null,null,null,null,null,null,null,null,null,"",0,"","",0,"","",null,null,"",0,"","",0,"","",null,null,"",0,"","",0,"","",null,null,{"$f":"IF(C310=\"\",\"\",IF(OR(C310>G310,C310<Table115[[#This Row],[LCL]]),1,0))","v":""},""]
[null,"",null,"","","","",null,0,"","","","","","","","","","","","",null,null,null,null,null,null,null,null,null,null,null,"",0,"","",0,"","",null,null,"",0,"","",0,"","",null,null,"",0,"","",0,"","",null,null,{"$f":"IF(C311=\"\",\"\",IF(OR(C311>G311,C311<Table115[[#This Row],[LCL]]),1,0))","v":""},""]
[null,"",null,"","","","",null,0,"","","","","","","","","","","","",null,null,null,null,null,null,null,null,null,null,null,"",0,"","",0,"","",null,null,"",0,"","",0,"","",null,null,"",0,"","",0,"","",null,null,{"$f":"IF(C312=\"\",\"\",IF(OR(C312>G312,C312<Table115[[#This Row],[LCL]]),1,0))","v":""},""]
[null,"",null,"","","","",null,0,"","","","","","","","","","","","",null,null,null,null,null,null,null,null,null,null,null,"",0,"","",0,"","",null,null,"",0,"","",0,"","",null,null,"",0,"","",0,"","",null,null,{"$f":"IF(C313=\"\",\"\",IF(OR(C313>G313,C313<Table115[[#This Row],[LCL]]),1,0))","v":""},""]
[null,"",null,"","","","",null,0,"","","","","","","","","","","","",null,null,null,null,null,null,null,null,null,null,null,"",0,"","",0,"","",null,null,"",0,"","",0,"","",null,null,"",0,"","",0,"","",null,null,{"$f":"IF(C314=\"\",\"\",IF(OR(C314>G314,C314<Table115[[#This Row],[LCL]]),1,0))","v":""},""]
[null,"",null,"","","","",null,0,"","","","","","","","","","","","",null,null,null,null,null,null,null,null,null,null,null,"",0,"","",0,"","",null,null,"",0,"","",0,"","",null,null,"",0,"","",0,"","",null,null,{"$f":"IF(C315=\"\",\"\",IF(OR(C315>G315,C315<Table115[[#This Row],[LCL]]),1,0))","v":""},""]
[null,"",null,"","","","",null,0,"","","","","","","","","","","","",null,null,null,null,null,null,null,null,null,null,null,"",0,"","",0,"","",null,null,"",0,"","",0,"","",null,null,"",0,"","",0,"","",null,null,{"$f":"IF(C316=\"\",\"\",IF(OR(C316>G316,C316<Table115[[#This Row],[LCL]]),1,0))","v":""},""]
[null,"",null,"","","","",null,0,"","","","","","","","","","","","",null,null,null,null,null,null,null,null,null,null,null,"",0,"","",0,"","",null,null,"",0,"","",0,"","",null,null,"",0,"","",0,"","",null,null,{"$f":"IF(C317=\"\",\"\",IF(OR(C317>G317,C317<Table115[[#This Row],[LCL]]),1,0))","v":""},""]
[null,"",null,"","","","",null,0,"","","","","","","","","","","","",null,null,null,null,null,null,null,null,null,null,null,"",0,"","",0,"","",null,null,"",0,"","",0,"","",null,null,"",0,"","",0,"","",null,null,{"$f":"IF(C318=\"\",\"\",IF(OR(C318>G318,C318<Table115[[#This Row],[LCL]]),1,0))","v":""},""]
[null,"",null,"","","","",null,0,"","","","","","","","","","","","",null,null,null,null,null,null,null,null,null,null,null,"",0,"","",0,"","",null,null,"",0,"","",0,"","",null,null,"",0,"","",0,"","",null,null,{"$f":"IF(C319=\"\",\"\",IF(OR(C319>G319,C319<Table115[[#This Row],[LCL]]),1,0))","v":""},""]
[null,"",null,"","","","",null,0,"","","","","","","","","","","","",null,null,null,null,null,null,null,null,null,null,null,"",0,"","",0,"","",null,null,"",0,"","",0,"","",null,null,"",0,"","",0,"","",null,null,{"$f":"IF(C320=\"\",\"\",IF(OR(C320>G320,C320<Table115[[#This Row],[LCL]]),1,0))","v":""},""]
[null,"",null,"","","","",null,0,"","","","","","","","","","","","",null,null,null,null,null,null,null,null,null,null,null,"",0,"","",0,"","",null,null,"",0,"","",0,"","",null,null,"",0,"","",0,"","",null,null,{"$f":"IF(C321=\"\",\"\",IF(OR(C321>G321,C321<Table115[[#This Row],[LCL]]),1,0))","v":""},""]
[null,"",null,"","","","",null,0,"","","","","","","","","","","","",null,null,null,null,null,null,null,null,null,null,null,"",0,"","",0,"","",null,null,"",0,"","",0,"","",null,null,"",0,"","",0,"","",null,null,{"$f":"IF(C322=\"\",\"\",IF(OR(C322>G322,C322<Table115[[#This Row],[LCL]]),1,0))","v":""},""]
[null,"",null,"","","","",null,0,"","","","","","","","","","","","",null,null,null,null,null,null,null,null,null,null,null,"",0,"","",0,"","",null,null,"",0,"","",0,"","",null,null,"",0,"","",0,"","",null,null,{"$f":"IF(C323=\"\",\"\",IF(OR(C323>G323,C323<Table115[[#This Row],[LCL]]),1,0))","v":""},""]
[null,"",null,"","","","",null,0,"","","","","","","","","","","","",null,null,null,null,null,null,null,null,null,null,null,"",0,"","",0,"","",null,null,"",0,"","",0,"","",null,null,"",0,"","",0,"","",null,null,{"$f":"IF(C324=\"\",\"\",IF(OR(C324>G324,C324<Table115[[#This Row],[LCL]]),1,0))","v":""},""]
[null,"",null,"","","","",null,0,"","","","","","","","","","","","",null,null,null,null,null,null,null,null,null,null,null,"",0,"","",0,"","",null,null,"",0,"","",0,"","",null,null,"",0,"","",0,"","",null,null,{"$f":"IF(C325=\"\",\"\",IF(OR(C325>G325,C325<Table115[[#This Row],[LCL]]),1,0))","v":""},""]
[null,"",null,"","","","",null,0,"","","","","","","","","","","","",null,null,null,null,null,null,null,null,null,null,null,"",0,"","",0,"","",null,null,"",0,"","",0,"","",null,null,"",0,"","",0,"","",null,null,{"$f":"IF(C326=\"\",\"\",IF(OR(C326>G326,C326<Table115[[#This Row],[LCL]]),1,0))","v":""},""]
[null,"",null,"","","","",null,0,"","","","","","","","","","","","",null,null,null,null,null,null,null,null,null,null,null,"",0,"","",0,"","",null,null,"",0,"","",0,"","",null,null,"",0,"","",0,"","",null,null,{"$f":"IF(C327=\"\",\"\",IF(OR(C327>G327,C327<Table115[[#This Row],[LCL]]),1,0))","v":""},""]
[null,"",null,"","","","",null,0,"","","","","","","","","","","","",null,null,null,null,null,null,null,null,null,null,null,"",0,"","",0,"","",null,null,"",0,"","",0,"","",null,null,"",0,"","",0,"","",null,null,{"$f":"IF(C328=\"\",\"\",IF(OR(C328>G328,C328<Table115[[#This Row],[LCL]]),1,0))","v":""},""]
[null,"",null,"","","","",null,0,"","","","","","","","","","","","",null,null,null,null,null,null,null,null,null,null,null,"",0,"","",0,"","",null,null,"",0,"","",0,"","",null,null,"",0,"","",0,"","",null,null,{"$f":"IF(C329=\"\",\"\",IF(OR(C329>G329,C329<Table115[[#This Row],[LCL]]),1,0))","v":""},""]
[null,"",null,"","","","",null,0,"","","","","","","","","","","","",null,null,null,null,null,null,null,null,null,null,null,"",0,"","",0,"","",null,null,"",0,"","",0,"","",null,null,"",0,"","",0,"","",null,null,{"$f":"IF(C330=\"\",\"\",IF(OR(C330>G330,C330<Table115[[#This Row],[LCL]]),1,0))","v":""},""]
[null,"",null,"","","","",null,0,"","","","","","","","","","","","",null,null,null,null,null,null,null,null,null,null,null,"",0,"","",0,"","",null,null,"",0,"","",0,"","",null,null,"",0,"","",0,"","",null,null,{"$f":"IF(C331=\"\",\"\",IF(OR(C331>G331,C331<Table115[[#This Row],[LCL]]),1,0))","v":""},""]
[null,"",null,"","","","",null,0,"","","","","","","","","","","","",null,null,null,null,null,null,null,null,null,null,null,"",0,"","",0,"","",null,null,"",0,"","",0,"","",null,null,"",0,"","",0,"","",null,null,{"$f":"IF(C332=\"\",\"\",IF(OR(C332>G332,C332<Table115[[#This Row],[LCL]]),1,0))","v":""},""]
[null,"",null,{"$f":"IF(C333=\"\",\"\",ABS(C333-C332))","v":""},"","",{"$f":"IF(C333=\"\",\"\",$F$6+(2.66*$F$7))","v":""},null,{"$f":"IF(B333>$F$8,0,1)","v":0},{"$f":"IF(G333=\"\",\"\",$F$6)","v":""},"","","","","","","",{"$f":"IF(C333=\"\",\"\",IF($F$6-(0.89*$F$7)<0, 0, $F$6-(0.89*$F$7)))","v":""},{"$f":"IF(C333=\"\",\"\",IF($F$6-(1.77*$F$7)<0,0,$F$6-(1.77*$F$7)))","v":""},{"$f":"IF(C333=\"\",\"\",$F$6+(0.89*$F$7))","v":""},{"$f":"IF(C333=\"\",\"\",$F$6+(1.77*$F$7))","v":""},null,null,null,null,null,null,null,null,null,null,null,"",0,"","",0,"","",null,null,"",0,"","",0,"","",null,null,"",0,"","",0,"","",null,null,{"$f":"IF(C333=\"\",\"\",IF(OR(C333>G333,C333<Table115[[#This Row],[LCL]]),1,0))","v":""},""]
[null,"",null,"",{"$f":"IF(C334=\"\",\"\",3.27*$F$7)","v":""},{"$f":"IF(C334=\"\",\"\",IF($F$6-(2.66*$F$7)<0, 0, $F$6-(2.66*$F$7)))","v":""},"",null,0,"",{"$f":"IF(G334=\"\",\"\",$F$7)","v":""},"","","","",{"$f":"IF(C334=\"\",\"\",(3.27*$F$7)*(1/3))","v":""},"","","","","",null,null,null,null,null,null,null,null,null,null,null,"",{"$f":"SUM(AG334:AG336)","v":0},{"$f":"IF(AH335=2,\"\",IF(AH334>=2,CONCATENATE(\"Data Point \",B334,\" to \",\"Data Point \",(B334+2)),\"\"))","v":""},"",{"$f":"SUM(AJ334:AJ336)","v":0},{"$f":"IF(AK335=2,\"\",IF(AK334>=2,CONCATENATE(\"Data Point \",B334,\" to \",\"Data Point \",(B334+2)),\"\"))","v":""},{"$f":"IF(AND(AI334<>\"\",AL334=\"\"),AI334,IF(AND(AI334=\"\",AL334<>\"\"),AL334,IF(AND(AI334<>\"\",AL334<>\"\"),AI334,\"\")))","v":""},null,null,{"$f":"IF(C334=\"\",\"\",IF(AND(C334>=T334,C334<G334),1,0))","v":""},{"$f":"SUM(AP334:AP338)","v":0},{"$f":"IF(AQ335=4,\"\",IF(AQ334>=4,CONCATENATE(\"Data Point \",B334,\" to \",\"Data Point \",(B334+4)),\"\"))","v":""},{"$f":"IF(C334=\"\",\"\",IF(AND(C334<=R334,C334>F334),1,0))","v":""},{"$f":"SUM(AS334:AS338)","v":0},{"$f":"IF(AT335=4,\"\",IF(AT334>=4,CONCATENATE(\"Data Point \",B334,\" to \",\"Data Point \",(B334+4)),\"\"))","v":""},{"$f":"IF(AND(AR334<>\"\",AU334=\"\"),AR334,IF(AND(AR334=\"\",AU334<>\"\"),AU334,IF(AND(AR334<>\"\",AU334<>\"\"),AR334,\"\")))","v":""},null,null,{"$f":"IF(C334=\"\",\"\",IF(AND(C334>=J334,C334<G334),1,0))","v":""},{"$f":"SUM(AY334:AY341)","v":0},{"$f":"IF(AZ334=8,CONCATENATE(\"Data Point \",B334,\" to \",\"Data Point \",(B334+8)),\"\")","v":""},{"$f":"IF(C334=\"\",\"\",IF(AND(C334<=J334,C334>F334),1,0))","v":""},{"$f":"SUM(BB334:BB341)","v":0},{"$f":"IF(BC334=8,CONCATENATE(\"Data Point \",B334,\" to \",\"Data Point \",(B334+8)),\"\")","v":""},{"$f":"IF(AND(BA334<>\"\",BD334=\"\"),BA334,IF(AND(BA334=\"\",BD334<>\"\"),BD334,IF(AND(BA334<>\"\",BD334<>\"\"),BA334,\"\")))","v":""},null,null,{"$f":"IF(C334=\"\",\"\",IF(OR(C334>G334,C334<Table115[[#This Row],[LCL]]),1,0))","v":""},{"$f":"IF(BH334=1,CONCATENATE(\"Data Point \",B334),\"\")","v":""}]
[null,{"$f":"IF(C335=\"\",\"\",B334+1)","v":""},null,"","","","",null,0,"","","",{"$f":"IF(C335=\"\",\"\",IF((3.27*$F$7)*(2/3)<0,0,(3.27*$F$7)*(2/3)))","v":""},{"$f":"IF(C335=\"\",\"\",IF((-3.27*$F$7)*(1/3)<0,0,(-3.27*$F$7)*(1/3)))","v":""},{"$f":"IF(C335=\"\",\"\",IF((-3.27*$F$7)*(2/3)<0,0,(-3.27*$F$7)*(2/3)))","v":""},"",{"$f":"IF(B335=\"\", \"\", 0)","v":""},"","","","",null,null,null,null,null,null,null,null,null,null,null,"",0,"","",0,"","",null,null,"",0,"","",0,"","",null,null,"",0,"","",0,"","",null,null,{"$f":"IF(C335=\"\",\"\",IF(OR(C335>G335,C335<Table115[[#This Row],[LCL]]),1,0))","v":""},""]
[null,"",null,"","","","",null,0,"","","","","","","","","","","","",null,null,null,null,null,null,null,null,null,null,null,"",0,"","",0,"","",null,null,"",0,"","",0,"","",null,null,"",0,"","",0,"","",null,null,{"$f":"IF(C336=\"\",\"\",IF(OR(C336>G336,C336<Table115[[#This Row],[LCL]]),1,0))","v":""},""]
[null,"",null,"","","","",null,0,"","","","","","","","","","","","",null,null,null,null,null,null,null,null,null,null,null,"",0,"","",0,"","",null,null,"",0,"","",0,"","",null,null,"",0,"","",0,"","",null,null,{"$f":"IF(C337=\"\",\"\",IF(OR(C337>G337,C337<Table115[[#This Row],[LCL]]),1,0))","v":""},""]
[null,"",null,"","","","",null,0,"","","","","","","","","","","","",null,null,null,null,null,null,null,null,null,null,null,"",0,"","",0,"","",null,null,"",0,"","",0,"","",null,null,"",0,"","",0,"","",null,null,{"$f":"IF(C338=\"\",\"\",IF(OR(C338>G338,C338<Table115[[#This Row],[LCL]]),1,0))","v":""},""]
[null,"",null,"","","","",null,0,"","","","","","","","","","","","",null,null,null,null,null,null,null,null,null,null,null,"",0,"","",0,"","",null,null,"",0,"","",0,"","",null,null,"",0,"","",0,"","",null,null,{"$f":"IF(C339=\"\",\"\",IF(OR(C339>G339,C339<Table115[[#This Row],[LCL]]),1,0))","v":""},""]
[null,"",null,"","","","",null,0,"","","","","","","","","","","","",null,null,null,null,null,null,null,null,null,null,null,"",0,"","",0,"","",null,null,"",0,"","",0,"","",null,null,"",0,"","",0,"","",null,null,{"$f":"IF(C340=\"\",\"\",IF(OR(C340>G340,C340<Table115[[#This Row],[LCL]]),1,0))","v":""},""]
[null,"",null,"","","","",null,0,"","",{"$f":"D341","v":""},"","","","","","","","","",null,null,null,null,null,null,null,null,null,null,null,"",0,"","",0,"","",null,null,"",0,"","",0,"","",null,null,"",0,"","",0,"","",null,null,{"$f":"IF(C341=\"\",\"\",IF(OR(C341>G341,C341<Table115[[#This Row],[LCL]]),1,0))","v":""},""]
[null,"",null,"","","","",null,0,"","","","","","","","","","","","",null,null,null,null,null,null,null,null,null,null,null,"",0,"","",0,"","",null,null,"",0,"","",0,"","",null,null,"",0,"","",0,"","",null,null,{"$f":"IF(C342=\"\",\"\",IF(OR(C342>G342,C342<Table115[[#This Row],[LCL]]),1,0))","v":""},""]
[null,"",null,"","","","",null,0,"","","","","","","","","","","","",null,null,null,null,null,null,null,null,null,null,null,"",0,"","",0,"","",null,null,"",0,"","",0,"","",null,null,"",0,"","",0,"","",null,null,{"$f":"IF(C343=\"\",\"\",IF(OR(C343>G343,C343<Table115[[#This Row],[LCL]]),1,0))","v":""},""]
[null,"",null,"","","","",null,0,"","","","","","","","","","","","",null,null,null,null,null,null,null,null,null,null,null,"",0,"","",0,"","",null,null,"",0,"","",0,"","",null,null,"",0,"","",0,"","",null,null,{"$f":"IF(C344=\"\",\"\",IF(OR(C344>G344,C344<Table115[[#This Row],[LCL]]),1,0))","v":""},""]
[null,"",null,"","","","",null,0,"","","","","","","","","","","","",null,null,null,null,null,null,null,null,null,null,null,"",0,"","",0,"","",null,null,"",0,"","",0,"","",null,null,"",0,"","",0,"","",null,null,{"$f":"IF(C345=\"\",\"\",IF(OR(C345>G345,C345<Table115[[#This Row],[LCL]]),1,0))","v":""},""]
[null,"",null,"","","","",null,0,"","","","","","","","","","","","",null,null,null,null,null,null,null,null,null,null,null,"",0,"","",0,"","",null,null,"",0,"","",0,"","",null,null,"",0,"","",0,"","",null,null,{"$f":"IF(C346=\"\",\"\",IF(OR(C346>G346,C346<Table115[[#This Row],[LCL]]),1,0))","v":""},""]
[null,"",null,"","","","",null,0,"","","","","","","","","","","","",null,null,null,null,null,null,null,null,null,null,null,"",0,"","",0,"","",null,null,"",0,"","",0,"","",null,null,"",0,"","",0,"","",null,null,{"$f":"IF(C347=\"\",\"\",IF(OR(C347>G347,C347<Table115[[#This Row],[LCL]]),1,0))","v":""},""]
[null,"",null,"","","","",null,0,"","","","","","","","","","","","",null,null,null,null,null,null,null,null,null,null,null,"",0,"","",0,"","",null,null,"",0,"","",0,"","",null,null,"",0,"","",0,"","",null,null,{"$f":"IF(C348=\"\",\"\",IF(OR(C348>G348,C348<Table115[[#This Row],[LCL]]),1,0))","v":""},""]
[null,"",null,"","","","",null,0,"","","","","","","","","","","","",null,null,null,null,null,null,null,null,null,null,null,"",0,"","",0,"","",null,null,"",0,"","",0,"","",null,null,"",0,"","",0,"","",null,null,{"$f":"IF(C349=\"\",\"\",IF(OR(C349>G349,C349<Table115[[#This Row],[LCL]]),1,0))","v":""},""]
[null,"",null,"","","","",null,0,"","","","","","","","","","","","",null,null,null,null,null,null,null,null,null,null,null,"",0,"","",0,"","",null,null,"",0,"","",0,"","",null,null,"",0,"","",0,"","",null,null,{"$f":"IF(C350=\"\",\"\",IF(OR(C350>G350,C350<Table115[[#This Row],[LCL]]),1,0))","v":""},""]
[null,"",null,"","","","",null,0,"","","","","","","","","","","","",null,null,null,null,null,null,null,null,null,null,null,"",0,"","",0,"","",null,null,"",0,"","",0,"","",null,null,"",0,"","",0,"","",null,null,{"$f":"IF(C351=\"\",\"\",IF(OR(C351>G351,C351<Table115[[#This Row],[LCL]]),1,0))","v":""},""]
[null,"",null,"","","","",null,0,"","","","","","","","","","","","",null,null,null,null,null,null,null,null,null,null,null,{"$f":"IF(C352=\"\",\"\",IF(AND(C352>=U352,C352<G352),1,0))","v":""},0,"",{"$f":"IF(C352=\"\",\"\",IF(AND(C352<=S352,C352>F352),1,0))","v":""},0,"","",null,null,"",0,"","",0,"","",null,null,"",0,"","",0,"","",null,null,{"$f":"IF(C352=\"\",\"\",IF(OR(C352>G352,C352<Table115[[#This Row],[LCL]]),1,0))","v":""},""]
[null,"",null,"","","","",null,0,"","","","","","","","","","","","",null,null,null,null,null,null,null,null,null,null,null,"",0,"","",0,"","",null,null,"",0,"","",0,"","",null,null,"",0,"","",0,"","",null,null,{"$f":"IF(C353=\"\",\"\",IF(OR(C353>G353,C353<Table115[[#This Row],[LCL]]),1,0))","v":""},""]
[null,"",null,"","","","",null,0,"","","","","","","","","","","","",null,null,null,null,null,null,null,null,null,null,null,"",0,"","",0,"","",null,null,"",0,"","",0,"","",null,null,"",0,"","",0,"","",null,null,{"$f":"IF(C354=\"\",\"\",IF(OR(C354>G354,C354<Table115[[#This Row],[LCL]]),1,0))","v":""},""]
[null,"",null,"","","","",null,0,"","","","","","","","","","","","",null,null,null,null,null,null,null,null,null,null,null,"",0,"","",0,"","",null,null,"",0,"","",0,"","",null,null,"",0,"","",0,"","",null,null,{"$f":"IF(C355=\"\",\"\",IF(OR(C355>G355,C355<Table115[[#This Row],[LCL]]),1,0))","v":""},""]
[null,"",null,"","","","",null,0,"","","","","","","","","","","","",null,null,null,null,null,null,null,null,null,null,null,"",0,"","",0,"","",null,null,"",0,"","",0,"","",null,null,"",0,"","",0,"","",null,null,{"$f":"IF(C356=\"\",\"\",IF(OR(C356>G356,C356<Table115[[#This Row],[LCL]]),1,0))","v":""},""]
[null,"",null,"","","","",null,0,"","","","","","","","","","","","",null,null,null,null,null,null,null,null,null,null,null,"",0,"","",0,"","",null,null,"",0,"","",0,"","",null,null,"",0,"","",0,"","",null,null,{"$f":"IF(C357=\"\",\"\",IF(OR(C357>G357,C357<Table115[[#This Row],[LCL]]),1,0))","v":""},""]
[null,"",null,"","","","",null,0,"","","","","","","","","","","","",null,null,null,null,null,null,null,null,null,null,null,"",0,"","",0,"","",null,null,"",0,"","",0,"","",null,null,"",0,"","",0,"","",null,null,{"$f":"IF(C358=\"\",\"\",IF(OR(C358>G358,C358<Table115[[#This Row],[LCL]]),1,0))","v":""},""]
[null,"",null,"","","","",null,0,"","","","","","","","","","","","",null,null,null,null,null,null,null,null,null,null,null,"",0,"","",0,"","",null,null,"",0,"","",0,"","",null,null,"",0,"","",0,"","",null,null,{"$f":"IF(C359=\"\",\"\",IF(OR(C359>G359,C359<Table115[[#This Row],[LCL]]),1,0))","v":""},""]
[null,"",null,"","","","",null,0,"","","","","","","","","","","","",null,null,null,null,null,null,null,null,null,null,null,"",0,"","",0,"","",null,null,"",0,"","",0,"","",null,null,"",0,"","",0,"","",null,null,{"$f":"IF(C360=\"\",\"\",IF(OR(C360>G360,C360<Table115[[#This Row],[LCL]]),1,0))","v":""},""]
[null,"",null,"","","","",null,0,"","","","","","","","","","","","",null,null,null,null,null,null,null,null,null,null,null,"",0,"","",0,"","",null,null,"",0,"","",0,"","",null,null,"",0,"","",0,"","",null,null,{"$f":"IF(C361=\"\",\"\",IF(OR(C361>G361,C361<Table115[[#This Row],[LCL]]),1,0))","v":""},""]
[null,"",null,"","","","",null,0,"","","","","","","","","","","","",null,null,null,null,null,null,null,null,null,null,null,"",0,"","",0,"","",null,null,"",0,"","",0,"","",null,null,"",0,"","",0,"","",null,null,{"$f":"IF(C362=\"\",\"\",IF(OR(C362>G362,C362<Table115[[#This Row],[LCL]]),1,0))","v":""},""]
[null,"",null,"","","","",null,0,"","","","","","","","","","","","",null,null,null,null,null,null,null,null,null,null,null,"",0,"","",0,"","",null,null,"",0,"","",0,"","",null,null,"",0,"","",0,"","",null,null,{"$f":"IF(C363=\"\",\"\",IF(OR(C363>G363,C363<Table115[[#This Row],[LCL]]),1,0))","v":""},""]
[null,"",null,"","","","",null,0,"","","","","","","","","","","","",null,null,null,null,null,null,null,null,null,null,null,"",0,"","",0,"","",null,null,"",0,"","",0,"","",null,null,"",0,"","",0,"","",null,null,{"$f":"IF(C364=\"\",\"\",IF(OR(C364>G364,C364<Table115[[#This Row],[LCL]]),1,0))","v":""},""]
[null,"",null,"","","","",null,0,"","","","","","","","","","","","",null,null,null,null,null,null,null,null,null,null,null,"",0,"","",0,"","",null,null,"",0,"","",0,"","",null,null,"",0,"","",0,"","",null,null,{"$f":"IF(C365=\"\",\"\",IF(OR(C365>G365,C365<Table115[[#This Row],[LCL]]),1,0))","v":""},""]
[null,"",null,"","","","",null,0,"","","","","","","","","","","","",null,null,null,null,null,null,null,null,null,null,null,"",0,"","",0,"","",null,null,"",0,"","",0,"","",null,null,"",0,"","",0,"","",null,null,{"$f":"IF(C366=\"\",\"\",IF(OR(C366>G366,C366<Table115[[#This Row],[LCL]]),1,0))","v":""},""]
[null,"",null,"","","","",null,0,"","","","","","","","","","","","",null,null,null,null,null,null,null,null,null,null,null,"",0,"","",0,"","",null,null,"",0,"","",0,"","",null,null,"",0,"","",0,"","",null,null,{"$f":"IF(C367=\"\",\"\",IF(OR(C367>G367,C367<Table115[[#This Row],[LCL]]),1,0))","v":""},""]
[null,"",null,"","","","",null,0,"","","","","","","","","","","","",null,null,null,null,null,null,null,null,null,null,null,"",0,"","",0,"","",null,null,"",0,"","",0,"","",null,null,"",0,"","",0,"","",null,null,{"$f":"IF(C368=\"\",\"\",IF(OR(C368>G368,C368<Table115[[#This Row],[LCL]]),1,0))","v":""},""]
[null,"",null,"","","","",null,0,"","","","","","","","","","","","",null,null,null,null,null,null,null,null,null,null,null,"",0,"","",0,"","",null,null,"",0,"","",0,"","",null,null,"",0,"","",0,"","",null,null,{"$f":"IF(C369=\"\",\"\",IF(OR(C369>G369,C369<Table115[[#This Row],[LCL]]),1,0))","v":""},""]
[null,"",null,"","","","",null,0,"","","","","","","","","","","","",null,null,null,null,null,null,null,null,null,null,null,"",0,"","",0,"","",null,null,"",0,"","",0,"","",null,null,"",0,"","",0,"","",null,null,{"$f":"IF(C370=\"\",\"\",IF(OR(C370>G370,C370<Table115[[#This Row],[LCL]]),1,0))","v":""},""]
[null,"",null,"","","","",null,0,"","","","","","","","","","","","",null,null,null,null,null,null,null,null,null,null,null,"",0,"","",0,"","",null,null,"",0,"","",0,"","",null,null,"",0,"","",0,"","",null,null,{"$f":"IF(C371=\"\",\"\",IF(OR(C371>G371,C371<Table115[[#This Row],[LCL]]),1,0))","v":""},""]
[null,"",null,"","","","",null,0,"","","","","","","","","","","","",null,null,null,null,null,null,null,null,null,null,null,"",0,"","",0,"","",null,null,"",0,"","",0,"","",null,null,"",0,"","",0,"","",null,null,{"$f":"IF(C372=\"\",\"\",IF(OR(C372>G372,C372<Table115[[#This Row],[LCL]]),1,0))","v":""},""]
[null,"",null,"","","","",null,0,"","","","","","","","","","","","",null,null,null,null,null,null,null,null,null,null,null,"",0,"","",0,"","",null,null,"",0,"","",0,"","",null,null,"",0,"","",0,"","",null,null,{"$f":"IF(C373=\"\",\"\",IF(OR(C373>G373,C373<Table115[[#This Row],[LCL]]),1,0))","v":""},""]
[null,"",null,"","","","",null,0,"","","","","","","","","","","","",null,null,null,null,null,null,null,null,null,null,null,"",0,"","",0,"","",null,null,"",0,"","",0,"","",null,null,"",0,"","",0,"","",null,null,{"$f":"IF(C374=\"\",\"\",IF(OR(C374>G374,C374<Table115[[#This Row],[LCL]]),1,0))","v":""},""]
[null,"",null,"","","","",null,0,"","","","","","","","","","","","",null,null,null,null,null,null,null,null,null,null,null,"",0,"","",0,"","",null,null,"",0,"","",0,"","",null,null,"",0,"","",0,"","",null,null,{"$f":"IF(C375=\"\",\"\",IF(OR(C375>G375,C375<Table115[[#This Row],[LCL]]),1,0))","v":""},""]
[null,"",null,"","","","",null,0,"","","","","","","","","","","","",null,null,null,null,null,null,null,null,null,null,null,"",0,"","",0,"","",null,null,"",0,"","",0,"","",null,null,"",0,"","",0,"","",null,null,{"$f":"IF(C376=\"\",\"\",IF(OR(C376>G376,C376<Table115[[#This Row],[LCL]]),1,0))","v":""},""]
[null,"",null,"","","","",null,0,"","","","","","","","","","","","",null,null,null,null,null,null,null,null,null,null,null,"",0,"","",0,"","",null,null,"",0,"","",0,"","",null,null,"",0,"","",0,"","",null,null,{"$f":"IF(C377=\"\",\"\",IF(OR(C377>G377,C377<Table115[[#This Row],[LCL]]),1,0))","v":""},""]
[null,"",null,"","","","",null,0,"","","","","","","","","","","","",null,null,null,null,null,null,null,null,null,null,null,"",0,"","",0,"","",null,null,"",0,"","",0,"","",null,null,"",0,"","",0,"","",null,null,{"$f":"IF(C378=\"\",\"\",IF(OR(C378>G378,C378<Table115[[#This Row],[LCL]]),1,0))","v":""},""]
[null,"",null,"","","","",null,0,"","","","","","","","","","","","",null,null,null,null,null,null,null,null,null,null,null,"",0,"","",0,"","",null,null,"",0,"","",0,"","",null,null,"",0,"","",0,"","",null,null,{"$f":"IF(C379=\"\",\"\",IF(OR(C379>G379,C379<Table115[[#This Row],[LCL]]),1,0))","v":""},""]
[null,"",null,"","","","",null,0,"","","","","","","","","","","","",null,null,null,null,null,null,null,null,null,null,null,"",0,"","",0,"","",null,null,"",0,"","",0,"","",null,null,"",0,"","",0,"","",null,null,{"$f":"IF(C380=\"\",\"\",IF(OR(C380>G380,C380<Table115[[#This Row],[LCL]]),1,0))","v":""},""]
[null,"",null,"","","","",null,0,"","","","","","","","","","","","",null,null,null,null,null,null,null,null,null,null,null,"",0,"","",0,"","",null,null,"",0,"","",0,"","",null,null,"",0,"","",0,"","",null,null,{"$f":"IF(C381=\"\",\"\",IF(OR(C381>G381,C381<Table115[[#This Row],[LCL]]),1,0))","v":""},""]
[null,"",null,"","","","",null,0,"","","","","","","","","","","","",null,null,null,null,null,null,null,null,null,null,null,"",0,"","",0,"","",null,null,"",0,"","",0,"","",null,null,"",0,"","",0,"","",null,null,{"$f":"IF(C382=\"\",\"\",IF(OR(C382>G382,C382<Table115[[#This Row],[LCL]]),1,0))","v":""},""]
[null,"",null,"","","","",null,0,"","","","","","","","","","","","",null,null,null,null,null,null,null,null,null,null,null,"",0,"","",0,"","",null,null,"",0,"","",0,"","",null,null,"",0,"","",0,"","",null,null,{"$f":"IF(C383=\"\",\"\",IF(OR(C383>G383,C383<Table115[[#This Row],[LCL]]),1,0))","v":""},""]
[null,"",null,"","","","",null,0,"","","","","","","","","","","","",null,null,null,null,null,null,null,null,null,null,null,"",0,"","",0,"","",null,null,"",0,"","",0,"","",null,null,"",0,"","",0,"","",null,null,{"$f":"IF(C384=\"\",\"\",IF(OR(C384>G384,C384<Table115[[#This Row],[LCL]]),1,0))","v":""},""]
[null,"",null,"","","","",null,0,"","","","","","","","","","","","",null,null,null,null,null,null,null,null,null,null,null,"",0,"","",0,"","",null,null,"",0,"","",0,"","",null,null,"",0,"","",0,"","",null,null,{"$f":"IF(C385=\"\",\"\",IF(OR(C385>G385,C385<Table115[[#This Row],[LCL]]),1,0))","v":""},""]
[null,"",null,"","","","",null,0,"","","","","","","","","","","","",null,null,null,null,null,null,null,null,null,null,null,"",0,"","",0,"","",null,null,"",0,"","",0,"","",null,null,"",0,"","",0,"","",null,null,{"$f":"IF(C386=\"\",\"\",IF(OR(C386>G386,C386<Table115[[#This Row],[LCL]]),1,0))","v":""},""]
[null,"",null,"","","","",null,0,"","","","","","","","","","","","",null,null,null,null,null,null,null,null,null,null,null,"",0,"","",0,"","",null,null,"",0,"","",0,"","",null,null,"",0,"","",0,"","",null,null,{"$f":"IF(C387=\"\",\"\",IF(OR(C387>G387,C387<Table115[[#This Row],[LCL]]),1,0))","v":""},""]
[null,"",null,"","","","",null,0,"","","","","","","","","","","","",null,null,null,null,null,null,null,null,null,null,null,"",0,"","",0,"","",null,null,"",0,"","",0,"","",null,null,"",0,"","",0,"","",null,null,{"$f":"IF(C388=\"\",\"\",IF(OR(C388>G388,C388<Table115[[#This Row],[LCL]]),1,0))","v":""},""]
[null,"",null,"","","","",null,0,"","","","","","","","","","","","",null,null,null,null,null,null,null,null,null,null,null,"",0,"","",0,"","",null,null,"",0,"","",0,"","",null,null,"",0,"","",0,"","",null,null,{"$f":"IF(C389=\"\",\"\",IF(OR(C389>G389,C389<Table115[[#This Row],[LCL]]),1,0))","v":""},""]
[null,"",null,"","","","",null,0,"","","","","","","","","","","","",null,null,null,null,null,null,null,null,null,null,null,"",0,"","",0,"","",null,null,"",0,"","",0,"","",null,null,"",0,"","",0,"","",null,null,{"$f":"IF(C390=\"\",\"\",IF(OR(C390>G390,C390<Table115[[#This Row],[LCL]]),1,0))","v":""},""]
[null,"",null,"","","","",null,0,"","","","","","","","","","","","",null,null,null,null,null,null,null,null,null,null,null,"",0,"","",0,"","",null,null,"",0,"","",0,"","",null,null,"",0,"","",0,"","",null,null,{"$f":"IF(C391=\"\",\"\",IF(OR(C391>G391,C391<Table115[[#This Row],[LCL]]),1,0))","v":""},""]
[null,"",null,"","","","",null,0,"","","","","","","","","","","","",null,null,null,null,null,null,null,null,null,null,null,"",0,"","",0,"","",null,null,"",0,"","",0,"","",null,null,"",0,"","",0,"","",null,null,{"$f":"IF(C392=\"\",\"\",IF(OR(C392>G392,C392<Table115[[#This Row],[LCL]]),1,0))","v":""},""]
[null,"",null,"","","","",null,0,"","","","","","","","","","","","",null,null,null,null,null,null,null,null,null,null,null,"",0,"","",0,"","",null,null,"",0,"","",0,"","",null,null,"",0,"","",0,"","",null,null,{"$f":"IF(C393=\"\",\"\",IF(OR(C393>G393,C393<Table115[[#This Row],[LCL]]),1,0))","v":""},""]
[null,"",null,"","","","",null,0,"","","","","","","","","","","","",null,null,null,null,null,null,null,null,null,null,null,"",0,"","",0,"","",null,null,"",0,"","",0,"","",null,null,"",0,"","",0,"","",null,null,{"$f":"IF(C394=\"\",\"\",IF(OR(C394>G394,C394<Table115[[#This Row],[LCL]]),1,0))","v":""},""]
[null,"",null,"","","","",null,0,"","","","","","","","","","","","",null,null,null,null,null,null,null,null,null,null,null,"",0,"","",0,"","",null,null,"",0,"","",0,"","",null,null,"",0,"","",0,"","",null,null,{"$f":"IF(C395=\"\",\"\",IF(OR(C395>G395,C395<Table115[[#This Row],[LCL]]),1,0))","v":""},""]
[null,"",null,"","","","",null,0,"","","","","","","","","","","","",null,null,null,null,null,null,null,null,null,null,null,"",0,"","",0,"","",null,null,"",0,"","",0,"","",null,null,"",0,"","",0,"","",null,null,{"$f":"IF(C396=\"\",\"\",IF(OR(C396>G396,C396<Table115[[#This Row],[LCL]]),1,0))","v":""},""]
[null,"",null,{"$f":"IF(C397=\"\",\"\",ABS(C397-C396))","v":""},"","",{"$f":"IF(C397=\"\",\"\",$F$6+(2.66*$F$7))","v":""},null,{"$f":"IF(B397>$F$8,0,1)","v":0},{"$f":"IF(G397=\"\",\"\",$F$6)","v":""},"","","","","","","",{"$f":"IF(C397=\"\",\"\",IF($F$6-(0.89*$F$7)<0, 0, $F$6-(0.89*$F$7)))","v":""},{"$f":"IF(C397=\"\",\"\",IF($F$6-(1.77*$F$7)<0,0,$F$6-(1.77*$F$7)))","v":""},{"$f":"IF(C397=\"\",\"\",$F$6+(0.89*$F$7))","v":""},{"$f":"IF(C397=\"\",\"\",$F$6+(1.77*$F$7))","v":""},null,null,null,null,null,null,null,null,null,null,null,"",0,"","",0,"","",null,null,"",0,"","",0,"","",null,null,"",0,"","",0,"","",null,null,{"$f":"IF(C397=\"\",\"\",IF(OR(C397>G397,C397<Table115[[#This Row],[LCL]]),1,0))","v":""},""]
[null,"",null,"",{"$f":"IF(C398=\"\",\"\",3.27*$F$7)","v":""},{"$f":"IF(C398=\"\",\"\",IF($F$6-(2.66*$F$7)<0, 0, $F$6-(2.66*$F$7)))","v":""},"",null,0,"",{"$f":"IF(G398=\"\",\"\",$F$7)","v":""},"","","","",{"$f":"IF(C398=\"\",\"\",(3.27*$F$7)*(1/3))","v":""},"","","","","",null,null,null,null,null,null,null,null,null,null,null,"",{"$f":"SUM(AG398:AG400)","v":0},{"$f":"IF(AH399=2,\"\",IF(AH398>=2,CONCATENATE(\"Data Point \",B398,\" to \",\"Data Point \",(B398+2)),\"\"))","v":""},"",{"$f":"SUM(AJ398:AJ400)","v":0},{"$f":"IF(AK399=2,\"\",IF(AK398>=2,CONCATENATE(\"Data Point \",B398,\" to \",\"Data Point \",(B398+2)),\"\"))","v":""},{"$f":"IF(AND(AI398<>\"\",AL398=\"\"),AI398,IF(AND(AI398=\"\",AL398<>\"\"),AL398,IF(AND(AI398<>\"\",AL398<>\"\"),AI398,\"\")))","v":""},null,null,{"$f":"IF(C398=\"\",\"\",IF(AND(C398>=T398,C398<G398),1,0))","v":""},{"$f":"SUM(AP398:AP402)","v":0},{"$f":"IF(AQ399=4,\"\",IF(AQ398>=4,CONCATENATE(\"Data Point \",B398,\" to \",\"Data Point \",(B398+4)),\"\"))","v":""},{"$f":"IF(C398=\"\",\"\",IF(AND(C398<=R398,C398>F398),1,0))","v":""},{"$f":"SUM(AS398:AS402)","v":0},{"$f":"IF(AT399=4,\"\",IF(AT398>=4,CONCATENATE(\"Data Point \",B398,\" to \",\"Data Point \",(B398+4)),\"\"))","v":""},{"$f":"IF(AND(AR398<>\"\",AU398=\"\"),AR398,IF(AND(AR398=\"\",AU398<>\"\"),AU398,IF(AND(AR398<>\"\",AU398<>\"\"),AR398,\"\")))","v":""},null,null,{"$f":"IF(C398=\"\",\"\",IF(AND(C398>=J398,C398<G398),1,0))","v":""},{"$f":"SUM(AY398:AY405)","v":0},{"$f":"IF(AZ398=8,CONCATENATE(\"Data Point \",B398,\" to \",\"Data Point \",(B398+8)),\"\")","v":""},{"$f":"IF(C398=\"\",\"\",IF(AND(C398<=J398,C398>F398),1,0))","v":""},{"$f":"SUM(BB398:BB405)","v":0},{"$f":"IF(BC398=8,CONCATENATE(\"Data Point \",B398,\" to \",\"Data Point \",(B398+8)),\"\")","v":""},{"$f":"IF(AND(BA398<>\"\",BD398=\"\"),BA398,IF(AND(BA398=\"\",BD398<>\"\"),BD398,IF(AND(BA398<>\"\",BD398<>\"\"),BA398,\"\")))","v":""},null,null,{"$f":"IF(C398=\"\",\"\",IF(OR(C398>G398,C398<Table115[[#This Row],[LCL]]),1,0))","v":""},{"$f":"IF(BH398=1,CONCATENATE(\"Data Point \",B398),\"\")","v":""}]
[null,{"$f":"IF(C399=\"\",\"\",B398+1)","v":""},null,"","","","",null,0,"","","",{"$f":"IF(C399=\"\",\"\",IF((3.27*$F$7)*(2/3)<0,0,(3.27*$F$7)*(2/3)))","v":""},{"$f":"IF(C399=\"\",\"\",IF((-3.27*$F$7)*(1/3)<0,0,(-3.27*$F$7)*(1/3)))","v":""},{"$f":"IF(C399=\"\",\"\",IF((-3.27*$F$7)*(2/3)<0,0,(-3.27*$F$7)*(2/3)))","v":""},"",{"$f":"IF(B399=\"\", \"\", 0)","v":""},"","","","",null,null,null,null,null,null,null,null,null,null,null,"",0,"","",0,"","",null,null,"",0,"","",0,"","",null,null,"",0,"","",0,"","",null,null,{"$f":"IF(C399=\"\",\"\",IF(OR(C399>G399,C399<Table115[[#This Row],[LCL]]),1,0))","v":""},""]
[null,"",null,"","","","",null,0,"","","","","","","","","","","","",null,null,null,null,null,null,null,null,null,null,null,"",0,"","",0,"","",null,null,"",0,"","",0,"","",null,null,"",0,"","",0,"","",null,null,{"$f":"IF(C400=\"\",\"\",IF(OR(C400>G400,C400<Table115[[#This Row],[LCL]]),1,0))","v":""},""]
[null,"",null,"","","","",null,0,"","","","","","","","","","","","",null,null,null,null,null,null,null,null,null,null,null,"",0,"","",0,"","",null,null,"",0,"","",0,"","",null,null,"",0,"","",0,"","",null,null,{"$f":"IF(C401=\"\",\"\",IF(OR(C401>G401,C401<Table115[[#This Row],[LCL]]),1,0))","v":""},""]
[null,"",null,"","","","",null,0,"","","","","","","","","","","","",null,null,null,null,null,null,null,null,null,null,null,"",0,"","",0,"","",null,null,"",0,"","",0,"","",null,null,"",0,"","",0,"","",null,null,{"$f":"IF(C402=\"\",\"\",IF(OR(C402>G402,C402<Table115[[#This Row],[LCL]]),1,0))","v":""},""]
[null,"",null,"","","","",null,0,"","","","","","","","","","","","",null,null,null,null,null,null,null,null,null,null,null,"",0,"","",0,"","",null,null,"",0,"","",0,"","",null,null,"",0,"","",0,"","",null,null,{"$f":"IF(C403=\"\",\"\",IF(OR(C403>G403,C403<Table115[[#This Row],[LCL]]),1,0))","v":""},""]
[null,"",null,"","","","",null,0,"","","","","","","","","","","","",null,null,null,null,null,null,null,null,null,null,null,"",0,"","",0,"","",null,null,"",0,"","",0,"","",null,null,"",0,"","",0,"","",null,null,{"$f":"IF(C404=\"\",\"\",IF(OR(C404>G404,C404<Table115[[#This Row],[LCL]]),1,0))","v":""},""]
[null,"",null,"","","","",null,0,"","",{"$f":"D405","v":""},"","","","","","","","","",null,null,null,null,null,null,null,null,null,null,null,"",0,"","",0,"","",null,null,"",0,"","",0,"","",null,null,"",0,"","",0,"","",null,null,{"$f":"IF(C405=\"\",\"\",IF(OR(C405>G405,C405<Table115[[#This Row],[LCL]]),1,0))","v":""},""]
[null,"",null,"","","","",null,0,"","","","","","","","","","","","",null,null,null,null,null,null,null,null,null,null,null,"",0,"","",0,"","",null,null,"",0,"","",0,"","",null,null,"",0,"","",0,"","",null,null,{"$f":"IF(C406=\"\",\"\",IF(OR(C406>G406,C406<Table115[[#This Row],[LCL]]),1,0))","v":""},""]
[null,"",null,"","","","",null,0,"","","","","","","","","","","","",null,null,null,null,null,null,null,null,null,null,null,"",0,"","",0,"","",null,null,"",0,"","",0,"","",null,null,"",0,"","",0,"","",null,null,{"$f":"IF(C407=\"\",\"\",IF(OR(C407>G407,C407<Table115[[#This Row],[LCL]]),1,0))","v":""},""]
[null,"",null,"","","","",null,0,"","","","","","","","","","","","",null,null,null,null,null,null,null,null,null,null,null,"",0,"","",0,"","",null,null,"",0,"","",0,"","",null,null,"",0,"","",0,"","",null,null,{"$f":"IF(C408=\"\",\"\",IF(OR(C408>G408,C408<Table115[[#This Row],[LCL]]),1,0))","v":""},""]
[null,"",null,"","","","",null,0,"","","","","","","","","","","","",null,null,null,null,null,null,null,null,null,null,null,"",0,"","",0,"","",null,null,"",0,"","",0,"","",null,null,"",0,"","",0,"","",null,null,{"$f":"IF(C409=\"\",\"\",IF(OR(C409>G409,C409<Table115[[#This Row],[LCL]]),1,0))","v":""},""]
[null,"",null,"","","","",null,0,"","","","","","","","","","","","",null,null,null,null,null,null,null,null,null,null,null,"",0,"","",0,"","",null,null,"",0,"","",0,"","",null,null,"",0,"","",0,"","",null,null,{"$f":"IF(C410=\"\",\"\",IF(OR(C410>G410,C410<Table115[[#This Row],[LCL]]),1,0))","v":""},""]
[null,"",null,"","","","",null,0,"","","","","","","","","","","","",null,null,null,null,null,null,null,null,null,null,null,"",0,"","",0,"","",null,null,"",0,"","",0,"","",null,null,"",0,"","",0,"","",null,null,{"$f":"IF(C411=\"\",\"\",IF(OR(C411>G411,C411<Table115[[#This Row],[LCL]]),1,0))","v":""},""]
[null,"",null,"","","","",null,0,"","","","","","","","","","","","",null,null,null,null,null,null,null,null,null,null,null,"",0,"","",0,"","",null,null,"",0,"","",0,"","",null,null,"",0,"","",0,"","",null,null,{"$f":"IF(C412=\"\",\"\",IF(OR(C412>G412,C412<Table115[[#This Row],[LCL]]),1,0))","v":""},""]
[null,"",null,"","","","",null,0,"","","","","","","","","","","","",null,null,null,null,null,null,null,null,null,null,null,"",0,"","",0,"","",null,null,"",0,"","",0,"","",null,null,"",0,"","",0,"","",null,null,{"$f":"IF(C413=\"\",\"\",IF(OR(C413>G413,C413<Table115[[#This Row],[LCL]]),1,0))","v":""},""]
[null,"",null,"","","","",null,0,"","","","","","","","","","","","",null,null,null,null,null,null,null,null,null,null,null,"",0,"","",0,"","",null,null,"",0,"","",0,"","",null,null,"",0,"","",0,"","",null,null,{"$f":"IF(C414=\"\",\"\",IF(OR(C414>G414,C414<Table115[[#This Row],[LCL]]),1,0))","v":""},""]
[null,"",null,"","","","",null,0,"","","","","","","","","","","","",null,null,null,null,null,null,null,null,null,null,null,"",0,"","",0,"","",null,null,"",0,"","",0,"","",null,null,"",0,"","",0,"","",null,null,{"$f":"IF(C415=\"\",\"\",IF(OR(C415>G415,C415<Table115[[#This Row],[LCL]]),1,0))","v":""},""]
[null,"",null,"","","","",null,0,"","","","","","","","","","","","",null,null,null,null,null,null,null,null,null,null,null,{"$f":"IF(C416=\"\",\"\",IF(AND(C416>=U416,C416<G416),1,0))","v":""},0,"",{"$f":"IF(C416=\"\",\"\",IF(AND(C416<=S416,C416>F416),1,0))","v":""},0,"","",null,null,"",0,"","",0,"","",null,null,"",0,"","",0,"","",null,null,{"$f":"IF(C416=\"\",\"\",IF(OR(C416>G416,C416<Table115[[#This Row],[LCL]]),1,0))","v":""},""]
[null,"",null,"","","","",null,0,"","","","","","","","","","","","",null,null,null,null,null,null,null,null,null,null,null,"",0,"","",0,"","",null,null,"",0,"","",0,"","",null,null,"",0,"","",0,"","",null,null,{"$f":"IF(C417=\"\",\"\",IF(OR(C417>G417,C417<Table115[[#This Row],[LCL]]),1,0))","v":""},""]
[null,"",null,"","","","",null,0,"","","","","","","","","","","","",null,null,null,null,null,null,null,null,null,null,null,"",0,"","",0,"","",null,null,"",0,"","",0,"","",null,null,"",0,"","",0,"","",null,null,{"$f":"IF(C418=\"\",\"\",IF(OR(C418>G418,C418<Table115[[#This Row],[LCL]]),1,0))","v":""},""]
[null,"",null,"","","","",null,0,"","","","","","","","","","","","",null,null,null,null,null,null,null,null,null,null,null,"",0,"","",0,"","",null,null,"",0,"","",0,"","",null,null,"",0,"","",0,"","",null,null,{"$f":"IF(C419=\"\",\"\",IF(OR(C419>G419,C419<Table115[[#This Row],[LCL]]),1,0))","v":""},""]
[null,"",null,"","","","",null,0,"","","","","","","","","","","","",null,null,null,null,null,null,null,null,null,null,null,"",0,"","",0,"","",null,null,"",0,"","",0,"","",null,null,"",0,"","",0,"","",null,null,{"$f":"IF(C420=\"\",\"\",IF(OR(C420>G420,C420<Table115[[#This Row],[LCL]]),1,0))","v":""},""]
[null,"",null,"","","","",null,0,"","","","","","","","","","","","",null,null,null,null,null,null,null,null,null,null,null,"",0,"","",0,"","",null,null,"",0,"","",0,"","",null,null,"",0,"","",0,"","",null,null,{"$f":"IF(C421=\"\",\"\",IF(OR(C421>G421,C421<Table115[[#This Row],[LCL]]),1,0))","v":""},""]
[null,"",null,"","","","",null,0,"","","","","","","","","","","","",null,null,null,null,null,null,null,null,null,null,null,"",0,"","",0,"","",null,null,"",0,"","",0,"","",null,null,"",0,"","",0,"","",null,null,{"$f":"IF(C422=\"\",\"\",IF(OR(C422>G422,C422<Table115[[#This Row],[LCL]]),1,0))","v":""},""]
[null,"",null,"","","","",null,0,"","","","","","","","","","","","",null,null,null,null,null,null,null,null,null,null,null,"",0,"","",0,"","",null,null,"",0,"","",0,"","",null,null,"",0,"","",0,"","",null,null,{"$f":"IF(C423=\"\",\"\",IF(OR(C423>G423,C423<Table115[[#This Row],[LCL]]),1,0))","v":""},""]
[null,"",null,"","","","",null,0,"","","","","","","","","","","","",null,null,null,null,null,null,null,null,null,null,null,"",0,"","",0,"","",null,null,"",0,"","",0,"","",null,null,"",0,"","",0,"","",null,null,{"$f":"IF(C424=\"\",\"\",IF(OR(C424>G424,C424<Table115[[#This Row],[LCL]]),1,0))","v":""},""]
[null,"",null,"","","","",null,0,"","","","","","","","","","","","",null,null,null,null,null,null,null,null,null,null,null,"",0,"","",0,"","",null,null,"",0,"","",0,"","",null,null,"",0,"","",0,"","",null,null,{"$f":"IF(C425=\"\",\"\",IF(OR(C425>G425,C425<Table115[[#This Row],[LCL]]),1,0))","v":""},""]
[null,"",null,"","","","",null,0,"","","","","","","","","","","","",null,null,null,null,null,null,null,null,null,null,null,"",0,"","",0,"","",null,null,"",0,"","",0,"","",null,null,"",0,"","",0,"","",null,null,{"$f":"IF(C426=\"\",\"\",IF(OR(C426>G426,C426<Table115[[#This Row],[LCL]]),1,0))","v":""},""]
[null,"",null,"","","","",null,0,"","","","","","","","","","","","",null,null,null,null,null,null,null,null,null,null,null,"",0,"","",0,"","",null,null,"",0,"","",0,"","",null,null,"",0,"","",0,"","",null,null,{"$f":"IF(C427=\"\",\"\",IF(OR(C427>G427,C427<Table115[[#This Row],[LCL]]),1,0))","v":""},""]
[null,"",null,"","","","",null,0,"","","","","","","","","","","","",null,null,null,null,null,null,null,null,null,null,null,"",0,"","",0,"","",null,null,"",0,"","",0,"","",null,null,"",0,"","",0,"","",null,null,{"$f":"IF(C428=\"\",\"\",IF(OR(C428>G428,C428<Table115[[#This Row],[LCL]]),1,0))","v":""},""]
[null,"",null,"","","","",null,0,"","","","","","","","","","","","",null,null,null,null,null,null,null,null,null,null,null,"",0,"","",0,"","",null,null,"",0,"","",0,"","",null,null,"",0,"","",0,"","",null,null,{"$f":"IF(C429=\"\",\"\",IF(OR(C429>G429,C429<Table115[[#This Row],[LCL]]),1,0))","v":""},""]
[null,"",null,"","","","",null,0,"","","","","","","","","","","","",null,null,null,null,null,null,null,null,null,null,null,"",0,"","",0,"","",null,null,"",0,"","",0,"","",null,null,"",0,"","",0,"","",null,null,{"$f":"IF(C430=\"\",\"\",IF(OR(C430>G430,C430<Table115[[#This Row],[LCL]]),1,0))","v":""},""]
[null,"",null,"","","","",null,0,"","","","","","","","","","","","",null,null,null,null,null,null,null,null,null,null,null,"",0,"","",0,"","",null,null,"",0,"","",0,"","",null,null,"",0,"","",0,"","",null,null,{"$f":"IF(C431=\"\",\"\",IF(OR(C431>G431,C431<Table115[[#This Row],[LCL]]),1,0))","v":""},""]
[null,"",null,"","","","",null,0,"","","","","","","","","","","","",null,null,null,null,null,null,null,null,null,null,null,"",0,"","",0,"","",null,null,"",0,"","",0,"","",null,null,"",0,"","",0,"","",null,null,{"$f":"IF(C432=\"\",\"\",IF(OR(C432>G432,C432<Table115[[#This Row],[LCL]]),1,0))","v":""},""]
[null,"",null,"","","","",null,0,"","","","","","","","","","","","",null,null,null,null,null,null,null,null,null,null,null,"",0,"","",0,"","",null,null,"",0,"","",0,"","",null,null,"",0,"","",0,"","",null,null,{"$f":"IF(C433=\"\",\"\",IF(OR(C433>G433,C433<Table115[[#This Row],[LCL]]),1,0))","v":""},""]
[null,"",null,"","","","",null,0,"","","","","","","","","","","","",null,null,null,null,null,null,null,null,null,null,null,"",0,"","",0,"","",null,null,"",0,"","",0,"","",null,null,"",0,"","",0,"","",null,null,{"$f":"IF(C434=\"\",\"\",IF(OR(C434>G434,C434<Table115[[#This Row],[LCL]]),1,0))","v":""},""]
[null,"",null,"","","","",null,0,"","","","","","","","","","","","",null,null,null,null,null,null,null,null,null,null,null,"",0,"","",0,"","",null,null,"",0,"","",0,"","",null,null,"",0,"","",0,"","",null,null,{"$f":"IF(C435=\"\",\"\",IF(OR(C435>G435,C435<Table115[[#This Row],[LCL]]),1,0))","v":""},""]
[null,"",null,"","","","",null,0,"","","","","","","","","","","","",null,null,null,null,null,null,null,null,null,null,null,"",0,"","",0,"","",null,null,"",0,"","",0,"","",null,null,"",0,"","",0,"","",null,null,{"$f":"IF(C436=\"\",\"\",IF(OR(C436>G436,C436<Table115[[#This Row],[LCL]]),1,0))","v":""},""]
[null,"",null,"","","","",null,0,"","","","","","","","","","","","",null,null,null,null,null,null,null,null,null,null,null,"",0,"","",0,"","",null,null,"",0,"","",0,"","",null,null,"",0,"","",0,"","",null,null,{"$f":"IF(C437=\"\",\"\",IF(OR(C437>G437,C437<Table115[[#This Row],[LCL]]),1,0))","v":""},""]
[null,"",null,"","","","",null,0,"","","","","","","","","","","","",null,null,null,null,null,null,null,null,null,null,null,"",0,"","",0,"","",null,null,"",0,"","",0,"","",null,null,"",0,"","",0,"","",null,null,{"$f":"IF(C438=\"\",\"\",IF(OR(C438>G438,C438<Table115[[#This Row],[LCL]]),1,0))","v":""},""]
[null,"",null,"","","","",null,0,"","","","","","","","","","","","",null,null,null,null,null,null,null,null,null,null,null,"",0,"","",0,"","",null,null,"",0,"","",0,"","",null,null,"",0,"","",0,"","",null,null,{"$f":"IF(C439=\"\",\"\",IF(OR(C439>G439,C439<Table115[[#This Row],[LCL]]),1,0))","v":""},""]
[null,"",null,"","","","",null,0,"","","","","","","","","","","","",null,null,null,null,null,null,null,null,null,null,null,"",0,"","",0,"","",null,null,"",0,"","",0,"","",null,null,"",0,"","",0,"","",null,null,{"$f":"IF(C440=\"\",\"\",IF(OR(C440>G440,C440<Table115[[#This Row],[LCL]]),1,0))","v":""},""]
[null,"",null,"","","","",null,0,"","","","","","","","","","","","",null,null,null,null,null,null,null,null,null,null,null,"",0,"","",0,"","",null,null,"",0,"","",0,"","",null,null,"",0,"","",0,"","",null,null,{"$f":"IF(C441=\"\",\"\",IF(OR(C441>G441,C441<Table115[[#This Row],[LCL]]),1,0))","v":""},""]
[null,"",null,"","","","",null,0,"","","","","","","","","","","","",null,null,null,null,null,null,null,null,null,null,null,"",0,"","",0,"","",null,null,"",0,"","",0,"","",null,null,"",0,"","",0,"","",null,null,{"$f":"IF(C442=\"\",\"\",IF(OR(C442>G442,C442<Table115[[#This Row],[LCL]]),1,0))","v":""},""]
[null,"",null,"","","","",null,0,"","","","","","","","","","","","",null,null,null,null,null,null,null,null,null,null,null,"",0,"","",0,"","",null,null,"",0,"","",0,"","",null,null,"",0,"","",0,"","",null,null,{"$f":"IF(C443=\"\",\"\",IF(OR(C443>G443,C443<Table115[[#This Row],[LCL]]),1,0))","v":""},""]
[null,"",null,"","","","",null,0,"","","","","","","","","","","","",null,null,null,null,null,null,null,null,null,null,null,"",0,"","",0,"","",null,null,"",0,"","",0,"","",null,null,"",0,"","",0,"","",null,null,{"$f":"IF(C444=\"\",\"\",IF(OR(C444>G444,C444<Table115[[#This Row],[LCL]]),1,0))","v":""},""]
[null,"",null,"","","","",null,0,"","","","","","","","","","","","",null,null,null,null,null,null,null,null,null,null,null,"",0,"","",0,"","",null,null,"",0,"","",0,"","",null,null,"",0,"","",0,"","",null,null,{"$f":"IF(C445=\"\",\"\",IF(OR(C445>G445,C445<Table115[[#This Row],[LCL]]),1,0))","v":""},""]
[null,"",null,"","","","",null,0,"","","","","","","","","","","","",null,null,null,null,null,null,null,null,null,null,null,"",0,"","",0,"","",null,null,"",0,"","",0,"","",null,null,"",0,"","",0,"","",null,null,{"$f":"IF(C446=\"\",\"\",IF(OR(C446>G446,C446<Table115[[#This Row],[LCL]]),1,0))","v":""},""]
[null,"",null,"","","","",null,0,"","","","","","","","","","","","",null,null,null,null,null,null,null,null,null,null,null,"",0,"","",0,"","",null,null,"",0,"","",0,"","",null,null,"",0,"","",0,"","",null,null,{"$f":"IF(C447=\"\",\"\",IF(OR(C447>G447,C447<Table115[[#This Row],[LCL]]),1,0))","v":""},""]
[null,"",null,"","","","",null,0,"","","","","","","","","","","","",null,null,null,null,null,null,null,null,null,null,null,"",0,"","",0,"","",null,null,"",0,"","",0,"","",null,null,"",0,"","",0,"","",null,null,{"$f":"IF(C448=\"\",\"\",IF(OR(C448>G448,C448<Table115[[#This Row],[LCL]]),1,0))","v":""},""]
[null,"",null,"","","","",null,0,"","","","","","","","","","","","",null,null,null,null,null,null,null,null,null,null,null,"",0,"","",0,"","",null,null,"",0,"","",0,"","",null,null,"",0,"","",0,"","",null,null,{"$f":"IF(C449=\"\",\"\",IF(OR(C449>G449,C449<Table115[[#This Row],[LCL]]),1,0))","v":""},""]
[null,"",null,"","","","",null,0,"","","","","","","","","","","","",null,null,null,null,null,null,null,null,null,null,null,"",0,"","",0,"","",null,null,"",0,"","",0,"","",null,null,"",0,"","",0,"","",null,null,{"$f":"IF(C450=\"\",\"\",IF(OR(C450>G450,C450<Table115[[#This Row],[LCL]]),1,0))","v":""},""]
[null,"",null,"","","","",null,0,"","","","","","","","","","","","",null,null,null,null,null,null,null,null,null,null,null,"",0,"","",0,"","",null,null,"",0,"","",0,"","",null,null,"",0,"","",0,"","",null,null,{"$f":"IF(C451=\"\",\"\",IF(OR(C451>G451,C451<Table115[[#This Row],[LCL]]),1,0))","v":""},""]
[null,"",null,"","","","",null,0,"","","","","","","","","","","","",null,null,null,null,null,null,null,null,null,null,null,"",0,"","",0,"","",null,null,"",0,"","",0,"","",null,null,"",0,"","",0,"","",null,null,{"$f":"IF(C452=\"\",\"\",IF(OR(C452>G452,C452<Table115[[#This Row],[LCL]]),1,0))","v":""},""]
[null,"",null,"","","","",null,0,"","","","","","","","","","","","",null,null,null,null,null,null,null,null,null,null,null,"",0,"","",0,"","",null,null,"",0,"","",0,"","",null,null,"",0,"","",0,"","",null,null,{"$f":"IF(C453=\"\",\"\",IF(OR(C453>G453,C453<Table115[[#This Row],[LCL]]),1,0))","v":""},""]
[null,"",null,"","","","",null,0,"","","","","","","","","","","","",null,null,null,null,null,null,null,null,null,null,null,"",0,"","",0,"","",null,null,"",0,"","",0,"","",null,null,"",0,"","",0,"","",null,null,{"$f":"IF(C454=\"\",\"\",IF(OR(C454>G454,C454<Table115[[#This Row],[LCL]]),1,0))","v":""},""]
[null,"",null,"","","","",null,0,"","","","","","","","","","","","",null,null,null,null,null,null,null,null,null,null,null,"",0,"","",0,"","",null,null,"",0,"","",0,"","",null,null,"",0,"","",0,"","",null,null,{"$f":"IF(C455=\"\",\"\",IF(OR(C455>G455,C455<Table115[[#This Row],[LCL]]),1,0))","v":""},""]
[null,"",null,"","","","",null,0,"","","","","","","","","","","","",null,null,null,null,null,null,null,null,null,null,null,"",0,"","",0,"","",null,null,"",0,"","",0,"","",null,null,"",0,"","",0,"","",null,null,{"$f":"IF(C456=\"\",\"\",IF(OR(C456>G456,C456<Table115[[#This Row],[LCL]]),1,0))","v":""},""]
[null,"",null,"","","","",null,0,"","","","","","","","","","","","",null,null,null,null,null,null,null,null,null,null,null,"",0,"","",0,"","",null,null,"",0,"","",0,"","",null,null,"",0,"","",0,"","",null,null,{"$f":"IF(C457=\"\",\"\",IF(OR(C457>G457,C457<Table115[[#This Row],[LCL]]),1,0))","v":""},""]
[null,"",null,"","","","",null,0,"","","","","","","","","","","","",null,null,null,null,null,null,null,null,null,null,null,"",0,"","",0,"","",null,null,"",0,"","",0,"","",null,null,"",0,"","",0,"","",null,null,{"$f":"IF(C458=\"\",\"\",IF(OR(C458>G458,C458<Table115[[#This Row],[LCL]]),1,0))","v":""},""]
[null,"",null,"","","","",null,0,"","","","","","","","","","","","",null,null,null,null,null,null,null,null,null,null,null,"",0,"","",0,"","",null,null,"",0,"","",0,"","",null,null,"",0,"","",0,"","",null,null,{"$f":"IF(C459=\"\",\"\",IF(OR(C459>G459,C459<Table115[[#This Row],[LCL]]),1,0))","v":""},""]
[null,"",null,"","","","",null,0,"","","","","","","","","","","","",null,null,null,null,null,null,null,null,null,null,null,"",0,"","",0,"","",null,null,"",0,"","",0,"","",null,null,"",0,"","",0,"","",null,null,{"$f":"IF(C460=\"\",\"\",IF(OR(C460>G460,C460<Table115[[#This Row],[LCL]]),1,0))","v":""},""]
[null,"",null,{"$f":"IF(C461=\"\",\"\",ABS(C461-C460))","v":""},"","",{"$f":"IF(C461=\"\",\"\",$F$6+(2.66*$F$7))","v":""},null,{"$f":"IF(B461>$F$8,0,1)","v":0},{"$f":"IF(G461=\"\",\"\",$F$6)","v":""},"","","","","","","",{"$f":"IF(C461=\"\",\"\",IF($F$6-(0.89*$F$7)<0, 0, $F$6-(0.89*$F$7)))","v":""},{"$f":"IF(C461=\"\",\"\",IF($F$6-(1.77*$F$7)<0,0,$F$6-(1.77*$F$7)))","v":""},{"$f":"IF(C461=\"\",\"\",$F$6+(0.89*$F$7))","v":""},{"$f":"IF(C461=\"\",\"\",$F$6+(1.77*$F$7))","v":""},null,null,null,null,null,null,null,null,null,null,null,"",0,"","",0,"","",null,null,"",0,"","",0,"","",null,null,"",0,"","",0,"","",null,null,{"$f":"IF(C461=\"\",\"\",IF(OR(C461>G461,C461<Table115[[#This Row],[LCL]]),1,0))","v":""},""]
[null,"",null,"",{"$f":"IF(C462=\"\",\"\",3.27*$F$7)","v":""},{"$f":"IF(C462=\"\",\"\",IF($F$6-(2.66*$F$7)<0, 0, $F$6-(2.66*$F$7)))","v":""},"",null,0,"",{"$f":"IF(G462=\"\",\"\",$F$7)","v":""},"","","","",{"$f":"IF(C462=\"\",\"\",(3.27*$F$7)*(1/3))","v":""},"","","","","",null,null,null,null,null,null,null,null,null,null,null,"",{"$f":"SUM(AG462:AG464)","v":0},{"$f":"IF(AH463=2,\"\",IF(AH462>=2,CONCATENATE(\"Data Point \",B462,\" to \",\"Data Point \",(B462+2)),\"\"))","v":""},"",{"$f":"SUM(AJ462:AJ464)","v":0},{"$f":"IF(AK463=2,\"\",IF(AK462>=2,CONCATENATE(\"Data Point \",B462,\" to \",\"Data Point \",(B462+2)),\"\"))","v":""},{"$f":"IF(AND(AI462<>\"\",AL462=\"\"),AI462,IF(AND(AI462=\"\",AL462<>\"\"),AL462,IF(AND(AI462<>\"\",AL462<>\"\"),AI462,\"\")))","v":""},null,null,{"$f":"IF(C462=\"\",\"\",IF(AND(C462>=T462,C462<G462),1,0))","v":""},{"$f":"SUM(AP462:AP466)","v":0},{"$f":"IF(AQ463=4,\"\",IF(AQ462>=4,CONCATENATE(\"Data Point \",B462,\" to \",\"Data Point \",(B462+4)),\"\"))","v":""},{"$f":"IF(C462=\"\",\"\",IF(AND(C462<=R462,C462>F462),1,0))","v":""},{"$f":"SUM(AS462:AS466)","v":0},{"$f":"IF(AT463=4,\"\",IF(AT462>=4,CONCATENATE(\"Data Point \",B462,\" to \",\"Data Point \",(B462+4)),\"\"))","v":""},{"$f":"IF(AND(AR462<>\"\",AU462=\"\"),AR462,IF(AND(AR462=\"\",AU462<>\"\"),AU462,IF(AND(AR462<>\"\",AU462<>\"\"),AR462,\"\")))","v":""},null,null,{"$f":"IF(C462=\"\",\"\",IF(AND(C462>=J462,C462<G462),1,0))","v":""},{"$f":"SUM(AY462:AY469)","v":0},{"$f":"IF(AZ462=8,CONCATENATE(\"Data Point \",B462,\" to \",\"Data Point \",(B462+8)),\"\")","v":""},{"$f":"IF(C462=\"\",\"\",IF(AND(C462<=J462,C462>F462),1,0))","v":""},{"$f":"SUM(BB462:BB469)","v":0},{"$f":"IF(BC462=8,CONCATENATE(\"Data Point \",B462,\" to \",\"Data Point \",(B462+8)),\"\")","v":""},{"$f":"IF(AND(BA462<>\"\",BD462=\"\"),BA462,IF(AND(BA462=\"\",BD462<>\"\"),BD462,IF(AND(BA462<>\"\",BD462<>\"\"),BA462,\"\")))","v":""},null,null,{"$f":"IF(C462=\"\",\"\",IF(OR(C462>G462,C462<Table115[[#This Row],[LCL]]),1,0))","v":""},{"$f":"IF(BH462=1,CONCATENATE(\"Data Point \",B462),\"\")","v":""}]
[null,{"$f":"IF(C463=\"\",\"\",B462+1)","v":""},null,"","","","",null,0,"","","",{"$f":"IF(C463=\"\",\"\",IF((3.27*$F$7)*(2/3)<0,0,(3.27*$F$7)*(2/3)))","v":""},{"$f":"IF(C463=\"\",\"\",IF((-3.27*$F$7)*(1/3)<0,0,(-3.27*$F$7)*(1/3)))","v":""},{"$f":"IF(C463=\"\",\"\",IF((-3.27*$F$7)*(2/3)<0,0,(-3.27*$F$7)*(2/3)))","v":""},"",{"$f":"IF(B463=\"\", \"\", 0)","v":""},"","","","",null,null,null,null,null,null,null,null,null,null,null,"",0,"","",0,"","",null,null,"",0,"","",0,"","",null,null,"",0,"","",0,"","",null,null,{"$f":"IF(C463=\"\",\"\",IF(OR(C463>G463,C463<Table115[[#This Row],[LCL]]),1,0))","v":""},""]
[null,"",null,"","","","",null,0,"","","","","","","","","","","","",null,null,null,null,null,null,null,null,null,null,null,"",0,"","",0,"","",null,null,"",0,"","",0,"","",null,null,"",0,"","",0,"","",null,null,{"$f":"IF(C464=\"\",\"\",IF(OR(C464>G464,C464<Table115[[#This Row],[LCL]]),1,0))","v":""},""]
[null,"",null,"","","","",null,0,"","","","","","","","","","","","",null,null,null,null,null,null,null,null,null,null,null,"",0,"","",0,"","",null,null,"",0,"","",0,"","",null,null,"",0,"","",0,"","",null,null,{"$f":"IF(C465=\"\",\"\",IF(OR(C465>G465,C465<Table115[[#This Row],[LCL]]),1,0))","v":""},""]
[null,"",null,"","","","",null,0,"","","","","","","","","","","","",null,null,null,null,null,null,null,null,null,null,null,"",0,"","",0,"","",null,null,"",0,"","",0,"","",null,null,"",0,"","",0,"","",null,null,{"$f":"IF(C466=\"\",\"\",IF(OR(C466>G466,C466<Table115[[#This Row],[LCL]]),1,0))","v":""},""]
[null,"",null,"","","","",null,0,"","","","","","","","","","","","",null,null,null,null,null,null,null,null,null,null,null,"",0,"","",0,"","",null,null,"",0,"","",0,"","",null,null,"",0,"","",0,"","",null,null,{"$f":"IF(C467=\"\",\"\",IF(OR(C467>G467,C467<Table115[[#This Row],[LCL]]),1,0))","v":""},""]
[null,"",null,"","","","",null,0,"","","","","","","","","","","","",null,null,null,null,null,null,null,null,null,null,null,"",0,"","",0,"","",null,null,"",0,"","",0,"","",null,null,"",0,"","",0,"","",null,null,{"$f":"IF(C468=\"\",\"\",IF(OR(C468>G468,C468<Table115[[#This Row],[LCL]]),1,0))","v":""},""]
[null,"",null,"","","","",null,0,"","",{"$f":"D469","v":""},"","","","","","","","","",null,null,null,null,null,null,null,null,null,null,null,"",0,"","",0,"","",null,null,"",0,"","",0,"","",null,null,"",0,"","",0,"","",null,null,{"$f":"IF(C469=\"\",\"\",IF(OR(C469>G469,C469<Table115[[#This Row],[LCL]]),1,0))","v":""},""]
[null,"",null,"","","","",null,0,"","","","","","","","","","","","",null,null,null,null,null,null,null,null,null,null,null,"",0,"","",0,"","",null,null,"",0,"","",0,"","",null,null,"",0,"","",0,"","",null,null,{"$f":"IF(C470=\"\",\"\",IF(OR(C470>G470,C470<Table115[[#This Row],[LCL]]),1,0))","v":""},""]
[null,"",null,"","","","",null,0,"","","","","","","","","","","","",null,null,null,null,null,null,null,null,null,null,null,"",0,"","",0,"","",null,null,"",0,"","",0,"","",null,null,"",0,"","",0,"","",null,null,{"$f":"IF(C471=\"\",\"\",IF(OR(C471>G471,C471<Table115[[#This Row],[LCL]]),1,0))","v":""},""]
[null,"",null,"","","","",null,0,"","","","","","","","","","","","",null,null,null,null,null,null,null,null,null,null,null,"",0,"","",0,"","",null,null,"",0,"","",0,"","",null,null,"",0,"","",0,"","",null,null,{"$f":"IF(C472=\"\",\"\",IF(OR(C472>G472,C472<Table115[[#This Row],[LCL]]),1,0))","v":""},""]
[null,"",null,"","","","",null,0,"","","","","","","","","","","","",null,null,null,null,null,null,null,null,null,null,null,"",0,"","",0,"","",null,null,"",0,"","",0,"","",null,null,"",0,"","",0,"","",null,null,{"$f":"IF(C473=\"\",\"\",IF(OR(C473>G473,C473<Table115[[#This Row],[LCL]]),1,0))","v":""},""]
[null,"",null,"","","","",null,0,"","","","","","","","","","","","",null,null,null,null,null,null,null,null,null,null,null,"",0,"","",0,"","",null,null,"",0,"","",0,"","",null,null,"",0,"","",0,"","",null,null,{"$f":"IF(C474=\"\",\"\",IF(OR(C474>G474,C474<Table115[[#This Row],[LCL]]),1,0))","v":""},""]
[null,"",null,"","","","",null,0,"","","","","","","","","","","","",null,null,null,null,null,null,null,null,null,null,null,"",0,"","",0,"","",null,null,"",0,"","",0,"","",null,null,"",0,"","",0,"","",null,null,{"$f":"IF(C475=\"\",\"\",IF(OR(C475>G475,C475<Table115[[#This Row],[LCL]]),1,0))","v":""},""]
[null,"",null,"","","","",null,0,"","","","","","","","","","","","",null,null,null,null,null,null,null,null,null,null,null,"",0,"","",0,"","",null,null,"",0,"","",0,"","",null,null,"",0,"","",0,"","",null,null,{"$f":"IF(C476=\"\",\"\",IF(OR(C476>G476,C476<Table115[[#This Row],[LCL]]),1,0))","v":""},""]
[null,"",null,"","","","",null,0,"","","","","","","","","","","","",null,null,null,null,null,null,null,null,null,null,null,"",0,"","",0,"","",null,null,"",0,"","",0,"","",null,null,"",0,"","",0,"","",null,null,{"$f":"IF(C477=\"\",\"\",IF(OR(C477>G477,C477<Table115[[#This Row],[LCL]]),1,0))","v":""},""]
[null,"",null,"","","","",null,0,"","","","","","","","","","","","",null,null,null,null,null,null,null,null,null,null,null,"",0,"","",0,"","",null,null,"",0,"","",0,"","",null,null,"",0,"","",0,"","",null,null,{"$f":"IF(C478=\"\",\"\",IF(OR(C478>G478,C478<Table115[[#This Row],[LCL]]),1,0))","v":""},""]
[null,"",null,"","","","",null,0,"","","","","","","","","","","","",null,null,null,null,null,null,null,null,null,null,null,"",0,"","",0,"","",null,null,"",0,"","",0,"","",null,null,"",0,"","",0,"","",null,null,{"$f":"IF(C479=\"\",\"\",IF(OR(C479>G479,C479<Table115[[#This Row],[LCL]]),1,0))","v":""},""]
[null,"",null,"","","","",null,0,"","","","","","","","","","","","",null,null,null,null,null,null,null,null,null,null,null,{"$f":"IF(C480=\"\",\"\",IF(AND(C480>=U480,C480<G480),1,0))","v":""},0,"",{"$f":"IF(C480=\"\",\"\",IF(AND(C480<=S480,C480>F480),1,0))","v":""},0,"","",null,null,"",0,"","",0,"","",null,null,"",0,"","",0,"","",null,null,{"$f":"IF(C480=\"\",\"\",IF(OR(C480>G480,C480<Table115[[#This Row],[LCL]]),1,0))","v":""},""]
[null,"",null,"","","","",null,0,"","","","","","","","","","","","",null,null,null,null,null,null,null,null,null,null,null,"",0,"","",0,"","",null,null,"",0,"","",0,"","",null,null,"",0,"","",0,"","",null,null,{"$f":"IF(C481=\"\",\"\",IF(OR(C481>G481,C481<Table115[[#This Row],[LCL]]),1,0))","v":""},""]
[null,"",null,"","","","",null,0,"","","","","","","","","","","","",null,null,null,null,null,null,null,null,null,null,null,"",0,"","",0,"","",null,null,"",0,"","",0,"","",null,null,"",0,"","",0,"","",null,null,{"$f":"IF(C482=\"\",\"\",IF(OR(C482>G482,C482<Table115[[#This Row],[LCL]]),1,0))","v":""},""]
[null,"",null,"","","","",null,0,"","","","","","","","","","","","",null,null,null,null,null,null,null,null,null,null,null,"",0,"","",0,"","",null,null,"",0,"","",0,"","",null,null,"",0,"","",0,"","",null,null,{"$f":"IF(C483=\"\",\"\",IF(OR(C483>G483,C483<Table115[[#This Row],[LCL]]),1,0))","v":""},""]
[null,"",null,"","","","",null,0,"","","","","","","","","","","","",null,null,null,null,null,null,null,null,null,null,null,"",0,"","",0,"","",null,null,"",0,"","",0,"","",null,null,"",0,"","",0,"","",null,null,{"$f":"IF(C484=\"\",\"\",IF(OR(C484>G484,C484<Table115[[#This Row],[LCL]]),1,0))","v":""},""]
[null,"",null,"","","","",null,0,"","","","","","","","","","","","",null,null,null,null,null,null,null,null,null,null,null,"",0,"","",0,"","",null,null,"",0,"","",0,"","",null,null,"",0,"","",0,"","",null,null,{"$f":"IF(C485=\"\",\"\",IF(OR(C485>G485,C485<Table115[[#This Row],[LCL]]),1,0))","v":""},""]
[null,"",null,"","","","",null,0,"","","","","","","","","","","","",null,null,null,null,null,null,null,null,null,null,null,"",0,"","",0,"","",null,null,"",0,"","",0,"","",null,null,"",0,"","",0,"","",null,null,{"$f":"IF(C486=\"\",\"\",IF(OR(C486>G486,C486<Table115[[#This Row],[LCL]]),1,0))","v":""},""]
[null,"",null,"","","","",null,0,"","","","","","","","","","","","",null,null,null,null,null,null,null,null,null,null,null,"",0,"","",0,"","",null,null,"",0,"","",0,"","",null,null,"",0,"","",0,"","",null,null,{"$f":"IF(C487=\"\",\"\",IF(OR(C487>G487,C487<Table115[[#This Row],[LCL]]),1,0))","v":""},""]
[null,"",null,"","","","",null,0,"","","","","","","","","","","","",null,null,null,null,null,null,null,null,null,null,null,"",0,"","",0,"","",null,null,"",0,"","",0,"","",null,null,"",0,"","",0,"","",null,null,{"$f":"IF(C488=\"\",\"\",IF(OR(C488>G488,C488<Table115[[#This Row],[LCL]]),1,0))","v":""},""]
[null,"",null,"","","","",null,0,"","","","","","","","","","","","",null,null,null,null,null,null,null,null,null,null,null,"",0,"","",0,"","",null,null,"",0,"","",0,"","",null,null,"",0,"","",0,"","",null,null,{"$f":"IF(C489=\"\",\"\",IF(OR(C489>G489,C489<Table115[[#This Row],[LCL]]),1,0))","v":""},""]
[null,"",null,"","","","",null,0,"","","","","","","","","","","","",null,null,null,null,null,null,null,null,null,null,null,"",0,"","",0,"","",null,null,"",0,"","",0,"","",null,null,"",0,"","",0,"","",null,null,{"$f":"IF(C490=\"\",\"\",IF(OR(C490>G490,C490<Table115[[#This Row],[LCL]]),1,0))","v":""},""]
[null,"",null,"","","","",null,0,"","","","","","","","","","","","",null,null,null,null,null,null,null,null,null,null,null,"",0,"","",0,"","",null,null,"",0,"","",0,"","",null,null,"",0,"","",0,"","",null,null,{"$f":"IF(C491=\"\",\"\",IF(OR(C491>G491,C491<Table115[[#This Row],[LCL]]),1,0))","v":""},""]
[null,"",null,"","","","",null,0,"","","","","","","","","","","","",null,null,null,null,null,null,null,null,null,null,null,"",0,"","",0,"","",null,null,"",0,"","",0,"","",null,null,"",0,"","",0,"","",null,null,{"$f":"IF(C492=\"\",\"\",IF(OR(C492>G492,C492<Table115[[#This Row],[LCL]]),1,0))","v":""},""]
[null,"",null,"","","","",null,0,"","","","","","","","","","","","",null,null,null,null,null,null,null,null,null,null,null,"",0,"","",0,"","",null,null,"",0,"","",0,"","",null,null,"",0,"","",0,"","",null,null,{"$f":"IF(C493=\"\",\"\",IF(OR(C493>G493,C493<Table115[[#This Row],[LCL]]),1,0))","v":""},""]
[null,"",null,"","","","",null,0,"","","","","","","","","","","","",null,null,null,null,null,null,null,null,null,null,null,"",0,"","",0,"","",null,null,"",0,"","",0,"","",null,null,"",0,"","",0,"","",null,null,{"$f":"IF(C494=\"\",\"\",IF(OR(C494>G494,C494<Table115[[#This Row],[LCL]]),1,0))","v":""},""]
[null,"",null,"","","","",null,0,"","","","","","","","","","","","",null,null,null,null,null,null,null,null,null,null,null,"",0,"","",0,"","",null,null,"",0,"","",0,"","",null,null,"",0,"","",0,"","",null,null,{"$f":"IF(C495=\"\",\"\",IF(OR(C495>G495,C495<Table115[[#This Row],[LCL]]),1,0))","v":""},""]
[null,"",null,"","","","",null,0,"","","","","","","","","","","","",null,null,null,null,null,null,null,null,null,null,null,"",0,"","",0,"","",null,null,"",0,"","",0,"","",null,null,"",0,"","",0,"","",null,null,{"$f":"IF(C496=\"\",\"\",IF(OR(C496>G496,C496<Table115[[#This Row],[LCL]]),1,0))","v":""},""]
[null,"",null,"","","","",null,0,"","","","","","","","","","","","",null,null,null,null,null,null,null,null,null,null,null,"",0,"","",0,"","",null,null,"",0,"","",0,"","",null,null,"",0,"","",0,"","",null,null,{"$f":"IF(C497=\"\",\"\",IF(OR(C497>G497,C497<Table115[[#This Row],[LCL]]),1,0))","v":""},""]
[null,"",null,"","","","",null,0,"","","","","","","","","","","","",null,null,null,null,null,null,null,null,null,null,null,"",0,"","",0,"","",null,null,"",0,"","",0,"","",null,null,"",0,"","",0,"","",null,null,{"$f":"IF(C498=\"\",\"\",IF(OR(C498>G498,C498<Table115[[#This Row],[LCL]]),1,0))","v":""},""]
[null,"",null,"","","","",null,0,"","","","","","","","","","","","",null,null,null,null,null,null,null,null,null,null,null,"",0,"","",0,"","",null,null,"",0,"","",0,"","",null,null,"",0,"","",0,"","",null,null,{"$f":"IF(C499=\"\",\"\",IF(OR(C499>G499,C499<Table115[[#This Row],[LCL]]),1,0))","v":""},""]
[null,"",null,"","","","",null,0,"","","","","","","","","","","","",null,null,null,null,null,null,null,null,null,null,null,"",0,"","",0,"","",null,null,"",0,"","",0,"","",null,null,"",0,"","",0,"","",null,null,{"$f":"IF(C500=\"\",\"\",IF(OR(C500>G500,C500<Table115[[#This Row],[LCL]]),1,0))","v":""},""]
[null,"",null,"","","","",null,0,"","","","","","","","","","","","",null,null,null,null,null,null,null,null,null,null,null,"",0,"","",0,"","",null,null,"",0,"","",0,"","",null,null,"",0,"","",0,"","",null,null,{"$f":"IF(C501=\"\",\"\",IF(OR(C501>G501,C501<Table115[[#This Row],[LCL]]),1,0))","v":""},""]
[null,"",null,"","","","",null,0,"","","","","","","","","","","","",null,null,null,null,null,null,null,null,null,null,null,"",0,"","",0,"","",null,null,"",0,"","",0,"","",null,null,"",0,"","",0,"","",null,null,{"$f":"IF(C502=\"\",\"\",IF(OR(C502>G502,C502<Table115[[#This Row],[LCL]]),1,0))","v":""},""]
[null,"",null,"","","","",null,0,"","","","","","","","","","","","",null,null,null,null,null,null,null,null,null,null,null,"",0,"","",0,"","",null,null,"",0,"","",0,"","",null,null,"",0,"","",0,"","",null,null,{"$f":"IF(C503=\"\",\"\",IF(OR(C503>G503,C503<Table115[[#This Row],[LCL]]),1,0))","v":""},""]
[null,"",null,"","","","",null,0,"","","","","","","","","","","","",null,null,null,null,null,null,null,null,null,null,null,"",0,"","",0,"","",null,null,"",0,"","",0,"","",null,null,"",0,"","",0,"","",null,null,{"$f":"IF(C504=\"\",\"\",IF(OR(C504>G504,C504<Table115[[#This Row],[LCL]]),1,0))","v":""},""]
[null,"",null,"","","","",null,0,"","","","","","","","","","","","",null,null,null,null,null,null,null,null,null,null,null,"",0,"","",0,"","",null,null,"",0,"","",0,"","",null,null,"",0,"","",0,"","",null,null,{"$f":"IF(C505=\"\",\"\",IF(OR(C505>G505,C505<Table115[[#This Row],[LCL]]),1,0))","v":""},""]
[null,"",null,"","","","",null,0,"","","","","","","","","","","","",null,null,null,null,null,null,null,null,null,null,null,"",0,"","",0,"","",null,null,"",0,"","",0,"","",null,null,"",0,"","",0,"","",null,null,{"$f":"IF(C506=\"\",\"\",IF(OR(C506>G506,C506<Table115[[#This Row],[LCL]]),1,0))","v":""},""]
[null,"",null,"","","","",null,0,"","","","","","","","","","","","",null,null,null,null,null,null,null,null,null,null,null,"",0,"","",0,"","",null,null,"",0,"","",0,"","",null,null,"",0,"","",0,"","",null,null,{"$f":"IF(C507=\"\",\"\",IF(OR(C507>G507,C507<Table115[[#This Row],[LCL]]),1,0))","v":""},""]
[null,"",null,"","","","",null,0,"","","","","","","","","","","","",null,null,null,null,null,null,null,null,null,null,null,"",0,"","",0,"","",null,null,"",0,"","",0,"","",null,null,"",0,"","",0,"","",null,null,{"$f":"IF(C508=\"\",\"\",IF(OR(C508>G508,C508<Table115[[#This Row],[LCL]]),1,0))","v":""},""]
[null,"",null,"","","","",null,0,"","","","","","","","","","","","",null,null,null,null,null,null,null,null,null,null,null,"",0,"","",0,"","",null,null,"",0,"","",0,"","",null,null,"",0,"","",0,"","",null,null,{"$f":"IF(C509=\"\",\"\",IF(OR(C509>G509,C509<Table115[[#This Row],[LCL]]),1,0))","v":""},""]
[null,"",null,"","","","",null,0,"","","","","","","","","","","","",null,null,null,null,null,null,null,null,null,null,null,"",0,"","",0,"","",null,null,"",0,"","",0,"","",null,null,"",0,"","",0,"","",null,null,{"$f":"IF(C510=\"\",\"\",IF(OR(C510>G510,C510<Table115[[#This Row],[LCL]]),1,0))","v":""},""]
[null,"",null,"","","","",null,0,"","","","","","","","","","","","",null,null,null,null,null,null,null,null,null,null,null,"",0,"","",0,"","",null,null,"",0,"","",0,"","",null,null,"",0,"","",0,"","",null,null,{"$f":"IF(C511=\"\",\"\",IF(OR(C511>G511,C511<Table115[[#This Row],[LCL]]),1,0))","v":""},""]
[null,"",null,"","","","",null,0,"","","","","","","","","","","","",null,null,null,null,null,null,null,null,null,null,null,"",0,"","",0,"","",null,null,"",0,"","",0,"","",null,null,"",0,"","",0,"","",null,null,{"$f":"IF(C512=\"\",\"\",IF(OR(C512>G512,C512<Table115[[#This Row],[LCL]]),1,0))","v":""},""]
[null,"",null,"","","","",null,0,"","","","","","","","","","","","",null,null,null,null,null,null,null,null,null,null,null,"",0,"","",0,"","",null,null,"",0,"","",0,"","",null,null,"",0,"","",0,"","",null,null,{"$f":"IF(C513=\"\",\"\",IF(OR(C513>G513,C513<Table115[[#This Row],[LCL]]),1,0))","v":""},""]
[null,"",null,"","","","",null,0,"","","","","","","","","","","","",null,null,null,null,null,null,null,null,null,null,null,"",0,"","",0,"","",null,null,"",0,"","",0,"","",null,null,"",0,"","",0,"","",null,null,{"$f":"IF(C514=\"\",\"\",IF(OR(C514>G514,C514<Table115[[#This Row],[LCL]]),1,0))","v":""},""]
[null,"",null,"","","","",null,0,"","","","","","","","","","","","",null,null,null,null,null,null,null,null,null,null,null,"",0,"","",0,"","",null,null,"",0,"","",0,"","",null,null,"",0,"","",0,"","",null,null,{"$f":"IF(C515=\"\",\"\",IF(OR(C515>G515,C515<Table115[[#This Row],[LCL]]),1,0))","v":""},""]
[null,"",null,"","","","",null,0,"","","","","","","","","","","","",null,null,null,null,null,null,null,null,null,null,null,"",0,"","",0,"","",null,null,"",0,"","",0,"","",null,null,"",0,"","",0,"","",null,null,{"$f":"IF(C516=\"\",\"\",IF(OR(C516>G516,C516<Table115[[#This Row],[LCL]]),1,0))","v":""},""]
[null,"",null,"","","","",null,0,"","","","","","","","","","","","",null,null,null,null,null,null,null,null,null,null,null,"",0,"","",0,"","",null,null,"",0,"","",0,"","",null,null,"",0,"","",0,"","",null,null,{"$f":"IF(C517=\"\",\"\",IF(OR(C517>G517,C517<Table115[[#This Row],[LCL]]),1,0))","v":""},""]
[null,"",null,"","","","",null,0,"","","","","","","","","","","","",null,null,null,null,null,null,null,null,null,null,null,"",0,"","",0,"","",null,null,"",0,"","",0,"","",null,null,"",0,"","",0,"","",null,null,{"$f":"IF(C518=\"\",\"\",IF(OR(C518>G518,C518<Table115[[#This Row],[LCL]]),1,0))","v":""},""]
[null,"",null,"","","","",null,0,"","","","","","","","","","","","",null,null,null,null,null,null,null,null,null,null,null,"",0,"","",0,"","",null,null,"",0,"","",0,"","",null,null,"",0,"","",0,"","",null,null,{"$f":"IF(C519=\"\",\"\",IF(OR(C519>G519,C519<Table115[[#This Row],[LCL]]),1,0))","v":""},""]
[null,"",null,"","","","",null,0,"","","","","","","","","","","","",null,null,null,null,null,null,null,null,null,null,null,"",0,"","",0,"","",null,null,"",0,"","",0,"","",null,null,"",0,"","",0,"","",null,null,{"$f":"IF(C520=\"\",\"\",IF(OR(C520>G520,C520<Table115[[#This Row],[LCL]]),1,0))","v":""},""]
[null,"",null,"","","","",null,0,"","","","","","","","","","","","",null,null,null,null,null,null,null,null,null,null,null,"",0,"","",0,"","",null,null,"",0,"","",0,"","",null,null,"",0,"","",0,"","",null,null,{"$f":"IF(C521=\"\",\"\",IF(OR(C521>G521,C521<Table115[[#This Row],[LCL]]),1,0))","v":""},""]
[null,"",null,"","","","",null,0,"","","","","","","","","","","","",null,null,null,null,null,null,null,null,null,null,null,"",0,"","",0,"","",null,null,"",0,"","",0,"","",null,null,"",0,"","",0,"","",null,null,{"$f":"IF(C522=\"\",\"\",IF(OR(C522>G522,C522<Table115[[#This Row],[LCL]]),1,0))","v":""},""]
[null,"",null,"","","","",null,0,"","","","","","","","","","","","",null,null,null,null,null,null,null,null,null,null,null,"",0,"","",0,"","",null,null,"",0,"","",0,"","",null,null,"",0,"","",0,"","",null,null,{"$f":"IF(C523=\"\",\"\",IF(OR(C523>G523,C523<Table115[[#This Row],[LCL]]),1,0))","v":""},""]
[null,"",null,"","","","",null,0,"","","","","","","","","","","","",null,null,null,null,null,null,null,null,null,null,null,"",0,"","",0,"","",null,null,"",0,"","",0,"","",null,null,"",0,"","",0,"","",null,null,{"$f":"IF(C524=\"\",\"\",IF(OR(C524>G524,C524<Table115[[#This Row],[LCL]]),1,0))","v":""},""]
[null,"",null,{"$f":"IF(C525=\"\",\"\",ABS(C525-C524))","v":""},"","",{"$f":"IF(C525=\"\",\"\",$F$6+(2.66*$F$7))","v":""},null,{"$f":"IF(B525>$F$8,0,1)","v":0},{"$f":"IF(G525=\"\",\"\",$F$6)","v":""},"","","","","","","",{"$f":"IF(C525=\"\",\"\",IF($F$6-(0.89*$F$7)<0, 0, $F$6-(0.89*$F$7)))","v":""},{"$f":"IF(C525=\"\",\"\",IF($F$6-(1.77*$F$7)<0,0,$F$6-(1.77*$F$7)))","v":""},{"$f":"IF(C525=\"\",\"\",$F$6+(0.89*$F$7))","v":""},{"$f":"IF(C525=\"\",\"\",$F$6+(1.77*$F$7))","v":""},null,null,null,null,null,null,null,null,null,null,null,"",0,"","",0,"","",null,null,"",0,"","",0,"","",null,null,"",0,"","",0,"","",null,null,{"$f":"IF(C525=\"\",\"\",IF(OR(C525>G525,C525<Table115[[#This Row],[LCL]]),1,0))","v":""},""]
[null,"",null,"",{"$f":"IF(C526=\"\",\"\",3.27*$F$7)","v":""},{"$f":"IF(C526=\"\",\"\",IF($F$6-(2.66*$F$7)<0, 0, $F$6-(2.66*$F$7)))","v":""},"",null,0,"",{"$f":"IF(G526=\"\",\"\",$F$7)","v":""},"","","","",{"$f":"IF(C526=\"\",\"\",(3.27*$F$7)*(1/3))","v":""},"","","","","",null,null,null,null,null,null,null,null,null,null,null,"",{"$f":"SUM(AG526:AG528)","v":0},{"$f":"IF(AH527=2,\"\",IF(AH526>=2,CONCATENATE(\"Data Point \",B526,\" to \",\"Data Point \",(B526+2)),\"\"))","v":""},"",{"$f":"SUM(AJ526:AJ528)","v":0},{"$f":"IF(AK527=2,\"\",IF(AK526>=2,CONCATENATE(\"Data Point \",B526,\" to \",\"Data Point \",(B526+2)),\"\"))","v":""},{"$f":"IF(AND(AI526<>\"\",AL526=\"\"),AI526,IF(AND(AI526=\"\",AL526<>\"\"),AL526,IF(AND(AI526<>\"\",AL526<>\"\"),AI526,\"\")))","v":""},null,null,{"$f":"IF(C526=\"\",\"\",IF(AND(C526>=T526,C526<G526),1,0))","v":""},{"$f":"SUM(AP526:AP530)","v":0},{"$f":"IF(AQ527=4,\"\",IF(AQ526>=4,CONCATENATE(\"Data Point \",B526,\" to \",\"Data Point \",(B526+4)),\"\"))","v":""},{"$f":"IF(C526=\"\",\"\",IF(AND(C526<=R526,C526>F526),1,0))","v":""},{"$f":"SUM(AS526:AS530)","v":0},{"$f":"IF(AT527=4,\"\",IF(AT526>=4,CONCATENATE(\"Data Point \",B526,\" to \",\"Data Point \",(B526+4)),\"\"))","v":""},{"$f":"IF(AND(AR526<>\"\",AU526=\"\"),AR526,IF(AND(AR526=\"\",AU526<>\"\"),AU526,IF(AND(AR526<>\"\",AU526<>\"\"),AR526,\"\")))","v":""},null,null,{"$f":"IF(C526=\"\",\"\",IF(AND(C526>=J526,C526<G526),1,0))","v":""},{"$f":"SUM(AY526:AY533)","v":0},{"$f":"IF(AZ526=8,CONCATENATE(\"Data Point \",B526,\" to \",\"Data Point \",(B526+8)),\"\")","v":""},{"$f":"IF(C526=\"\",\"\",IF(AND(C526<=J526,C526>F526),1,0))","v":""},{"$f":"SUM(BB526:BB533)","v":0},{"$f":"IF(BC526=8,CONCATENATE(\"Data Point \",B526,\" to \",\"Data Point \",(B526+8)),\"\")","v":""},{"$f":"IF(AND(BA526<>\"\",BD526=\"\"),BA526,IF(AND(BA526=\"\",BD526<>\"\"),BD526,IF(AND(BA526<>\"\",BD526<>\"\"),BA526,\"\")))","v":""},null,null,{"$f":"IF(C526=\"\",\"\",IF(OR(C526>G526,C526<Table115[[#This Row],[LCL]]),1,0))","v":""},{"$f":"IF(BH526=1,CONCATENATE(\"Data Point \",B526),\"\")","v":""}]
[null,{"$f":"IF(C527=\"\",\"\",B526+1)","v":""},null,"","","","",null,0,"","","",{"$f":"IF(C527=\"\",\"\",IF((3.27*$F$7)*(2/3)<0,0,(3.27*$F$7)*(2/3)))","v":""},{"$f":"IF(C527=\"\",\"\",IF((-3.27*$F$7)*(1/3)<0,0,(-3.27*$F$7)*(1/3)))","v":""},{"$f":"IF(C527=\"\",\"\",IF((-3.27*$F$7)*(2/3)<0,0,(-3.27*$F$7)*(2/3)))","v":""},"",{"$f":"IF(B527=\"\", \"\", 0)","v":""},"","","","",null,null,null,null,null,null,null,null,null,null,null,"",0,"","",0,"","",null,null,"",0,"","",0,"","",null,null,"",0,"","",0,"","",null,null,{"$f":"IF(C527=\"\",\"\",IF(OR(C527>G527,C527<Table115[[#This Row],[LCL]]),1,0))","v":""},""]
[null,"",null,"","","","",null,0,"","","","","","","","","","","","",null,null,null,null,null,null,null,null,null,null,null,"",0,"","",0,"","",null,null,"",0,"","",0,"","",null,null,"",0,"","",0,"","",null,null,{"$f":"IF(C528=\"\",\"\",IF(OR(C528>G528,C528<Table115[[#This Row],[LCL]]),1,0))","v":""},""]
[null,"",null,"","","","",null,0,"","","","","","","","","","","","",null,null,null,null,null,null,null,null,null,null,null,"",0,"","",0,"","",null,null,"",0,"","",0,"","",null,null,"",0,"","",0,"","",null,null,{"$f":"IF(C529=\"\",\"\",IF(OR(C529>G529,C529<Table115[[#This Row],[LCL]]),1,0))","v":""},""]
[null,"",null,"","","","",null,0,"","","","","","","","","","","","",null,null,null,null,null,null,null,null,null,null,null,"",0,"","",0,"","",null,null,"",0,"","",0,"","",null,null,"",0,"","",0,"","",null,null,{"$f":"IF(C530=\"\",\"\",IF(OR(C530>G530,C530<Table115[[#This Row],[LCL]]),1,0))","v":""},""]
[null,"",null,"","","","",null,0,"","","","","","","","","","","","",null,null,null,null,null,null,null,null,null,null,null,"",0,"","",0,"","",null,null,"",0,"","",0,"","",null,null,"",0,"","",0,"","",null,null,{"$f":"IF(C531=\"\",\"\",IF(OR(C531>G531,C531<Table115[[#This Row],[LCL]]),1,0))","v":""},""]
[null,"",null,"","","","",null,0,"","","","","","","","","","","","",null,null,null,null,null,null,null,null,null,null,null,"",0,"","",0,"","",null,null,"",0,"","",0,"","",null,null,"",0,"","",0,"","",null,null,{"$f":"IF(C532=\"\",\"\",IF(OR(C532>G532,C532<Table115[[#This Row],[LCL]]),1,0))","v":""},""]
[null,"",null,"","","","",null,0,"","",{"$f":"D533","v":""},"","","","","","","","","",null,null,null,null,null,null,null,null,null,null,null,"",0,"","",0,"","",null,null,"",0,"","",0,"","",null,null,"",0,"","",0,"","",null,null,{"$f":"IF(C533=\"\",\"\",IF(OR(C533>G533,C533<Table115[[#This Row],[LCL]]),1,0))","v":""},""]
[null,"",null,"","","","",null,0,"","","","","","","","","","","","",null,null,null,null,null,null,null,null,null,null,null,"",0,"","",0,"","",null,null,"",0,"","",0,"","",null,null,"",0,"","",0,"","",null,null,{"$f":"IF(C534=\"\",\"\",IF(OR(C534>G534,C534<Table115[[#This Row],[LCL]]),1,0))","v":""},""]
[null,"",null,"","","","",null,0,"","","","","","","","","","","","",null,null,null,null,null,null,null,null,null,null,null,"",0,"","",0,"","",null,null,"",0,"","",0,"","",null,null,"",0,"","",0,"","",null,null,{"$f":"IF(C535=\"\",\"\",IF(OR(C535>G535,C535<Table115[[#This Row],[LCL]]),1,0))","v":""},""]
[null,"",null,"","","","",null,0,"","","","","","","","","","","","",null,null,null,null,null,null,null,null,null,null,null,"",0,"","",0,"","",null,null,"",0,"","",0,"","",null,null,"",0,"","",0,"","",null,null,{"$f":"IF(C536=\"\",\"\",IF(OR(C536>G536,C536<Table115[[#This Row],[LCL]]),1,0))","v":""},""]
[null,"",null,"","","","",null,0,"","","","","","","","","","","","",null,null,null,null,null,null,null,null,null,null,null,"",0,"","",0,"","",null,null,"",0,"","",0,"","",null,null,"",0,"","",0,"","",null,null,{"$f":"IF(C537=\"\",\"\",IF(OR(C537>G537,C537<Table115[[#This Row],[LCL]]),1,0))","v":""},""]
[null,"",null,"","","","",null,0,"","","","","","","","","","","","",null,null,null,null,null,null,null,null,null,null,null,"",0,"","",0,"","",null,null,"",0,"","",0,"","",null,null,"",0,"","",0,"","",null,null,{"$f":"IF(C538=\"\",\"\",IF(OR(C538>G538,C538<Table115[[#This Row],[LCL]]),1,0))","v":""},""]
[null,"",null,"","","","",null,0,"","","","","","","","","","","","",null,null,null,null,null,null,null,null,null,null,null,"",0,"","",0,"","",null,null,"",0,"","",0,"","",null,null,"",0,"","",0,"","",null,null,{"$f":"IF(C539=\"\",\"\",IF(OR(C539>G539,C539<Table115[[#This Row],[LCL]]),1,0))","v":""},""]
[null,"",null,"","","","",null,0,"","","","","","","","","","","","",null,null,null,null,null,null,null,null,null,null,null,"",0,"","",0,"","",null,null,"",0,"","",0,"","",null,null,"",0,"","",0,"","",null,null,{"$f":"IF(C540=\"\",\"\",IF(OR(C540>G540,C540<Table115[[#This Row],[LCL]]),1,0))","v":""},""]
[null,"",null,"","","","",null,0,"","","","","","","","","","","","",null,null,null,null,null,null,null,null,null,null,null,"",0,"","",0,"","",null,null,"",0,"","",0,"","",null,null,"",0,"","",0,"","",null,null,{"$f":"IF(C541=\"\",\"\",IF(OR(C541>G541,C541<Table115[[#This Row],[LCL]]),1,0))","v":""},""]
[null,"",null,"","","","",null,0,"","","","","","","","","","","","",null,null,null,null,null,null,null,null,null,null,null,"",0,"","",0,"","",null,null,"",0,"","",0,"","",null,null,"",0,"","",0,"","",null,null,{"$f":"IF(C542=\"\",\"\",IF(OR(C542>G542,C542<Table115[[#This Row],[LCL]]),1,0))","v":""},""]
[null,"",null,"","","","",null,0,"","","","","","","","","","","","",null,null,null,null,null,null,null,null,null,null,null,"",0,"","",0,"","",null,null,"",0,"","",0,"","",null,null,"",0,"","",0,"","",null,null,{"$f":"IF(C543=\"\",\"\",IF(OR(C543>G543,C543<Table115[[#This Row],[LCL]]),1,0))","v":""},""]
[null,"",null,"","","","",null,0,"","","","","","","","","","","","",null,null,null,null,null,null,null,null,null,null,null,{"$f":"IF(C544=\"\",\"\",IF(AND(C544>=U544,C544<G544),1,0))","v":""},0,"",{"$f":"IF(C544=\"\",\"\",IF(AND(C544<=S544,C544>F544),1,0))","v":""},0,"","",null,null,"",0,"","",0,"","",null,null,"",0,"","",0,"","",null,null,{"$f":"IF(C544=\"\",\"\",IF(OR(C544>G544,C544<Table115[[#This Row],[LCL]]),1,0))","v":""},""]
[null,"",null,"","","","",null,0,"","","","","","","","","","","","",null,null,null,null,null,null,null,null,null,null,null,"",0,"","",0,"","",null,null,"",0,"","",0,"","",null,null,"",0,"","",0,"","",null,null,{"$f":"IF(C545=\"\",\"\",IF(OR(C545>G545,C545<Table115[[#This Row],[LCL]]),1,0))","v":""},""]
[null,"",null,"","","","",null,0,"","","","","","","","","","","","",null,null,null,null,null,null,null,null,null,null,null,"",0,"","",0,"","",null,null,"",0,"","",0,"","",null,null,"",0,"","",0,"","",null,null,{"$f":"IF(C546=\"\",\"\",IF(OR(C546>G546,C546<Table115[[#This Row],[LCL]]),1,0))","v":""},""]
[null,"",null,"","","","",null,0,"","","","","","","","","","","","",null,null,null,null,null,null,null,null,null,null,null,"",0,"","",0,"","",null,null,"",0,"","",0,"","",null,null,"",0,"","",0,"","",null,null,{"$f":"IF(C547=\"\",\"\",IF(OR(C547>G547,C547<Table115[[#This Row],[LCL]]),1,0))","v":""},""]
[null,"",null,"","","","",null,0,"","","","","","","","","","","","",null,null,null,null,null,null,null,null,null,null,null,"",0,"","",0,"","",null,null,"",0,"","",0,"","",null,null,"",0,"","",0,"","",null,null,{"$f":"IF(C548=\"\",\"\",IF(OR(C548>G548,C548<Table115[[#This Row],[LCL]]),1,0))","v":""},""]
[null,"",null,"","","","",null,0,"","","","","","","","","","","","",null,null,null,null,null,null,null,null,null,null,null,"",0,"","",0,"","",null,null,"",0,"","",0,"","",null,null,"",0,"","",0,"","",null,null,{"$f":"IF(C549=\"\",\"\",IF(OR(C549>G549,C549<Table115[[#This Row],[LCL]]),1,0))","v":""},""]
[null,"",null,"","","","",null,0,"","","","","","","","","","","","",null,null,null,null,null,null,null,null,null,null,null,"",0,"","",0,"","",null,null,"",0,"","",0,"","",null,null,"",0,"","",0,"","",null,null,{"$f":"IF(C550=\"\",\"\",IF(OR(C550>G550,C550<Table115[[#This Row],[LCL]]),1,0))","v":""},""]
[null,"",null,"","","","",null,0,"","","","","","","","","","","","",null,null,null,null,null,null,null,null,null,null,null,"",0,"","",0,"","",null,null,"",0,"","",0,"","",null,null,"",0,"","",0,"","",null,null,{"$f":"IF(C551=\"\",\"\",IF(OR(C551>G551,C551<Table115[[#This Row],[LCL]]),1,0))","v":""},""]
[null,"",null,"","","","",null,0,"","","","","","","","","","","","",null,null,null,null,null,null,null,null,null,null,null,"",0,"","",0,"","",null,null,"",0,"","",0,"","",null,null,"",0,"","",0,"","",null,null,{"$f":"IF(C552=\"\",\"\",IF(OR(C552>G552,C552<Table115[[#This Row],[LCL]]),1,0))","v":""},""]
[null,"",null,"","","","",null,0,"","","","","","","","","","","","",null,null,null,null,null,null,null,null,null,null,null,"",0,"","",0,"","",null,null,"",0,"","",0,"","",null,null,"",0,"","",0,"","",null,null,{"$f":"IF(C553=\"\",\"\",IF(OR(C553>G553,C553<Table115[[#This Row],[LCL]]),1,0))","v":""},""]
[null,"",null,"","","","",null,0,"","","","","","","","","","","","",null,null,null,null,null,null,null,null,null,null,null,"",0,"","",0,"","",null,null,"",0,"","",0,"","",null,null,"",0,"","",0,"","",null,null,{"$f":"IF(C554=\"\",\"\",IF(OR(C554>G554,C554<Table115[[#This Row],[LCL]]),1,0))","v":""},""]
[null,"",null,"","","","",null,0,"","","","","","","","","","","","",null,null,null,null,null,null,null,null,null,null,null,"",0,"","",0,"","",null,null,"",0,"","",0,"","",null,null,"",0,"","",0,"","",null,null,{"$f":"IF(C555=\"\",\"\",IF(OR(C555>G555,C555<Table115[[#This Row],[LCL]]),1,0))","v":""},""]
[null,"",null,"","","","",null,0,"","","","","","","","","","","","",null,null,null,null,null,null,null,null,null,null,null,"",0,"","",0,"","",null,null,"",0,"","",0,"","",null,null,"",0,"","",0,"","",null,null,{"$f":"IF(C556=\"\",\"\",IF(OR(C556>G556,C556<Table115[[#This Row],[LCL]]),1,0))","v":""},""]
[null,"",null,"","","","",null,0,"","","","","","","","","","","","",null,null,null,null,null,null,null,null,null,null,null,"",0,"","",0,"","",null,null,"",0,"","",0,"","",null,null,"",0,"","",0,"","",null,null,{"$f":"IF(C557=\"\",\"\",IF(OR(C557>G557,C557<Table115[[#This Row],[LCL]]),1,0))","v":""},""]
[null,"",null,"","","","",null,0,"","","","","","","","","","","","",null,null,null,null,null,null,null,null,null,null,null,"",0,"","",0,"","",null,null,"",0,"","",0,"","",null,null,"",0,"","",0,"","",null,null,{"$f":"IF(C558=\"\",\"\",IF(OR(C558>G558,C558<Table115[[#This Row],[LCL]]),1,0))","v":""},""]
[null,"",null,"","","","",null,0,"","","","","","","","","","","","",null,null,null,null,null,null,null,null,null,null,null,"",0,"","",0,"","",null,null,"",0,"","",0,"","",null,null,"",0,"","",0,"","",null,null,{"$f":"IF(C559=\"\",\"\",IF(OR(C559>G559,C559<Table115[[#This Row],[LCL]]),1,0))","v":""},""]
[null,"",null,"","","","",null,0,"","","","","","","","","","","","",null,null,null,null,null,null,null,null,null,null,null,"",0,"","",0,"","",null,null,"",0,"","",0,"","",null,null,"",0,"","",0,"","",null,null,{"$f":"IF(C560=\"\",\"\",IF(OR(C560>G560,C560<Table115[[#This Row],[LCL]]),1,0))","v":""},""]
[null,"",null,"","","","",null,0,"","","","","","","","","","","","",null,null,null,null,null,null,null,null,null,null,null,"",0,"","",0,"","",null,null,"",0,"","",0,"","",null,null,"",0,"","",0,"","",null,null,{"$f":"IF(C561=\"\",\"\",IF(OR(C561>G561,C561<Table115[[#This Row],[LCL]]),1,0))","v":""},""]
[null,"",null,"","","","",null,0,"","","","","","","","","","","","",null,null,null,null,null,null,null,null,null,null,null,"",0,"","",0,"","",null,null,"",0,"","",0,"","",null,null,"",0,"","",0,"","",null,null,{"$f":"IF(C562=\"\",\"\",IF(OR(C562>G562,C562<Table115[[#This Row],[LCL]]),1,0))","v":""},""]
[null,"",null,"","","","",null,0,"","","","","","","","","","","","",null,null,null,null,null,null,null,null,null,null,null,"",0,"","",0,"","",null,null,"",0,"","",0,"","",null,null,"",0,"","",0,"","",null,null,{"$f":"IF(C563=\"\",\"\",IF(OR(C563>G563,C563<Table115[[#This Row],[LCL]]),1,0))","v":""},""]
[null,"",null,"","","","",null,0,"","","","","","","","","","","","",null,null,null,null,null,null,null,null,null,null,null,"",0,"","",0,"","",null,null,"",0,"","",0,"","",null,null,"",0,"","",0,"","",null,null,{"$f":"IF(C564=\"\",\"\",IF(OR(C564>G564,C564<Table115[[#This Row],[LCL]]),1,0))","v":""},""]
[null,"",null,"","","","",null,0,"","","","","","","","","","","","",null,null,null,null,null,null,null,null,null,null,null,"",0,"","",0,"","",null,null,"",0,"","",0,"","",null,null,"",0,"","",0,"","",null,null,{"$f":"IF(C565=\"\",\"\",IF(OR(C565>G565,C565<Table115[[#This Row],[LCL]]),1,0))","v":""},""]
[null,"",null,"","","","",null,0,"","","","","","","","","","","","",null,null,null,null,null,null,null,null,null,null,null,"",0,"","",0,"","",null,null,"",0,"","",0,"","",null,null,"",0,"","",0,"","",null,null,{"$f":"IF(C566=\"\",\"\",IF(OR(C566>G566,C566<Table115[[#This Row],[LCL]]),1,0))","v":""},""]
[null,"",null,"","","","",null,0,"","","","","","","","","","","","",null,null,null,null,null,null,null,null,null,null,null,"",0,"","",0,"","",null,null,"",0,"","",0,"","",null,null,"",0,"","",0,"","",null,null,{"$f":"IF(C567=\"\",\"\",IF(OR(C567>G567,C567<Table115[[#This Row],[LCL]]),1,0))","v":""},""]
[null,"",null,"","","","",null,0,"","","","","","","","","","","","",null,null,null,null,null,null,null,null,null,null,null,"",0,"","",0,"","",null,null,"",0,"","",0,"","",null,null,"",0,"","",0,"","",null,null,{"$f":"IF(C568=\"\",\"\",IF(OR(C568>G568,C568<Table115[[#This Row],[LCL]]),1,0))","v":""},""]
[null,"",null,"","","","",null,0,"","","","","","","","","","","","",null,null,null,null,null,null,null,null,null,null,null,"",0,"","",0,"","",null,null,"",0,"","",0,"","",null,null,"",0,"","",0,"","",null,null,{"$f":"IF(C569=\"\",\"\",IF(OR(C569>G569,C569<Table115[[#This Row],[LCL]]),1,0))","v":""},""]
[null,"",null,"","","","",null,0,"","","","","","","","","","","","",null,null,null,null,null,null,null,null,null,null,null,"",0,"","",0,"","",null,null,"",0,"","",0,"","",null,null,"",0,"","",0,"","",null,null,{"$f":"IF(C570=\"\",\"\",IF(OR(C570>G570,C570<Table115[[#This Row],[LCL]]),1,0))","v":""},""]
[null,"",null,"","","","",null,0,"","","","","","","","","","","","",null,null,null,null,null,null,null,null,null,null,null,"",0,"","",0,"","",null,null,"",0,"","",0,"","",null,null,"",0,"","",0,"","",null,null,{"$f":"IF(C571=\"\",\"\",IF(OR(C571>G571,C571<Table115[[#This Row],[LCL]]),1,0))","v":""},""]
[null,"",null,"","","","",null,0,"","","","","","","","","","","","",null,null,null,null,null,null,null,null,null,null,null,"",0,"","",0,"","",null,null,"",0,"","",0,"","",null,null,"",0,"","",0,"","",null,null,{"$f":"IF(C572=\"\",\"\",IF(OR(C572>G572,C572<Table115[[#This Row],[LCL]]),1,0))","v":""},""]
[null,"",null,"","","","",null,0,"","","","","","","","","","","","",null,null,null,null,null,null,null,null,null,null,null,"",0,"","",0,"","",null,null,"",0,"","",0,"","",null,null,"",0,"","",0,"","",null,null,{"$f":"IF(C573=\"\",\"\",IF(OR(C573>G573,C573<Table115[[#This Row],[LCL]]),1,0))","v":""},""]
[null,"",null,"","","","",null,0,"","","","","","","","","","","","",null,null,null,null,null,null,null,null,null,null,null,"",0,"","",0,"","",null,null,"",0,"","",0,"","",null,null,"",0,"","",0,"","",null,null,{"$f":"IF(C574=\"\",\"\",IF(OR(C574>G574,C574<Table115[[#This Row],[LCL]]),1,0))","v":""},""]
[null,"",null,"","","","",null,0,"","","","","","","","","","","","",null,null,null,null,null,null,null,null,null,null,null,"",0,"","",0,"","",null,null,"",0,"","",0,"","",null,null,"",0,"","",0,"","",null,null,{"$f":"IF(C575=\"\",\"\",IF(OR(C575>G575,C575<Table115[[#This Row],[LCL]]),1,0))","v":""},""]
[null,"",null,"","","","",null,0,"","","","","","","","","","","","",null,null,null,null,null,null,null,null,null,null,null,"",0,"","",0,"","",null,null,"",0,"","",0,"","",null,null,"",0,"","",0,"","",null,null,{"$f":"IF(C576=\"\",\"\",IF(OR(C576>G576,C576<Table115[[#This Row],[LCL]]),1,0))","v":""},""]
[null,"",null,"","","","",null,0,"","","","","","","","","","","","",null,null,null,null,null,null,null,null,null,null,null,"",0,"","",0,"","",null,null,"",0,"","",0,"","",null,null,"",0,"","",0,"","",null,null,{"$f":"IF(C577=\"\",\"\",IF(OR(C577>G577,C577<Table115[[#This Row],[LCL]]),1,0))","v":""},""]
[null,"",null,"","","","",null,0,"","","","","","","","","","","","",null,null,null,null,null,null,null,null,null,null,null,"",0,"","",0,"","",null,null,"",0,"","",0,"","",null,null,"",0,"","",0,"","",null,null,{"$f":"IF(C578=\"\",\"\",IF(OR(C578>G578,C578<Table115[[#This Row],[LCL]]),1,0))","v":""},""]
[null,"",null,"","","","",null,0,"","","","","","","","","","","","",null,null,null,null,null,null,null,null,null,null,null,"",0,"","",0,"","",null,null,"",0,"","",0,"","",null,null,"",0,"","",0,"","",null,null,{"$f":"IF(C579=\"\",\"\",IF(OR(C579>G579,C579<Table115[[#This Row],[LCL]]),1,0))","v":""},""]
[null,"",null,"","","","",null,0,"","","","","","","","","","","","",null,null,null,null,null,null,null,null,null,null,null,"",0,"","",0,"","",null,null,"",0,"","",0,"","",null,null,"",0,"","",0,"","",null,null,{"$f":"IF(C580=\"\",\"\",IF(OR(C580>G580,C580<Table115[[#This Row],[LCL]]),1,0))","v":""},""]
[null,"",null,"","","","",null,0,"","","","","","","","","","","","",null,null,null,null,null,null,null,null,null,null,null,"",0,"","",0,"","",null,null,"",0,"","",0,"","",null,null,"",0,"","",0,"","",null,null,{"$f":"IF(C581=\"\",\"\",IF(OR(C581>G581,C581<Table115[[#This Row],[LCL]]),1,0))","v":""},""]
[null,"",null,"","","","",null,0,"","","","","","","","","","","","",null,null,null,null,null,null,null,null,null,null,null,"",0,"","",0,"","",null,null,"",0,"","",0,"","",null,null,"",0,"","",0,"","",null,null,{"$f":"IF(C582=\"\",\"\",IF(OR(C582>G582,C582<Table115[[#This Row],[LCL]]),1,0))","v":""},""]
[null,"",null,"","","","",null,0,"","","","","","","","","","","","",null,null,null,null,null,null,null,null,null,null,null,"",0,"","",0,"","",null,null,"",0,"","",0,"","",null,null,"",0,"","",0,"","",null,null,{"$f":"IF(C583=\"\",\"\",IF(OR(C583>G583,C583<Table115[[#This Row],[LCL]]),1,0))","v":""},""]
[null,"",null,"","","","",null,0,"","","","","","","","","","","","",null,null,null,null,null,null,null,null,null,null,null,"",0,"","",0,"","",null,null,"",0,"","",0,"","",null,null,"",0,"","",0,"","",null,null,{"$f":"IF(C584=\"\",\"\",IF(OR(C584>G584,C584<Table115[[#This Row],[LCL]]),1,0))","v":""},""]
[null,"",null,"","","","",null,0,"","","","","","","","","","","","",null,null,null,null,null,null,null,null,null,null,null,"",0,"","",0,"","",null,null,"",0,"","",0,"","",null,null,"",0,"","",0,"","",null,null,{"$f":"IF(C585=\"\",\"\",IF(OR(C585>G585,C585<Table115[[#This Row],[LCL]]),1,0))","v":""},""]
[null,"",null,"","","","",null,0,"","","","","","","","","","","","",null,null,null,null,null,null,null,null,null,null,null,"",0,"","",0,"","",null,null,"",0,"","",0,"","",null,null,"",0,"","",0,"","",null,null,{"$f":"IF(C586=\"\",\"\",IF(OR(C586>G586,C586<Table115[[#This Row],[LCL]]),1,0))","v":""},""]
[null,"",null,"","","","",null,0,"","","","","","","","","","","","",null,null,null,null,null,null,null,null,null,null,null,"",0,"","",0,"","",null,null,"",0,"","",0,"","",null,null,"",0,"","",0,"","",null,null,{"$f":"IF(C587=\"\",\"\",IF(OR(C587>G587,C587<Table115[[#This Row],[LCL]]),1,0))","v":""},""]
[null,"",null,"","","","",null,0,"","","","","","","","","","","","",null,null,null,null,null,null,null,null,null,null,null,"",0,"","",0,"","",null,null,"",0,"","",0,"","",null,null,"",0,"","",0,"","",null,null,{"$f":"IF(C588=\"\",\"\",IF(OR(C588>G588,C588<Table115[[#This Row],[LCL]]),1,0))","v":""},""]
[null,"",null,{"$f":"IF(C589=\"\",\"\",ABS(C589-C588))","v":""},"","",{"$f":"IF(C589=\"\",\"\",$F$6+(2.66*$F$7))","v":""},null,{"$f":"IF(B589>$F$8,0,1)","v":0},{"$f":"IF(G589=\"\",\"\",$F$6)","v":""},"","","","","","","",{"$f":"IF(C589=\"\",\"\",IF($F$6-(0.89*$F$7)<0, 0, $F$6-(0.89*$F$7)))","v":""},{"$f":"IF(C589=\"\",\"\",IF($F$6-(1.77*$F$7)<0,0,$F$6-(1.77*$F$7)))","v":""},{"$f":"IF(C589=\"\",\"\",$F$6+(0.89*$F$7))","v":""},{"$f":"IF(C589=\"\",\"\",$F$6+(1.77*$F$7))","v":""},null,null,null,null,null,null,null,null,null,null,null,"",0,"","",0,"","",null,null,"",0,"","",0,"","",null,null,"",0,"","",0,"","",null,null,{"$f":"IF(C589=\"\",\"\",IF(OR(C589>G589,C589<Table115[[#This Row],[LCL]]),1,0))","v":""},""]
[null,"",null,"",{"$f":"IF(C590=\"\",\"\",3.27*$F$7)","v":""},{"$f":"IF(C590=\"\",\"\",IF($F$6-(2.66*$F$7)<0, 0, $F$6-(2.66*$F$7)))","v":""},"",null,0,"",{"$f":"IF(G590=\"\",\"\",$F$7)","v":""},"","","","",{"$f":"IF(C590=\"\",\"\",(3.27*$F$7)*(1/3))","v":""},"","","","","",null,null,null,null,null,null,null,null,null,null,null,"",{"$f":"SUM(AG590:AG592)","v":0},{"$f":"IF(AH591=2,\"\",IF(AH590>=2,CONCATENATE(\"Data Point \",B590,\" to \",\"Data Point \",(B590+2)),\"\"))","v":""},"",{"$f":"SUM(AJ590:AJ592)","v":0},{"$f":"IF(AK591=2,\"\",IF(AK590>=2,CONCATENATE(\"Data Point \",B590,\" to \",\"Data Point \",(B590+2)),\"\"))","v":""},{"$f":"IF(AND(AI590<>\"\",AL590=\"\"),AI590,IF(AND(AI590=\"\",AL590<>\"\"),AL590,IF(AND(AI590<>\"\",AL590<>\"\"),AI590,\"\")))","v":""},null,null,{"$f":"IF(C590=\"\",\"\",IF(AND(C590>=T590,C590<G590),1,0))","v":""},{"$f":"SUM(AP590:AP594)","v":0},{"$f":"IF(AQ591=4,\"\",IF(AQ590>=4,CONCATENATE(\"Data Point \",B590,\" to \",\"Data Point \",(B590+4)),\"\"))","v":""},{"$f":"IF(C590=\"\",\"\",IF(AND(C590<=R590,C590>F590),1,0))","v":""},{"$f":"SUM(AS590:AS594)","v":0},{"$f":"IF(AT591=4,\"\",IF(AT590>=4,CONCATENATE(\"Data Point \",B590,\" to \",\"Data Point \",(B590+4)),\"\"))","v":""},{"$f":"IF(AND(AR590<>\"\",AU590=\"\"),AR590,IF(AND(AR590=\"\",AU590<>\"\"),AU590,IF(AND(AR590<>\"\",AU590<>\"\"),AR590,\"\")))","v":""},null,null,{"$f":"IF(C590=\"\",\"\",IF(AND(C590>=J590,C590<G590),1,0))","v":""},{"$f":"SUM(AY590:AY597)","v":0},{"$f":"IF(AZ590=8,CONCATENATE(\"Data Point \",B590,\" to \",\"Data Point \",(B590+8)),\"\")","v":""},{"$f":"IF(C590=\"\",\"\",IF(AND(C590<=J590,C590>F590),1,0))","v":""},{"$f":"SUM(BB590:BB597)","v":0},{"$f":"IF(BC590=8,CONCATENATE(\"Data Point \",B590,\" to \",\"Data Point \",(B590+8)),\"\")","v":""},{"$f":"IF(AND(BA590<>\"\",BD590=\"\"),BA590,IF(AND(BA590=\"\",BD590<>\"\"),BD590,IF(AND(BA590<>\"\",BD590<>\"\"),BA590,\"\")))","v":""},null,null,{"$f":"IF(C590=\"\",\"\",IF(OR(C590>G590,C590<Table115[[#This Row],[LCL]]),1,0))","v":""},{"$f":"IF(BH590=1,CONCATENATE(\"Data Point \",B590),\"\")","v":""}]
[null,{"$f":"IF(C591=\"\",\"\",B590+1)","v":""},null,"","","","",null,0,"","","",{"$f":"IF(C591=\"\",\"\",IF((3.27*$F$7)*(2/3)<0,0,(3.27*$F$7)*(2/3)))","v":""},{"$f":"IF(C591=\"\",\"\",IF((-3.27*$F$7)*(1/3)<0,0,(-3.27*$F$7)*(1/3)))","v":""},{"$f":"IF(C591=\"\",\"\",IF((-3.27*$F$7)*(2/3)<0,0,(-3.27*$F$7)*(2/3)))","v":""},"",{"$f":"IF(B591=\"\", \"\", 0)","v":""},"","","","",null,null,null,null,null,null,null,null,null,null,null,"",0,"","",0,"","",null,null,"",0,"","",0,"","",null,null,"",0,"","",0,"","",null,null,{"$f":"IF(C591=\"\",\"\",IF(OR(C591>G591,C591<Table115[[#This Row],[LCL]]),1,0))","v":""},""]
[null,"",null,"","","","",null,0,"","","","","","","","","","","","",null,null,null,null,null,null,null,null,null,null,null,"",0,"","",0,"","",null,null,"",0,"","",0,"","",null,null,"",0,"","",0,"","",null,null,{"$f":"IF(C592=\"\",\"\",IF(OR(C592>G592,C592<Table115[[#This Row],[LCL]]),1,0))","v":""},""]
[null,"",null,"","","","",null,0,"","","","","","","","","","","","",null,null,null,null,null,null,null,null,null,null,null,"",0,"","",0,"","",null,null,"",0,"","",0,"","",null,null,"",0,"","",0,"","",null,null,{"$f":"IF(C593=\"\",\"\",IF(OR(C593>G593,C593<Table115[[#This Row],[LCL]]),1,0))","v":""},""]
[null,"",null,"","","","",null,0,"","","","","","","","","","","","",null,null,null,null,null,null,null,null,null,null,null,"",0,"","",0,"","",null,null,"",0,"","",0,"","",null,null,"",0,"","",0,"","",null,null,{"$f":"IF(C594=\"\",\"\",IF(OR(C594>G594,C594<Table115[[#This Row],[LCL]]),1,0))","v":""},""]
[null,"",null,"","","","",null,0,"","","","","","","","","","","","",null,null,null,null,null,null,null,null,null,null,null,"",0,"","",0,"","",null,null,"",0,"","",0,"","",null,null,"",0,"","",0,"","",null,null,{"$f":"IF(C595=\"\",\"\",IF(OR(C595>G595,C595<Table115[[#This Row],[LCL]]),1,0))","v":""},""]
[null,"",null,"","","","",null,0,"","","","","","","","","","","","",null,null,null,null,null,null,null,null,null,null,null,"",0,"","",0,"","",null,null,"",0,"","",0,"","",null,null,"",0,"","",0,"","",null,null,{"$f":"IF(C596=\"\",\"\",IF(OR(C596>G596,C596<Table115[[#This Row],[LCL]]),1,0))","v":""},""]
[null,"",null,"","","","",null,0,"","",{"$f":"D597","v":""},"","","","","","","","","",null,null,null,null,null,null,null,null,null,null,null,"",0,"","",0,"","",null,null,"",0,"","",0,"","",null,null,"",0,"","",0,"","",null,null,{"$f":"IF(C597=\"\",\"\",IF(OR(C597>G597,C597<Table115[[#This Row],[LCL]]),1,0))","v":""},""]
[null,"",null,"","","","",null,0,"","","","","","","","","","","","",null,null,null,null,null,null,null,null,null,null,null,"",0,"","",0,"","",null,null,"",0,"","",0,"","",null,null,"",0,"","",0,"","",null,null,{"$f":"IF(C598=\"\",\"\",IF(OR(C598>G598,C598<Table115[[#This Row],[LCL]]),1,0))","v":""},""]
[null,"",null,"","","","",null,0,"","","","","","","","","","","","",null,null,null,null,null,null,null,null,null,null,null,"",0,"","",0,"","",null,null,"",0,"","",0,"","",null,null,"",0,"","",0,"","",null,null,{"$f":"IF(C599=\"\",\"\",IF(OR(C599>G599,C599<Table115[[#This Row],[LCL]]),1,0))","v":""},""]
[null,"",null,"","","","",null,0,"","","","","","","","","","","","",null,null,null,null,null,null,null,null,null,null,null,"",0,"","",0,"","",null,null,"",0,"","",0,"","",null,null,"",0,"","",0,"","",null,null,{"$f":"IF(C600=\"\",\"\",IF(OR(C600>G600,C600<Table115[[#This Row],[LCL]]),1,0))","v":""},""]
[null,"",null,"","","","",null,0,"","","","","","","","","","","","",null,null,null,null,null,null,null,null,null,null,null,"",0,"","",0,"","",null,null,"",0,"","",0,"","",null,null,"",0,"","",0,"","",null,null,{"$f":"IF(C601=\"\",\"\",IF(OR(C601>G601,C601<Table115[[#This Row],[LCL]]),1,0))","v":""},""]
[null,"",null,"","","","",null,0,"","","","","","","","","","","","",null,null,null,null,null,null,null,null,null,null,null,"",0,"","",0,"","",null,null,"",0,"","",0,"","",null,null,"",0,"","",0,"","",null,null,{"$f":"IF(C602=\"\",\"\",IF(OR(C602>G602,C602<Table115[[#This Row],[LCL]]),1,0))","v":""},""]
[null,"",null,"","","","",null,0,"","","","","","","","","","","","",null,null,null,null,null,null,null,null,null,null,null,"",0,"","",0,"","",null,null,"",0,"","",0,"","",null,null,"",0,"","",0,"","",null,null,{"$f":"IF(C603=\"\",\"\",IF(OR(C603>G603,C603<Table115[[#This Row],[LCL]]),1,0))","v":""},""]
[null,"",null,"","","","",null,0,"","","","","","","","","","","","",null,null,null,null,null,null,null,null,null,null,null,"",0,"","",0,"","",null,null,"",0,"","",0,"","",null,null,"",0,"","",0,"","",null,null,{"$f":"IF(C604=\"\",\"\",IF(OR(C604>G604,C604<Table115[[#This Row],[LCL]]),1,0))","v":""},""]
[null,"",null,"","","","",null,0,"","","","","","","","","","","","",null,null,null,null,null,null,null,null,null,null,null,"",0,"","",0,"","",null,null,"",0,"","",0,"","",null,null,"",0,"","",0,"","",null,null,{"$f":"IF(C605=\"\",\"\",IF(OR(C605>G605,C605<Table115[[#This Row],[LCL]]),1,0))","v":""},""]
[null,"",null,"","","","",null,0,"","","","","","","","","","","","",null,null,null,null,null,null,null,null,null,null,null,"",0,"","",0,"","",null,null,"",0,"","",0,"","",null,null,"",0,"","",0,"","",null,null,{"$f":"IF(C606=\"\",\"\",IF(OR(C606>G606,C606<Table115[[#This Row],[LCL]]),1,0))","v":""},""]
[null,"",null,"","","","",null,0,"","","","","","","","","","","","",null,null,null,null,null,null,null,null,null,null,null,"",0,"","",0,"","",null,null,"",0,"","",0,"","",null,null,"",0,"","",0,"","",null,null,{"$f":"IF(C607=\"\",\"\",IF(OR(C607>G607,C607<Table115[[#This Row],[LCL]]),1,0))","v":""},""]
[null,"",null,"","","","",null,0,"","","","","","","","","","","","",null,null,null,null,null,null,null,null,null,null,null,{"$f":"IF(C608=\"\",\"\",IF(AND(C608>=U608,C608<G608),1,0))","v":""},0,"",{"$f":"IF(C608=\"\",\"\",IF(AND(C608<=S608,C608>F608),1,0))","v":""},0,"","",null,null,"",0,"","",0,"","",null,null,"",0,"","",0,"","",null,null,{"$f":"IF(C608=\"\",\"\",IF(OR(C608>G608,C608<Table115[[#This Row],[LCL]]),1,0))","v":""},""]
[null,"",null,"","","","",null,0,"","","","","","","","","","","","",null,null,null,null,null,null,null,null,null,null,null,"",0,"","",0,"","",null,null,"",0,"","",0,"","",null,null,"",0,"","",0,"","",null,null,{"$f":"IF(C609=\"\",\"\",IF(OR(C609>G609,C609<Table115[[#This Row],[LCL]]),1,0))","v":""},""]
[null,"",null,"","","","",null,0,"","","","","","","","","","","","",null,null,null,null,null,null,null,null,null,null,null,"",0,"","",0,"","",null,null,"",0,"","",0,"","",null,null,"",0,"","",0,"","",null,null,{"$f":"IF(C610=\"\",\"\",IF(OR(C610>G610,C610<Table115[[#This Row],[LCL]]),1,0))","v":""},""]
[null,"",null,"","","","",null,0,"","","","","","","","","","","","",null,null,null,null,null,null,null,null,null,null,null,"",0,"","",0,"","",null,null,"",0,"","",0,"","",null,null,"",0,"","",0,"","",null,null,{"$f":"IF(C611=\"\",\"\",IF(OR(C611>G611,C611<Table115[[#This Row],[LCL]]),1,0))","v":""},""]
[null,"",null,"","","","",null,0,"","","","","","","","","","","","",null,null,null,null,null,null,null,null,null,null,null,"",0,"","",0,"","",null,null,"",0,"","",0,"","",null,null,"",0,"","",0,"","",null,null,{"$f":"IF(C612=\"\",\"\",IF(OR(C612>G612,C612<Table115[[#This Row],[LCL]]),1,0))","v":""},""]
[null,"",null,"","","","",null,0,"","","","","","","","","","","","",null,null,null,null,null,null,null,null,null,null,null,"",0,"","",0,"","",null,null,"",0,"","",0,"","",null,null,"",0,"","",0,"","",null,null,{"$f":"IF(C613=\"\",\"\",IF(OR(C613>G613,C613<Table115[[#This Row],[LCL]]),1,0))","v":""},""]
[null,"",null,"","","","",null,0,"","","","","","","","","","","","",null,null,null,null,null,null,null,null,null,null,null,"",0,"","",0,"","",null,null,"",0,"","",0,"","",null,null,"",0,"","",0,"","",null,null,{"$f":"IF(C614=\"\",\"\",IF(OR(C614>G614,C614<Table115[[#This Row],[LCL]]),1,0))","v":""},""]
[null,"",null,"","","","",null,0,"","","","","","","","","","","","",null,null,null,null,null,null,null,null,null,null,null,"",0,"","",0,"","",null,null,"",0,"","",0,"","",null,null,"",0,"","",0,"","",null,null,{"$f":"IF(C615=\"\",\"\",IF(OR(C615>G615,C615<Table115[[#This Row],[LCL]]),1,0))","v":""},""]
[null,"",null,"","","","",null,0,"","","","","","","","","","","","",null,null,null,null,null,null,null,null,null,null,null,"",0,"","",0,"","",null,null,"",0,"","",0,"","",null,null,"",0,"","",0,"","",null,null,{"$f":"IF(C616=\"\",\"\",IF(OR(C616>G616,C616<Table115[[#This Row],[LCL]]),1,0))","v":""},""]
[null,"",null,"","","","",null,0,"","","","","","","","","","","","",null,null,null,null,null,null,null,null,null,null,null,"",0,"","",0,"","",null,null,"",0,"","",0,"","",null,null,"",0,"","",0,"","",null,null,{"$f":"IF(C617=\"\",\"\",IF(OR(C617>G617,C617<Table115[[#This Row],[LCL]]),1,0))","v":""},""]
[null,"",null,"","","","",null,0,"","","","","","","","","","","","",null,null,null,null,null,null,null,null,null,null,null,"",0,"","",0,"","",null,null,"",0,"","",0,"","",null,null,"",0,"","",0,"","",null,null,{"$f":"IF(C618=\"\",\"\",IF(OR(C618>G618,C618<Table115[[#This Row],[LCL]]),1,0))","v":""},""]
[null,"",null,"","","","",null,0,"","","","","","","","","","","","",null,null,null,null,null,null,null,null,null,null,null,"",0,"","",0,"","",null,null,"",0,"","",0,"","",null,null,"",0,"","",0,"","",null,null,{"$f":"IF(C619=\"\",\"\",IF(OR(C619>G619,C619<Table115[[#This Row],[LCL]]),1,0))","v":""},""]
[null,"",null,"","","","",null,0,"","","","","","","","","","","","",null,null,null,null,null,null,null,null,null,null,null,"",0,"","",0,"","",null,null,"",0,"","",0,"","",null,null,"",0,"","",0,"","",null,null,{"$f":"IF(C620=\"\",\"\",IF(OR(C620>G620,C620<Table115[[#This Row],[LCL]]),1,0))","v":""},""]
[null,"",null,"","","","",null,0,"","","","","","","","","","","","",null,null,null,null,null,null,null,null,null,null,null,"",0,"","",0,"","",null,null,"",0,"","",0,"","",null,null,"",0,"","",0,"","",null,null,{"$f":"IF(C621=\"\",\"\",IF(OR(C621>G621,C621<Table115[[#This Row],[LCL]]),1,0))","v":""},""]
[null,"",null,"","","","",null,0,"","","","","","","","","","","","",null,null,null,null,null,null,null,null,null,null,null,"",0,"","",0,"","",null,null,"",0,"","",0,"","",null,null,"",0,"","",0,"","",null,null,{"$f":"IF(C622=\"\",\"\",IF(OR(C622>G622,C622<Table115[[#This Row],[LCL]]),1,0))","v":""},""]
[null,"",null,"","","","",null,0,"","","","","","","","","","","","",null,null,null,null,null,null,null,null,null,null,null,"",0,"","",0,"","",null,null,"",0,"","",0,"","",null,null,"",0,"","",0,"","",null,null,{"$f":"IF(C623=\"\",\"\",IF(OR(C623>G623,C623<Table115[[#This Row],[LCL]]),1,0))","v":""},""]
[null,"",null,"","","","",null,0,"","","","","","","","","","","","",null,null,null,null,null,null,null,null,null,null,null,"",0,"","",0,"","",null,null,"",0,"","",0,"","",null,null,"",0,"","",0,"","",null,null,{"$f":"IF(C624=\"\",\"\",IF(OR(C624>G624,C624<Table115[[#This Row],[LCL]]),1,0))","v":""},""]
[null,"",null,"","","","",null,0,"","","","","","","","","","","","",null,null,null,null,null,null,null,null,null,null,null,"",0,"","",0,"","",null,null,"",0,"","",0,"","",null,null,"",0,"","",0,"","",null,null,{"$f":"IF(C625=\"\",\"\",IF(OR(C625>G625,C625<Table115[[#This Row],[LCL]]),1,0))","v":""},""]
[null,"",null,"","","","",null,0,"","","","","","","","","","","","",null,null,null,null,null,null,null,null,null,null,null,"",0,"","",0,"","",null,null,"",0,"","",0,"","",null,null,"",0,"","",0,"","",null,null,{"$f":"IF(C626=\"\",\"\",IF(OR(C626>G626,C626<Table115[[#This Row],[LCL]]),1,0))","v":""},""]
[null,"",null,"","","","",null,0,"","","","","","","","","","","","",null,null,null,null,null,null,null,null,null,null,null,"",0,"","",0,"","",null,null,"",0,"","",0,"","",null,null,"",0,"","",0,"","",null,null,{"$f":"IF(C627=\"\",\"\",IF(OR(C627>G627,C627<Table115[[#This Row],[LCL]]),1,0))","v":""},""]
[null,"",null,"","","","",null,0,"","","","","","","","","","","","",null,null,null,null,null,null,null,null,null,null,null,"",0,"","",0,"","",null,null,"",0,"","",0,"","",null,null,"",0,"","",0,"","",null,null,{"$f":"IF(C628=\"\",\"\",IF(OR(C628>G628,C628<Table115[[#This Row],[LCL]]),1,0))","v":""},""]
[null,"",null,"","","","",null,0,"","","","","","","","","","","","",null,null,null,null,null,null,null,null,null,null,null,"",0,"","",0,"","",null,null,"",0,"","",0,"","",null,null,"",0,"","",0,"","",null,null,{"$f":"IF(C629=\"\",\"\",IF(OR(C629>G629,C629<Table115[[#This Row],[LCL]]),1,0))","v":""},""]
[null,"",null,"","","","",null,0,"","","","","","","","","","","","",null,null,null,null,null,null,null,null,null,null,null,"",0,"","",0,"","",null,null,"",0,"","",0,"","",null,null,"",0,"","",0,"","",null,null,{"$f":"IF(C630=\"\",\"\",IF(OR(C630>G630,C630<Table115[[#This Row],[LCL]]),1,0))","v":""},""]
[null,"",null,"","","","",null,0,"","","","","","","","","","","","",null,null,null,null,null,null,null,null,null,null,null,"",0,"","",0,"","",null,null,"",0,"","",0,"","",null,null,"",0,"","",0,"","",null,null,{"$f":"IF(C631=\"\",\"\",IF(OR(C631>G631,C631<Table115[[#This Row],[LCL]]),1,0))","v":""},""]
[null,"",null,"","","","",null,0,"","","","","","","","","","","","",null,null,null,null,null,null,null,null,null,null,null,"",0,"","",0,"","",null,null,"",0,"","",0,"","",null,null,"",0,"","",0,"","",null,null,{"$f":"IF(C632=\"\",\"\",IF(OR(C632>G632,C632<Table115[[#This Row],[LCL]]),1,0))","v":""},""]
[null,"",null,"","","","",null,0,"","","","","","","","","","","","",null,null,null,null,null,null,null,null,null,null,null,"",0,"","",0,"","",null,null,"",0,"","",0,"","",null,null,"",0,"","",0,"","",null,null,{"$f":"IF(C633=\"\",\"\",IF(OR(C633>G633,C633<Table115[[#This Row],[LCL]]),1,0))","v":""},""]
[null,"",null,"","","","",null,0,"","","","","","","","","","","","",null,null,null,null,null,null,null,null,null,null,null,"",0,"","",0,"","",null,null,"",0,"","",0,"","",null,null,"",0,"","",0,"","",null,null,{"$f":"IF(C634=\"\",\"\",IF(OR(C634>G634,C634<Table115[[#This Row],[LCL]]),1,0))","v":""},""]
[null,"",null,"","","","",null,0,"","","","","","","","","","","","",null,null,null,null,null,null,null,null,null,null,null,"",0,"","",0,"","",null,null,"",0,"","",0,"","",null,null,"",0,"","",0,"","",null,null,{"$f":"IF(C635=\"\",\"\",IF(OR(C635>G635,C635<Table115[[#This Row],[LCL]]),1,0))","v":""},""]
[null,"",null,"","","","",null,0,"","","","","","","","","","","","",null,null,null,null,null,null,null,null,null,null,null,"",0,"","",0,"","",null,null,"",0,"","",0,"","",null,null,"",0,"","",0,"","",null,null,{"$f":"IF(C636=\"\",\"\",IF(OR(C636>G636,C636<Table115[[#This Row],[LCL]]),1,0))","v":""},""]
[null,"",null,"","","","",null,0,"","","","","","","","","","","","",null,null,null,null,null,null,null,null,null,null,null,"",0,"","",0,"","",null,null,"",0,"","",0,"","",null,null,"",0,"","",0,"","",null,null,{"$f":"IF(C637=\"\",\"\",IF(OR(C637>G637,C637<Table115[[#This Row],[LCL]]),1,0))","v":""},""]
[null,"",null,"","","","",null,0,"","","","","","","","","","","","",null,null,null,null,null,null,null,null,null,null,null,"",0,"","",0,"","",null,null,"",0,"","",0,"","",null,null,"",0,"","",0,"","",null,null,{"$f":"IF(C638=\"\",\"\",IF(OR(C638>G638,C638<Table115[[#This Row],[LCL]]),1,0))","v":""},""]
[null,"",null,"","","","",null,0,"","","","","","","","","","","","",null,null,null,null,null,null,null,null,null,null,null,"",0,"","",0,"","",null,null,"",0,"","",0,"","",null,null,"",0,"","",0,"","",null,null,{"$f":"IF(C639=\"\",\"\",IF(OR(C639>G639,C639<Table115[[#This Row],[LCL]]),1,0))","v":""},""]
[null,"",null,"","","","",null,0,"","","","","","","","","","","","",null,null,null,null,null,null,null,null,null,null,null,"",0,"","",0,"","",null,null,"",0,"","",0,"","",null,null,"",0,"","",0,"","",null,null,{"$f":"IF(C640=\"\",\"\",IF(OR(C640>G640,C640<Table115[[#This Row],[LCL]]),1,0))","v":""},""]
[null,"",null,"","","","",null,0,"","","","","","","","","","","","",null,null,null,null,null,null,null,null,null,null,null,"",0,"","",0,"","",null,null,"",0,"","",0,"","",null,null,"",0,"","",0,"","",null,null,{"$f":"IF(C641=\"\",\"\",IF(OR(C641>G641,C641<Table115[[#This Row],[LCL]]),1,0))","v":""},""]
[null,"",null,"","","","",null,0,"","","","","","","","","","","","",null,null,null,null,null,null,null,null,null,null,null,"",0,"","",0,"","",null,null,"",0,"","",0,"","",null,null,"",0,"","",0,"","",null,null,{"$f":"IF(C642=\"\",\"\",IF(OR(C642>G642,C642<Table115[[#This Row],[LCL]]),1,0))","v":""},""]
[null,"",null,"","","","",null,0,"","","","","","","","","","","","",null,null,null,null,null,null,null,null,null,null,null,"",0,"","",0,"","",null,null,"",0,"","",0,"","",null,null,"",0,"","",0,"","",null,null,{"$f":"IF(C643=\"\",\"\",IF(OR(C643>G643,C643<Table115[[#This Row],[LCL]]),1,0))","v":""},""]
[null,"",null,"","","","",null,0,"","","","","","","","","","","","",null,null,null,null,null,null,null,null,null,null,null,"",0,"","",0,"","",null,null,"",0,"","",0,"","",null,null,"",0,"","",0,"","",null,null,{"$f":"IF(C644=\"\",\"\",IF(OR(C644>G644,C644<Table115[[#This Row],[LCL]]),1,0))","v":""},""]
[null,"",null,"","","","",null,0,"","","","","","","","","","","","",null,null,null,null,null,null,null,null,null,null,null,"",0,"","",0,"","",null,null,"",0,"","",0,"","",null,null,"",0,"","",0,"","",null,null,{"$f":"IF(C645=\"\",\"\",IF(OR(C645>G645,C645<Table115[[#This Row],[LCL]]),1,0))","v":""},""]
[null,"",null,"","","","",null,0,"","","","","","","","","","","","",null,null,null,null,null,null,null,null,null,null,null,"",0,"","",0,"","",null,null,"",0,"","",0,"","",null,null,"",0,"","",0,"","",null,null,{"$f":"IF(C646=\"\",\"\",IF(OR(C646>G646,C646<Table115[[#This Row],[LCL]]),1,0))","v":""},""]
[null,"",null,"","","","",null,0,"","","","","","","","","","","","",null,null,null,null,null,null,null,null,null,null,null,"",0,"","",0,"","",null,null,"",0,"","",0,"","",null,null,"",0,"","",0,"","",null,null,{"$f":"IF(C647=\"\",\"\",IF(OR(C647>G647,C647<Table115[[#This Row],[LCL]]),1,0))","v":""},""]
[null,"",null,"","","","",null,0,"","","","","","","","","","","","",null,null,null,null,null,null,null,null,null,null,null,"",0,"","",0,"","",null,null,"",0,"","",0,"","",null,null,"",0,"","",0,"","",null,null,{"$f":"IF(C648=\"\",\"\",IF(OR(C648>G648,C648<Table115[[#This Row],[LCL]]),1,0))","v":""},""]
[null,"",null,"","","","",null,0,"","","","","","","","","","","","",null,null,null,null,null,null,null,null,null,null,null,"",0,"","",0,"","",null,null,"",0,"","",0,"","",null,null,"",0,"","",0,"","",null,null,{"$f":"IF(C649=\"\",\"\",IF(OR(C649>G649,C649<Table115[[#This Row],[LCL]]),1,0))","v":""},""]
[null,"",null,"","","","",null,0,"","","","","","","","","","","","",null,null,null,null,null,null,null,null,null,null,null,"",0,"","",0,"","",null,null,"",0,"","",0,"","",null,null,"",0,"","",0,"","",null,null,{"$f":"IF(C650=\"\",\"\",IF(OR(C650>G650,C650<Table115[[#This Row],[LCL]]),1,0))","v":""},""]
[null,"",null,"","","","",null,0,"","","","","","","","","","","","",null,null,null,null,null,null,null,null,null,null,null,"",0,"","",0,"","",null,null,"",0,"","",0,"","",null,null,"",0,"","",0,"","",null,null,{"$f":"IF(C651=\"\",\"\",IF(OR(C651>G651,C651<Table115[[#This Row],[LCL]]),1,0))","v":""},""]
[null,"",null,"","","","",null,0,"","","","","","","","","","","","",null,null,null,null,null,null,null,null,null,null,null,"",0,"","",0,"","",null,null,"",0,"","",0,"","",null,null,"",0,"","",0,"","",null,null,{"$f":"IF(C652=\"\",\"\",IF(OR(C652>G652,C652<Table115[[#This Row],[LCL]]),1,0))","v":""},""]
[null,"",null,{"$f":"IF(C653=\"\",\"\",ABS(C653-C652))","v":""},"","",{"$f":"IF(C653=\"\",\"\",$F$6+(2.66*$F$7))","v":""},null,{"$f":"IF(B653>$F$8,0,1)","v":0},{"$f":"IF(G653=\"\",\"\",$F$6)","v":""},"","","","","","","",{"$f":"IF(C653=\"\",\"\",IF($F$6-(0.89*$F$7)<0, 0, $F$6-(0.89*$F$7)))","v":""},{"$f":"IF(C653=\"\",\"\",IF($F$6-(1.77*$F$7)<0,0,$F$6-(1.77*$F$7)))","v":""},{"$f":"IF(C653=\"\",\"\",$F$6+(0.89*$F$7))","v":""},{"$f":"IF(C653=\"\",\"\",$F$6+(1.77*$F$7))","v":""},null,null,null,null,null,null,null,null,null,null,null,"",0,"","",0,"","",null,null,"",0,"","",0,"","",null,null,"",0,"","",0,"","",null,null,{"$f":"IF(C653=\"\",\"\",IF(OR(C653>G653,C653<Table115[[#This Row],[LCL]]),1,0))","v":""},""]
[null,"",null,"",{"$f":"IF(C654=\"\",\"\",3.27*$F$7)","v":""},{"$f":"IF(C654=\"\",\"\",IF($F$6-(2.66*$F$7)<0, 0, $F$6-(2.66*$F$7)))","v":""},"",null,0,"",{"$f":"IF(G654=\"\",\"\",$F$7)","v":""},"","","","",{"$f":"IF(C654=\"\",\"\",(3.27*$F$7)*(1/3))","v":""},"","","","","",null,null,null,null,null,null,null,null,null,null,null,"",{"$f":"SUM(AG654:AG656)","v":0},{"$f":"IF(AH655=2,\"\",IF(AH654>=2,CONCATENATE(\"Data Point \",B654,\" to \",\"Data Point \",(B654+2)),\"\"))","v":""},"",{"$f":"SUM(AJ654:AJ656)","v":0},{"$f":"IF(AK655=2,\"\",IF(AK654>=2,CONCATENATE(\"Data Point \",B654,\" to \",\"Data Point \",(B654+2)),\"\"))","v":""},{"$f":"IF(AND(AI654<>\"\",AL654=\"\"),AI654,IF(AND(AI654=\"\",AL654<>\"\"),AL654,IF(AND(AI654<>\"\",AL654<>\"\"),AI654,\"\")))","v":""},null,null,{"$f":"IF(C654=\"\",\"\",IF(AND(C654>=T654,C654<G654),1,0))","v":""},{"$f":"SUM(AP654:AP658)","v":0},{"$f":"IF(AQ655=4,\"\",IF(AQ654>=4,CONCATENATE(\"Data Point \",B654,\" to \",\"Data Point \",(B654+4)),\"\"))","v":""},{"$f":"IF(C654=\"\",\"\",IF(AND(C654<=R654,C654>F654),1,0))","v":""},{"$f":"SUM(AS654:AS658)","v":0},{"$f":"IF(AT655=4,\"\",IF(AT654>=4,CONCATENATE(\"Data Point \",B654,\" to \",\"Data Point \",(B654+4)),\"\"))","v":""},{"$f":"IF(AND(AR654<>\"\",AU654=\"\"),AR654,IF(AND(AR654=\"\",AU654<>\"\"),AU654,IF(AND(AR654<>\"\",AU654<>\"\"),AR654,\"\")))","v":""},null,null,{"$f":"IF(C654=\"\",\"\",IF(AND(C654>=J654,C654<G654),1,0))","v":""},{"$f":"SUM(AY654:AY661)","v":0},{"$f":"IF(AZ654=8,CONCATENATE(\"Data Point \",B654,\" to \",\"Data Point \",(B654+8)),\"\")","v":""},{"$f":"IF(C654=\"\",\"\",IF(AND(C654<=J654,C654>F654),1,0))","v":""},{"$f":"SUM(BB654:BB661)","v":0},{"$f":"IF(BC654=8,CONCATENATE(\"Data Point \",B654,\" to \",\"Data Point \",(B654+8)),\"\")","v":""},{"$f":"IF(AND(BA654<>\"\",BD654=\"\"),BA654,IF(AND(BA654=\"\",BD654<>\"\"),BD654,IF(AND(BA654<>\"\",BD654<>\"\"),BA654,\"\")))","v":""},null,null,{"$f":"IF(C654=\"\",\"\",IF(OR(C654>G654,C654<Table115[[#This Row],[LCL]]),1,0))","v":""},{"$f":"IF(BH654=1,CONCATENATE(\"Data Point \",B654),\"\")","v":""}]
[null,{"$f":"IF(C655=\"\",\"\",B654+1)","v":""},null,"","","","",null,0,"","","",{"$f":"IF(C655=\"\",\"\",IF((3.27*$F$7)*(2/3)<0,0,(3.27*$F$7)*(2/3)))","v":""},{"$f":"IF(C655=\"\",\"\",IF((-3.27*$F$7)*(1/3)<0,0,(-3.27*$F$7)*(1/3)))","v":""},{"$f":"IF(C655=\"\",\"\",IF((-3.27*$F$7)*(2/3)<0,0,(-3.27*$F$7)*(2/3)))","v":""},"",{"$f":"IF(B655=\"\", \"\", 0)","v":""},"","","","",null,null,null,null,null,null,null,null,null,null,null,"",0,"","",0,"","",null,null,"",0,"","",0,"","",null,null,"",0,"","",0,"","",null,null,{"$f":"IF(C655=\"\",\"\",IF(OR(C655>G655,C655<Table115[[#This Row],[LCL]]),1,0))","v":""},""]
[null,"",null,"","","","",null,0,"","","","","","","","","","","","",null,null,null,null,null,null,null,null,null,null,null,"",0,"","",0,"","",null,null,"",0,"","",0,"","",null,null,"",0,"","",0,"","",null,null,{"$f":"IF(C656=\"\",\"\",IF(OR(C656>G656,C656<Table115[[#This Row],[LCL]]),1,0))","v":""},""]
[null,"",null,"","","","",null,0,"","","","","","","","","","","","",null,null,null,null,null,null,null,null,null,null,null,"",0,"","",0,"","",null,null,"",0,"","",0,"","",null,null,"",0,"","",0,"","",null,null,{"$f":"IF(C657=\"\",\"\",IF(OR(C657>G657,C657<Table115[[#This Row],[LCL]]),1,0))","v":""},""]
[null,"",null,"","","","",null,0,"","","","","","","","","","","","",null,null,null,null,null,null,null,null,null,null,null,"",0,"","",0,"","",null,null,"",0,"","",0,"","",null,null,"",0,"","",0,"","",null,null,{"$f":"IF(C658=\"\",\"\",IF(OR(C658>G658,C658<Table115[[#This Row],[LCL]]),1,0))","v":""},""]
[null,"",null,"","","","",null,0,"","","","","","","","","","","","",null,null,null,null,null,null,null,null,null,null,null,"",0,"","",0,"","",null,null,"",0,"","",0,"","",null,null,"",0,"","",0,"","",null,null,{"$f":"IF(C659=\"\",\"\",IF(OR(C659>G659,C659<Table115[[#This Row],[LCL]]),1,0))","v":""},""]
[null,"",null,"","","","",null,0,"","","","","","","","","","","","",null,null,null,null,null,null,null,null,null,null,null,"",0,"","",0,"","",null,null,"",0,"","",0,"","",null,null,"",0,"","",0,"","",null,null,{"$f":"IF(C660=\"\",\"\",IF(OR(C660>G660,C660<Table115[[#This Row],[LCL]]),1,0))","v":""},""]
[null,"",null,"","","","",null,0,"","",{"$f":"D661","v":""},"","","","","","","","","",null,null,null,null,null,null,null,null,null,null,null,"",0,"","",0,"","",null,null,"",0,"","",0,"","",null,null,"",0,"","",0,"","",null,null,{"$f":"IF(C661=\"\",\"\",IF(OR(C661>G661,C661<Table115[[#This Row],[LCL]]),1,0))","v":""},""]
[null,"",null,"","","","",null,0,"","","","","","","","","","","","",null,null,null,null,null,null,null,null,null,null,null,"",0,"","",0,"","",null,null,"",0,"","",0,"","",null,null,"",0,"","",0,"","",null,null,{"$f":"IF(C662=\"\",\"\",IF(OR(C662>G662,C662<Table115[[#This Row],[LCL]]),1,0))","v":""},""]
[null,"",null,"","","","",null,0,"","","","","","","","","","","","",null,null,null,null,null,null,null,null,null,null,null,"",0,"","",0,"","",null,null,"",0,"","",0,"","",null,null,"",0,"","",0,"","",null,null,{"$f":"IF(C663=\"\",\"\",IF(OR(C663>G663,C663<Table115[[#This Row],[LCL]]),1,0))","v":""},""]
[null,"",null,"","","","",null,0,"","","","","","","","","","","","",null,null,null,null,null,null,null,null,null,null,null,"",0,"","",0,"","",null,null,"",0,"","",0,"","",null,null,"",0,"","",0,"","",null,null,{"$f":"IF(C664=\"\",\"\",IF(OR(C664>G664,C664<Table115[[#This Row],[LCL]]),1,0))","v":""},""]
[null,"",null,"","","","",null,0,"","","","","","","","","","","","",null,null,null,null,null,null,null,null,null,null,null,"",0,"","",0,"","",null,null,"",0,"","",0,"","",null,null,"",0,"","",0,"","",null,null,{"$f":"IF(C665=\"\",\"\",IF(OR(C665>G665,C665<Table115[[#This Row],[LCL]]),1,0))","v":""},""]
[null,"",null,"","","","",null,0,"","","","","","","","","","","","",null,null,null,null,null,null,null,null,null,null,null,"",0,"","",0,"","",null,null,"",0,"","",0,"","",null,null,"",0,"","",0,"","",null,null,{"$f":"IF(C666=\"\",\"\",IF(OR(C666>G666,C666<Table115[[#This Row],[LCL]]),1,0))","v":""},""]
[null,"",null,"","","","",null,0,"","","","","","","","","","","","",null,null,null,null,null,null,null,null,null,null,null,"",0,"","",0,"","",null,null,"",0,"","",0,"","",null,null,"",0,"","",0,"","",null,null,{"$f":"IF(C667=\"\",\"\",IF(OR(C667>G667,C667<Table115[[#This Row],[LCL]]),1,0))","v":""},""]
[null,"",null,"","","","",null,0,"","","","","","","","","","","","",null,null,null,null,null,null,null,null,null,null,null,"",0,"","",0,"","",null,null,"",0,"","",0,"","",null,null,"",0,"","",0,"","",null,null,{"$f":"IF(C668=\"\",\"\",IF(OR(C668>G668,C668<Table115[[#This Row],[LCL]]),1,0))","v":""},""]
[null,"",null,"","","","",null,0,"","","","","","","","","","","","",null,null,null,null,null,null,null,null,null,null,null,"",0,"","",0,"","",null,null,"",0,"","",0,"","",null,null,"",0,"","",0,"","",null,null,{"$f":"IF(C669=\"\",\"\",IF(OR(C669>G669,C669<Table115[[#This Row],[LCL]]),1,0))","v":""},""]
[null,"",null,"","","","",null,0,"","","","","","","","","","","","",null,null,null,null,null,null,null,null,null,null,null,"",0,"","",0,"","",null,null,"",0,"","",0,"","",null,null,"",0,"","",0,"","",null,null,{"$f":"IF(C670=\"\",\"\",IF(OR(C670>G670,C670<Table115[[#This Row],[LCL]]),1,0))","v":""},""]
[null,"",null,"","","","",null,0,"","","","","","","","","","","","",null,null,null,null,null,null,null,null,null,null,null,"",0,"","",0,"","",null,null,"",0,"","",0,"","",null,null,"",0,"","",0,"","",null,null,{"$f":"IF(C671=\"\",\"\",IF(OR(C671>G671,C671<Table115[[#This Row],[LCL]]),1,0))","v":""},""]
[null,"",null,"","","","",null,0,"","","","","","","","","","","","",null,null,null,null,null,null,null,null,null,null,null,{"$f":"IF(C672=\"\",\"\",IF(AND(C672>=U672,C672<G672),1,0))","v":""},0,"",{"$f":"IF(C672=\"\",\"\",IF(AND(C672<=S672,C672>F672),1,0))","v":""},0,"","",null,null,"",0,"","",0,"","",null,null,"",0,"","",0,"","",null,null,{"$f":"IF(C672=\"\",\"\",IF(OR(C672>G672,C672<Table115[[#This Row],[LCL]]),1,0))","v":""},""]
[null,"",null,"","","","",null,0,"","","","","","","","","","","","",null,null,null,null,null,null,null,null,null,null,null,"",0,"","",0,"","",null,null,"",0,"","",0,"","",null,null,"",0,"","",0,"","",null,null,{"$f":"IF(C673=\"\",\"\",IF(OR(C673>G673,C673<Table115[[#This Row],[LCL]]),1,0))","v":""},""]
[null,"",null,"","","","",null,0,"","","","","","","","","","","","",null,null,null,null,null,null,null,null,null,null,null,"",0,"","",0,"","",null,null,"",0,"","",0,"","",null,null,"",0,"","",0,"","",null,null,{"$f":"IF(C674=\"\",\"\",IF(OR(C674>G674,C674<Table115[[#This Row],[LCL]]),1,0))","v":""},""]
[null,"",null,"","","","",null,0,"","","","","","","","","","","","",null,null,null,null,null,null,null,null,null,null,null,"",0,"","",0,"","",null,null,"",0,"","",0,"","",null,null,"",0,"","",0,"","",null,null,{"$f":"IF(C675=\"\",\"\",IF(OR(C675>G675,C675<Table115[[#This Row],[LCL]]),1,0))","v":""},""]
[null,"",null,"","","","",null,0,"","","","","","","","","","","","",null,null,null,null,null,null,null,null,null,null,null,"",0,"","",0,"","",null,null,"",0,"","",0,"","",null,null,"",0,"","",0,"","",null,null,{"$f":"IF(C676=\"\",\"\",IF(OR(C676>G676,C676<Table115[[#This Row],[LCL]]),1,0))","v":""},""]
[null,"",null,"","","","",null,0,"","","","","","","","","","","","",null,null,null,null,null,null,null,null,null,null,null,"",0,"","",0,"","",null,null,"",0,"","",0,"","",null,null,"",0,"","",0,"","",null,null,{"$f":"IF(C677=\"\",\"\",IF(OR(C677>G677,C677<Table115[[#This Row],[LCL]]),1,0))","v":""},""]
[null,"",null,"","","","",null,0,"","","","","","","","","","","","",null,null,null,null,null,null,null,null,null,null,null,"",0,"","",0,"","",null,null,"",0,"","",0,"","",null,null,"",0,"","",0,"","",null,null,{"$f":"IF(C678=\"\",\"\",IF(OR(C678>G678,C678<Table115[[#This Row],[LCL]]),1,0))","v":""},""]
[null,"",null,"","","","",null,0,"","","","","","","","","","","","",null,null,null,null,null,null,null,null,null,null,null,"",0,"","",0,"","",null,null,"",0,"","",0,"","",null,null,"",0,"","",0,"","",null,null,{"$f":"IF(C679=\"\",\"\",IF(OR(C679>G679,C679<Table115[[#This Row],[LCL]]),1,0))","v":""},""]
[null,"",null,"","","","",null,0,"","","","","","","","","","","","",null,null,null,null,null,null,null,null,null,null,null,"",0,"","",0,"","",null,null,"",0,"","",0,"","",null,null,"",0,"","",0,"","",null,null,{"$f":"IF(C680=\"\",\"\",IF(OR(C680>G680,C680<Table115[[#This Row],[LCL]]),1,0))","v":""},""]
[null,"",null,"","","","",null,0,"","","","","","","","","","","","",null,null,null,null,null,null,null,null,null,null,null,"",0,"","",0,"","",null,null,"",0,"","",0,"","",null,null,"",0,"","",0,"","",null,null,{"$f":"IF(C681=\"\",\"\",IF(OR(C681>G681,C681<Table115[[#This Row],[LCL]]),1,0))","v":""},""]
[null,"",null,"","","","",null,0,"","","","","","","","","","","","",null,null,null,null,null,null,null,null,null,null,null,"",0,"","",0,"","",null,null,"",0,"","",0,"","",null,null,"",0,"","",0,"","",null,null,{"$f":"IF(C682=\"\",\"\",IF(OR(C682>G682,C682<Table115[[#This Row],[LCL]]),1,0))","v":""},""]
[null,"",null,"","","","",null,0,"","","","","","","","","","","","",null,null,null,null,null,null,null,null,null,null,null,"",0,"","",0,"","",null,null,"",0,"","",0,"","",null,null,"",0,"","",0,"","",null,null,{"$f":"IF(C683=\"\",\"\",IF(OR(C683>G683,C683<Table115[[#This Row],[LCL]]),1,0))","v":""},""]
[null,"",null,"","","","",null,0,"","","","","","","","","","","","",null,null,null,null,null,null,null,null,null,null,null,"",0,"","",0,"","",null,null,"",0,"","",0,"","",null,null,"",0,"","",0,"","",null,null,{"$f":"IF(C684=\"\",\"\",IF(OR(C684>G684,C684<Table115[[#This Row],[LCL]]),1,0))","v":""},""]
[null,"",null,"","","","",null,0,"","","","","","","","","","","","",null,null,null,null,null,null,null,null,null,null,null,"",0,"","",0,"","",null,null,"",0,"","",0,"","",null,null,"",0,"","",0,"","",null,null,{"$f":"IF(C685=\"\",\"\",IF(OR(C685>G685,C685<Table115[[#This Row],[LCL]]),1,0))","v":""},""]
[null,"",null,"","","","",null,0,"","","","","","","","","","","","",null,null,null,null,null,null,null,null,null,null,null,"",0,"","",0,"","",null,null,"",0,"","",0,"","",null,null,"",0,"","",0,"","",null,null,{"$f":"IF(C686=\"\",\"\",IF(OR(C686>G686,C686<Table115[[#This Row],[LCL]]),1,0))","v":""},""]
[null,"",null,"","","","",null,0,"","","","","","","","","","","","",null,null,null,null,null,null,null,null,null,null,null,"",0,"","",0,"","",null,null,"",0,"","",0,"","",null,null,"",0,"","",0,"","",null,null,{"$f":"IF(C687=\"\",\"\",IF(OR(C687>G687,C687<Table115[[#This Row],[LCL]]),1,0))","v":""},""]
[null,"",null,"","","","",null,0,"","","","","","","","","","","","",null,null,null,null,null,null,null,null,null,null,null,"",0,"","",0,"","",null,null,"",0,"","",0,"","",null,null,"",0,"","",0,"","",null,null,{"$f":"IF(C688=\"\",\"\",IF(OR(C688>G688,C688<Table115[[#This Row],[LCL]]),1,0))","v":""},""]
[null,"",null,"","","","",null,0,"","","","","","","","","","","","",null,null,null,null,null,null,null,null,null,null,null,"",0,"","",0,"","",null,null,"",0,"","",0,"","",null,null,"",0,"","",0,"","",null,null,{"$f":"IF(C689=\"\",\"\",IF(OR(C689>G689,C689<Table115[[#This Row],[LCL]]),1,0))","v":""},""]
[null,"",null,"","","","",null,0,"","","","","","","","","","","","",null,null,null,null,null,null,null,null,null,null,null,"",0,"","",0,"","",null,null,"",0,"","",0,"","",null,null,"",0,"","",0,"","",null,null,{"$f":"IF(C690=\"\",\"\",IF(OR(C690>G690,C690<Table115[[#This Row],[LCL]]),1,0))","v":""},""]
[null,"",null,"","","","",null,0,"","","","","","","","","","","","",null,null,null,null,null,null,null,null,null,null,null,"",0,"","",0,"","",null,null,"",0,"","",0,"","",null,null,"",0,"","",0,"","",null,null,{"$f":"IF(C691=\"\",\"\",IF(OR(C691>G691,C691<Table115[[#This Row],[LCL]]),1,0))","v":""},""]
[null,"",null,"","","","",null,0,"","","","","","","","","","","","",null,null,null,null,null,null,null,null,null,null,null,"",0,"","",0,"","",null,null,"",0,"","",0,"","",null,null,"",0,"","",0,"","",null,null,{"$f":"IF(C692=\"\",\"\",IF(OR(C692>G692,C692<Table115[[#This Row],[LCL]]),1,0))","v":""},""]
[null,"",null,"","","","",null,0,"","","","","","","","","","","","",null,null,null,null,null,null,null,null,null,null,null,"",0,"","",0,"","",null,null,"",0,"","",0,"","",null,null,"",0,"","",0,"","",null,null,{"$f":"IF(C693=\"\",\"\",IF(OR(C693>G693,C693<Table115[[#This Row],[LCL]]),1,0))","v":""},""]
[null,"",null,"","","","",null,0,"","","","","","","","","","","","",null,null,null,null,null,null,null,null,null,null,null,"",0,"","",0,"","",null,null,"",0,"","",0,"","",null,null,"",0,"","",0,"","",null,null,{"$f":"IF(C694=\"\",\"\",IF(OR(C694>G694,C694<Table115[[#This Row],[LCL]]),1,0))","v":""},""]
[null,"",null,"","","","",null,0,"","","","","","","","","","","","",null,null,null,null,null,null,null,null,null,null,null,"",0,"","",0,"","",null,null,"",0,"","",0,"","",null,null,"",0,"","",0,"","",null,null,{"$f":"IF(C695=\"\",\"\",IF(OR(C695>G695,C695<Table115[[#This Row],[LCL]]),1,0))","v":""},""]
[null,"",null,"","","","",null,0,"","","","","","","","","","","","",null,null,null,null,null,null,null,null,null,null,null,"",0,"","",0,"","",null,null,"",0,"","",0,"","",null,null,"",0,"","",0,"","",null,null,{"$f":"IF(C696=\"\",\"\",IF(OR(C696>G696,C696<Table115[[#This Row],[LCL]]),1,0))","v":""},""]
[null,"",null,"","","","",null,0,"","","","","","","","","","","","",null,null,null,null,null,null,null,null,null,null,null,"",0,"","",0,"","",null,null,"",0,"","",0,"","",null,null,"",0,"","",0,"","",null,null,{"$f":"IF(C697=\"\",\"\",IF(OR(C697>G697,C697<Table115[[#This Row],[LCL]]),1,0))","v":""},""]
[null,"",null,"","","","",null,0,"","","","","","","","","","","","",null,null,null,null,null,null,null,null,null,null,null,"",0,"","",0,"","",null,null,"",0,"","",0,"","",null,null,"",0,"","",0,"","",null,null,{"$f":"IF(C698=\"\",\"\",IF(OR(C698>G698,C698<Table115[[#This Row],[LCL]]),1,0))","v":""},""]
[null,"",null,"","","","",null,0,"","","","","","","","","","","","",null,null,null,null,null,null,null,null,null,null,null,"",0,"","",0,"","",null,null,"",0,"","",0,"","",null,null,"",0,"","",0,"","",null,null,{"$f":"IF(C699=\"\",\"\",IF(OR(C699>G699,C699<Table115[[#This Row],[LCL]]),1,0))","v":""},""]
[null,"",null,"","","","",null,0,"","","","","","","","","","","","",null,null,null,null,null,null,null,null,null,null,null,"",0,"","",0,"","",null,null,"",0,"","",0,"","",null,null,"",0,"","",0,"","",null,null,{"$f":"IF(C700=\"\",\"\",IF(OR(C700>G700,C700<Table115[[#This Row],[LCL]]),1,0))","v":""},""]
[null,"",null,"","","","",null,0,"","","","","","","","","","","","",null,null,null,null,null,null,null,null,null,null,null,"",0,"","",0,"","",null,null,"",0,"","",0,"","",null,null,"",0,"","",0,"","",null,null,{"$f":"IF(C701=\"\",\"\",IF(OR(C701>G701,C701<Table115[[#This Row],[LCL]]),1,0))","v":""},""]
[null,"",null,"","","","",null,0,"","","","","","","","","","","","",null,null,null,null,null,null,null,null,null,null,null,"",0,"","",0,"","",null,null,"",0,"","",0,"","",null,null,"",0,"","",0,"","",null,null,{"$f":"IF(C702=\"\",\"\",IF(OR(C702>G702,C702<Table115[[#This Row],[LCL]]),1,0))","v":""},""]
[null,"",null,"","","","",null,0,"","","","","","","","","","","","",null,null,null,null,null,null,null,null,null,null,null,"",0,"","",0,"","",null,null,"",0,"","",0,"","",null,null,"",0,"","",0,"","",null,null,{"$f":"IF(C703=\"\",\"\",IF(OR(C703>G703,C703<Table115[[#This Row],[LCL]]),1,0))","v":""},""]
[null,"",null,"","","","",null,0,"","","","","","","","","","","","",null,null,null,null,null,null,null,null,null,null,null,"",0,"","",0,"","",null,null,"",0,"","",0,"","",null,null,"",0,"","",0,"","",null,null,{"$f":"IF(C704=\"\",\"\",IF(OR(C704>G704,C704<Table115[[#This Row],[LCL]]),1,0))","v":""},""]
[null,"",null,"","","","",null,0,"","","","","","","","","","","","",null,null,null,null,null,null,null,null,null,null,null,"",0,"","",0,"","",null,null,"",0,"","",0,"","",null,null,"",0,"","",0,"","",null,null,{"$f":"IF(C705=\"\",\"\",IF(OR(C705>G705,C705<Table115[[#This Row],[LCL]]),1,0))","v":""},""]
[null,"",null,"","","","",null,0,"","","","","","","","","","","","",null,null,null,null,null,null,null,null,null,null,null,"",0,"","",0,"","",null,null,"",0,"","",0,"","",null,null,"",0,"","",0,"","",null,null,{"$f":"IF(C706=\"\",\"\",IF(OR(C706>G706,C706<Table115[[#This Row],[LCL]]),1,0))","v":""},""]
[null,"",null,"","","","",null,0,"","","","","","","","","","","","",null,null,null,null,null,null,null,null,null,null,null,"",0,"","",0,"","",null,null,"",0,"","",0,"","",null,null,"",0,"","",0,"","",null,null,{"$f":"IF(C707=\"\",\"\",IF(OR(C707>G707,C707<Table115[[#This Row],[LCL]]),1,0))","v":""},""]
[null,"",null,"","","","",null,0,"","","","","","","","","","","","",null,null,null,null,null,null,null,null,null,null,null,"",0,"","",0,"","",null,null,"",0,"","",0,"","",null,null,"",0,"","",0,"","",null,null,{"$f":"IF(C708=\"\",\"\",IF(OR(C708>G708,C708<Table115[[#This Row],[LCL]]),1,0))","v":""},""]
[null,"",null,"","","","",null,0,"","","","","","","","","","","","",null,null,null,null,null,null,null,null,null,null,null,"",0,"","",0,"","",null,null,"",0,"","",0,"","",null,null,"",0,"","",0,"","",null,null,{"$f":"IF(C709=\"\",\"\",IF(OR(C709>G709,C709<Table115[[#This Row],[LCL]]),1,0))","v":""},""]
[null,"",null,"","","","",null,0,"","","","","","","","","","","","",null,null,null,null,null,null,null,null,null,null,null,"",0,"","",0,"","",null,null,"",0,"","",0,"","",null,null,"",0,"","",0,"","",null,null,{"$f":"IF(C710=\"\",\"\",IF(OR(C710>G710,C710<Table115[[#This Row],[LCL]]),1,0))","v":""},""]

{"sheet":"U_Chart","index":5,"n_rows":711,"n_cols":493,"rows_kept":711,"cut":false,"hidden":false,"merged":[[7,6,7,7],[1,0,1,24],[4,6,4,7],[3,15,3,18],[3,0,3,7],[4,0,4,1],[9,4,10,4],[9,5,10,5],[4,4,4,5],[7,0,7,1],[8,0,8,1],[10,0,10,1],[9,0,9,1],[7,2,7,3],[8,2,8,3],[9,2,9,3],[10,2,10,3],[5,0,5,1],[6,0,6,1],[4,2,4,3],[5,2,5,3],[6,2,6,3]]}
[]
["       u Chart for Discrete Data (with Variable Sample Size)",null,null,null,null,null,null,null,null,null,null,null,null,null,null,null,null,null,null,null,null,null,null,null,null,null,null,null,null,null,null,null,null,null,null,null,null,null,null,null,""]
[]
["Control Chart Details:",null,null,null,null,null,null,null,null,null,null,null,null,null,null,"Out-Of-Control Process: Sensitization Rules"]
["Chart Type",null,"U Chart",null,"Data Point statistics",null,"DEFINE SPECIFICATION LIMIT",null,null,null,null,null,null,null,null,"Rule - 1","Rule - 2","Rule - 3","Rule - 4"]
["Distribution followed",null,"Poisson",null,"DEFECT",{"$f":"SUM(C14:C712*I14:I712)","v":20},"Upper Spec. (USL)",1.5,null,null,null,null,null,null,null,"","","",""]
["Data Type",null,"Attribute","Attribute","SAMPLE SIZE",{"$f":"SUM(D14:D712*I14:I712)","v":27},"Lower Spec. (LSL)",0.5]
["Sample or Subgroup size ",null,"Unequal Sized",null,"MEAN ",{"$f":"IFERROR(F6/F7,\"\")","v":0.7407407407407407},"PROCESS CAPABILITY (Select this cell to view HELP)",null,null,null,null,null,null,null,{"$f":"ROUND(((H6-H7)/(6*(SQRT($F$8/$F$7)))),3)","v":1.006}]
["Sub Process Identified",null,null,null,"Intial Data Points\n(for Freezing Baselines)",8,{"$f":"IF(COUNTBLANK(H6:H7)>0,\"Cp = need spec. limit\",\"Cp\"&\" = \"&ROUND(((H6-H7)/(6*(SQRT($F$8/$F$7)))),3))","v":"Cp = 1.006"},{"$f":"IF(COUNTBLANK(H6)>0,\"need spec. limit\",\"Cpu\"&\" = \"&ROUND(((H6-F8)/(3*(SQRT($F$8/$F$7)))),3))","v":"Cpu = 1.528"},null,null,null,null,null,null,{"$f":"IF(COUNTBLANK(H6)>0,\"need spec. limit\", ROUND(((H6-F8)/(3*(SQRT($F$8/$F$7)))),3))","v":1.528}]
["Basis of Sub Process selection",null,"Derived from PPM (Sensitivity Analysis)",null,"Revise Contril Limit","Please use separate sheet for revise control limit",{"$f":"\"Cpk\"&\" = \"&MIN(O9:O10)","v":"Cpk = 0.484"},{"$f":"IF(COUNTBLANK(H7)>0,\"need spec. limit\",\"Cpl\"&\" = \"&ROUND(((F8-H7)/(3*(SQRT($F$8/$F$7)))),3))","v":"Cpl = 0.484"},null,null,null,null,null,null,{"$f":"IF(COUNTBLANK(H7)>0,\"need spec. limit\",ROUND(((F8-H7)/(3*(SQRT($F$8/$F$7)))),3))","v":0.48399999999999999},null,null,null,null,null,null,null,null,null,null,null,null,null,null,null,null,null,"Rule 2",null,null,null,null,null,null,null,null,"Rule 3",null,null,null,null,null,null,null,null,"Rule 4",null,null,null,null,null,null,null,null,"Rule 1"]
["Metrics Used",null,null,null,null,null,null,null,null,null,null,null,null,null,null,null,null,null,null,null,null,null,null,null,null,null,null,null,null,null,null,null,null,null,null,null,null,null,"Rule 1",null,null,null,null,null,null,null,null,"Rule 1",null,null,null,null,null,null,null,null,"Rule 1"]
[null,null,null,null,null,null,null,null,null,null,null,null,null,null,null,null,null,null,null,null,null,null,null,null,null,null,null,null,null,null,null,null,null,null,null,null,null,null,"Rule 1",null,null,null,null,null,null,null,null,"Rule 1",null,null,null,null,null,null,null,null,"Rule 1"]
["Date of Reporting","S. No.","DEFECT","SAMPLE SIZE","DEFECT PER UNIT","UCL","LCL","RCA for Out of Control Points",null,null,"-1 SIgma LCL","-2 Sigma LCL","1 Sigma UCL","2 Sigma UCL",null,null,null,null,null,null,null,null,null,null,null,null,null,null,null,null,null,null,"Between +2 to +3",null,null,"Between -2 to -3",null,null,"Rule 2",null,null,"Between +1 to +3",null,null,"Between -1 to -3",null,null,"Rule 3",null,null,"Between CL to +3",null,null,"Between CL to -3",null,null,"Rule 3",null,null,"Between -3 to +3","Rule 1"]
["2011-01-01",{"$f":"IF(C14=\"\",\"\",1)","v":1},2,3,{"$f":"IF(D14=\"\",\"\",C14/D14)","v":0.66666666666666663},{"$f":"IF(D14=\"\",\"\",$F$8+(3*(SQRT($F$8/D14))))","v":2.2314527257406005},{"$f":"IF(D14=\"\",\"\",IF($F$8-(3*(SQRT($F$8/D14)))<0,0,$F$8-(3*(SQRT($F$8/D14)))))","v":0},null,{"$f":"IF(B14>$F$9,0,1)","v":1},{"$f":"IF(G14=\"\",\"\",$F$8)","v":0.7407407407407407},{"$f":"IF(D14=\"\",\"\",IF($F$8-(1*(SQRT($F$8/D14)))<0,0,$F$8-(1*(SQRT($F$8/D14)))))","v":0.24383674574078745},{"$f":"IF(D14=\"\",\"\",IF($F$8-(2*(SQRT($F$8/D14)))<0,0,$F$8-(2*(SQRT($F$8/D14)))))","v":0},{"$f":"IF(D14=\"\",\"\",$F$8+(1*(SQRT($F$8/D14))))","v":1.2376447357406939},{"$f":"IF(D14=\"\",\"\",$F$8+(2*(SQRT($F$8/D14))))","v":1.7345487307406473},null,null,null,null,null,null,null,null,null,null,null,null,null,null,null,null,null,null,{"$f":"IF(E14=\"\",\"\",IF(AND(E14>=N14,E14<F14),1,0))","v":0},{"$f":"SUM(AG14:AG16)","v":0},{"$f":"IF(AH15=2,\"\",IF(AH14>=2,CONCATENATE(\"Data Point \",B14,\" to \",\"Data Point \",(B14+2)),\"\"))","v":""},{"$f":"IF(E14=\"\",\"\",IF(AND(E14<=L14,E14>G14),1,0))","v":0},{"$f":"SUM(AJ14:AJ16)","v":0},{"$f":"IF(AK15=2,\"\",IF(AK14>=2,CONCATENATE(\"Data Point \",B14,\" to \",\"Data Point \",(B14+2)),\"\"))","v":""},{"$f":"IF(AND(AI14<>\"\",AL14=\"\"),AI14,IF(AND(AI14=\"\",AL14<>\"\"),AL14,IF(AND(AI14<>\"\",AL14<>\"\"),AI14,\"\")))","v":""},null,null,{"$f":"IF(E14=\"\",\"\",IF(AND(E14>=M14,E14<F14),1,0))","v":0},{"$f":"SUM(AP14:AP18)","v":1},{"$f":"IF(AQ15=4,\"\",IF(AQ14>=4,CONCATENATE(\"Data Point \",B14,\" to \",\"Data Point \",(B14+4)),\"\"))","v":""},{"$f":"IF(E14=\"\",\"\",IF(AND(E14<=K14,E14>G14),1,0))","v":0},{"$f":"SUM(AS14:AS18)","v":0},{"$f":"IF(AT15=4,\"\",IF(AT14>=4,CONCATENATE(\"Data Point \",B14,\" to \",\"Data Point \",(B14+4)),\"\"))","v":""},{"$f":"IF(AND(AR14<>\"\",AU14=\"\"),AR14,IF(AND(AR14=\"\",AU14<>\"\"),AU14,IF(AND(AR14<>\"\",AU14<>\"\"),AR14,\"\")))","v":""},null,null,{"$f":"IF(E14=\"\",\"\",IF(AND(E14>=J14,E14<F14),1,0))","v":0},{"$f":"SUM(AY14:AY21)","v":5},{"$f":"IF(AZ15=8, \"\", IF(AZ14=8,CONCATENATE(\"Data Point \",B14,\" to \",\"Data Point \",(B14+8)),\"\"))","v":""},{"$f":"IF(E14=\"\",\"\",IF(AND(E14<=J14,E14>G14),1,0))","v":1},{"$f":"SUM(BB14:BB21)","v":3},{"$f":"IF(BC15=8, \"\", IF(BC14=8,CONCATENATE(\"Data Point \",B14,\" to \",\"Data Point \",(B14+8)),\"\"))","v":""},{"$f":"IF(AND(BA14<>\"\",BD14=\"\"),BA14,IF(AND(BA14=\"\",BD14<>\"\"),BD14,IF(AND(BA14<>\"\",BD14<>\"\"),BA14,\"\")))","v":""},null,null,{"$f":"IF(E14=\"\",\"\",IF(OR(E14>F14,E14<G14),1,0))","v":0},{"$f":"IF(BH14=1,CONCATENATE(\"Data Point \",B14),\"\")","v":""}]
["2011-03-01",{"$f":"IF(C15=\"\",\"\",B14+1)","v":2},2,5,{"$f":"IF(D15=\"\",\"\",C15/D15)","v":0.4},1.8954412791199922,0,null,{"$f":"IF(B15>$F$9,0,1)","v":1},0.7407407407407407,0.35584056128099018,0,1.1256409202004911,1.5105410996602417,null,null,null,null,null,null,null,null,null,null,null,null,null,null,null,null,null,null,{"$f":"IF(E15=\"\",\"\",IF(AND(E15>=N15,E15<F15),1,0))","v":0},{"$f":"SUM(AG15:AG17)","v":0},{"$f":"IF(AH16=2,\"\",IF(AH15>=2,CONCATENATE(\"Data Point \",B15,\" to \",\"Data Point \",(B15+2)),\"\"))","v":""},{"$f":"IF(E15=\"\",\"\",IF(AND(E15<=L15,E15>G15),1,0))","v":0},{"$f":"SUM(AJ15:AJ17)","v":0},{"$f":"IF(AK16=2,\"\",IF(AK15>=2,CONCATENATE(\"Data Point \",B15,\" to \",\"Data Point \",(B15+2)),\"\"))","v":""},{"$f":"IF(AND(AI15<>\"\",AL15=\"\"),AI15,IF(AND(AI15=\"\",AL15<>\"\"),AL15,IF(AND(AI15<>\"\",AL15<>\"\"),AI15,\"\")))","v":""},null,null,{"$f":"IF(E15=\"\",\"\",IF(AND(E15>=M15,E15<F15),1,0))","v":0},{"$f":"SUM(AP15:AP19)","v":1},{"$f":"IF(AQ16=4,\"\",IF(AQ15>=4,CONCATENATE(\"Data Point \",B15,\" to \",\"Data Point \",(B15+4)),\"\"))","v":""},{"$f":"IF(E15=\"\",\"\",IF(AND(E15<=K15,E15>G15),1,0))","v":0},{"$f":"SUM(AS15:AS19)","v":0},{"$f":"IF(AT16=4,\"\",IF(AT15>=4,CONCATENATE(\"Data Point \",B15,\" to \",\"Data Point \",(B15+4)),\"\"))","v":""},"",null,null,{"$f":"IF(E15=\"\",\"\",IF(AND(E15>=J15,E15<F15),1,0))","v":0},{"$f":"SUM(AY15:AY22)","v":5},{"$f":"IF(AZ16=8, \"\", IF(AZ15=8,CONCATENATE(\"Data Point \",B15,\" to \",\"Data Point \",(B15+8)),\"\"))","v":""},{"$f":"IF(E15=\"\",\"\",IF(AND(E15<=J15,E15>G15),1,0))","v":1},{"$f":"SUM(BB15:BB22)","v":2},{"$f":"IF(BC16=8, \"\", IF(BC15=8,CONCATENATE(\"Data Point \",B15,\" to \",\"Data Point \",(B15+8)),\"\"))","v":""},{"$f":"IF(AND(BA15<>\"\",BD15=\"\"),BA15,IF(AND(BA15=\"\",BD15<>\"\"),BD15,IF(AND(BA15<>\"\",BD15<>\"\"),BA15,\"\")))","v":""},null,null,{"$f":"IF(E15=\"\",\"\",IF(OR(E15>F15,E15<G15),1,0))","v":0},{"$f":"IF(BH15=1,CONCATENATE(\"Data Point \",B15),\"\")","v":""}]
["2011-03-15",{"$f":"IF(C16=\"\",\"\",B15+1)","v":3},2,2,1,2.5664825990912945,0,null,1,0.7407407407407407,0.1321601212905561,0,1.3493213601909253,1.9579019796411099,null,null,null,null,null,null,null,null,null,null,null,null,null,null,null,null,null,null,0,0,"",0,0,"","",null,null,0,1,"",0,0,"","",null,null,1,5,"",0,1,"","",null,null,0,""]
["2011-04-01",4,3,3,1,2.2314527257406005,0,null,1,0.7407407407407407,0.24383674574078745,0,1.2376447357406939,1.7345487307406473,null,null,null,null,null,null,null,null,null,null,null,null,null,null,null,null,null,null,0,0,"",0,0,"","",null,null,0,1,"",0,0,"","",null,null,1,4,"",0,1,"","",null,null,0,""]
["2011-05-12",5,2,1,2,3.3227296382123521,0,null,1,0.7407407407407407,0,0,1.6014037065646112,2.4620666723884814,null,null,null,null,null,null,null,null,null,null,null,null,null,null,null,null,null,null,0,0,"",0,0,"","",null,null,1,1,"",0,0,"","",null,null,1,3,"",0,1,"","",null,null,0,""]
["2011-06-20",6,2,5,0.4,1.8954412791199922,0,null,1,0.7407407407407407,0.35584056128099018,0,1.1256409202004911,1.5105410996602417,null,null,null,null,null,null,null,null,null,null,null,null,null,null,null,null,null,null,0,0,"",0,0,"","",null,null,0,0,"",0,0,"","",null,null,0,2,"",1,1,"","",null,null,0,""]
["2011-07-21",7,4,5,0.8,1.8954412791199922,0,null,1,0.7407407407407407,0.35584056128099018,0,1.1256409202004911,1.5105410996602417,null,null,null,null,null,null,null,null,null,null,null,null,null,null,null,null,null,null,0,0,"",0,0,"","",null,null,0,0,"",0,0,"","",null,null,1,2,"",0,0,"","",null,null,0,""]
["2011-08-01",8,3,3,1,2.2314527257406005,0,null,1,0.7407407407407407,0.24383674574078745,0,1.2376447357406939,1.7345487307406473,null,null,null,null,null,null,null,null,null,null,null,null,null,null,null,null,null,null,0,0,"",0,0,"","",null,null,0,0,"",0,0,"","",null,null,1,1,"",0,0,"","",null,null,0,""]
[null,"",null,null,"","","",null,0,"","","","","",null,null,null,null,null,null,null,null,null,null,null,null,null,null,null,null,null,null,"",0,"","",0,"","",null,null,"",0,"","",0,"","",null,null,"",0,"","",0,"","",null,null,"",""]
[null,"",null,null,"","","",null,0,"","","","","",null,null,null,null,null,null,null,null,null,null,null,null,null,null,null,null,null,null,"",0,"","",0,"","",null,null,"",0,"","",0,"","",null,null,"",0,"","",0,"","",null,null,"",""]
[null,"",null,null,"","","",null,0,"","","","","",null,null,null,null,null,null,null,null,null,null,null,null,null,null,null,null,null,null,"",0,"","",0,"","",null,null,"",0,"","",0,"","",null,null,"",0,"","",0,"","",null,null,"",""]
[null,"",null,null,"","","",null,0,"","","","","",null,null,null,null,null,null,null,null,null,null,null,null,null,null,null,null,null,null,"",0,"","",0,"","",null,null,"",0,"","",0,"","",null,null,"",0,"","",0,"","",null,null,"",""]
[null,"",null,null,"","","",null,0,"","","","","",null,null,null,null,null,null,null,null,null,null,null,null,null,null,null,null,null,null,"",0,"","",0,"","",null,null,"",0,"","",0,"","",null,null,"",0,"","",0,"","",null,null,"",""]
[null,"",null,null,"","","",null,0,"","","","","",null,null,null,null,null,null,null,null,null,null,null,null,null,null,null,null,null,null,"",0,"","",0,"","",null,null,"",0,"","",0,"","",null,null,"",0,"","",0,"","",null,null,"",""]
[null,"",null,null,"","","",null,0,"","","","","",null,null,null,null,null,null,null,null,null,null,null,null,null,null,null,null,null,null,"",0,"","",0,"","",null,null,"",0,"","",0,"","",null,null,"",0,"","",0,"","",null,null,"",""]
[null,"",null,null,"","","",null,0,"","","","","",null,null,null,null,null,null,null,null,null,null,null,null,null,null,null,null,null,null,"",0,"","",0,"","",null,null,"",0,"","",0,"","",null,null,"",0,"","",0,"","",null,null,"",""]
[null,"",null,null,"","","",null,0,"","","","","",null,null,null,null,null,null,null,null,null,null,null,null,null,null,null,null,null,null,"",0,"","",0,"","",null,null,"",0,"","",0,"","",null,null,"",0,"","",0,"","",null,null,"",""]
[null,"",null,null,"","","",null,0,"","","","","",null,null,null,null,null,null,null,null,null,null,null,null,null,null,null,null,null,null,"",0,"","",0,"","",null,null,"",0,"","",0,"","",null,null,"",0,"","",0,"","",null,null,"",""]
[null,"",null,null,"","","",null,0,"","","","","",null,null,null,null,null,null,null,null,null,null,null,null,null,null,null,null,null,null,"",0,"","",0,"","",null,null,"",0,"","",0,"","",null,null,"",0,"","",0,"","",null,null,"",""]
[null,"",null,null,"","","",null,0,"","","","","",null,null,null,null,null,null,null,null,null,null,null,null,null,null,null,null,null,null,"",0,"","",0,"","",null,null,"",0,"","",0,"","",null,null,"",0,"","",0,"","",null,null,"",""]
[null,"",null,null,"","","",null,0,"","","","","",null,null,null,null,null,null,null,null,null,null,null,null,null,null,null,null,null,null,"",0,"","",0,"","",null,null,"",0,"","",0,"","",null,null,"",0,"","",0,"","",null,null,"",""]
[null,"",null,null,"","","",null,0,"","","","","",null,null,null,null,null,null,null,null,null,null,null,null,null,null,null,null,null,null,"",0,"","",0,"","",null,null,"",0,"","",0,"","",null,null,"",0,"","",0,"","",null,null,"",""]
[null,"",null,null,"","","",null,0,"","","","","",null,null,null,null,null,null,null,null,null,null,null,null,null,null,null,null,null,null,"",0,"","",0,"","",null,null,"",0,"","",0,"","",null,null,"",0,"","",0,"","",null,null,"",""]
[null,"",null,null,"","","",null,0,"","","","","",null,null,null,null,null,null,null,null,null,null,null,null,null,null,null,null,null,null,"",0,"","",0,"","",null,null,"",0,"","",0,"","",null,null,"",0,"","",0,"","",null,null,"",""]
[null,"",null,null,"","","",null,0,"","","","","",null,null,null,null,null,null,null,null,null,null,null,null,null,null,null,null,null,null,"",0,"","",0,"","",null,null,"",0,"","",0,"","",null,null,"",0,"","",0,"","",null,null,"",""]
[null,"",null,null,"","","",null,0,"","","","","",null,null,null,null,null,null,null,null,null,null,null,null,null,null,null,null,null,null,"",0,"","",0,"","",null,null,"",0,"","",0,"","",null,null,"",0,"","",0,"","",null,null,"",""]
[null,"",null,null,"","","",null,0,"","","","","",null,null,null,null,null,null,null,null,null,null,null,null,null,null,null,null,null,null,"",0,"","",0,"","",null,null,"",0,"","",0,"","",null,null,"",0,"","",0,"","",null,null,"",""]
[null,"",null,null,"","","",null,0,"","","","","",null,null,null,null,null,null,null,null,null,null,null,null,null,null,null,null,null,null,"",0,"","",0,"","",null,null,"",0,"","",0,"","",null,null,"",0,"","",0,"","",null,null,"",""]
[null,"",null,null,"","","",null,0,"","","","","",null,null,null,null,null,null,null,null,null,null,null,null,null,null,null,null,null,null,"",0,"","",0,"","",null,null,"",0,"","",0,"","",null,null,"",0,"","",0,"","",null,null,"",""]
[null,"",null,null,"","","",null,0,"","","","","",null,null,null,null,null,null,null,null,null,null,null,null,null,null,null,null,null,null,"",0,"","",0,"","",null,null,"",0,"","",0,"","",null,null,"",0,"","",0,"","",null,null,"",""]
[null,"",null,null,"","","",null,0,"","","","","",null,null,null,null,null,null,null,null,null,null,null,null,null,null,null,null,null,null,"",0,"","",0,"","",null,null,"",0,"","",0,"","",null,null,"",0,"","",0,"","",null,null,"",""]
[null,"",null,null,"","","",null,0,"","","","","",null,null,null,null,null,null,null,null,null,null,null,null,null,null,null,null,null,null,"",0,"","",0,"","",null,null,"",0,"","",0,"","",null,null,"",0,"","",0,"","",null,null,"",""]
[null,"",null,null,"","","",null,0,"","","","","",null,null,null,null,null,null,null,null,null,null,null,null,null,null,null,null,null,null,"",0,"","",0,"","",null,null,"",0,"","",0,"","",null,null,"",0,"","",0,"","",null,null,"",""]
[null,"",null,null,"","","",null,0,"","","","","",null,null,null,null,null,null,null,null,null,null,null,null,null,null,null,null,null,null,"",0,"","",0,"","",null,null,"",0,"","",0,"","",null,null,"",0,"","",0,"","",null,null,"",""]
[null,"",null,null,"","","",null,0,"","","","","",null,null,null,null,null,null,null,null,null,null,null,null,null,null,null,null,null,null,"",0,"","",0,"","",null,null,"",0,"","",0,"","",null,null,"",0,"","",0,"","",null,null,"",""]
[null,"",null,null,"","","",null,0,"","","","","",null,null,null,null,null,null,null,null,null,null,null,null,null,null,null,null,null,null,"",0,"","",0,"","",null,null,"",0,"","",0,"","",null,null,"",0,"","",0,"","",null,null,"",""]
[null,"",null,null,"","","",null,0,"","","","","",null,null,null,null,null,null,null,null,null,null,null,null,null,null,null,null,null,null,"",0,"","",0,"","",null,null,"",0,"","",0,"","",null,null,"",0,"","",0,"","",null,null,"",""]
[null,"",null,null,"","","",null,0,"","","","","",null,null,null,null,null,null,null,null,null,null,null,null,null,null,null,null,null,null,"",0,"","",0,"","",null,null,"",0,"","",0,"","",null,null,"",0,"","",0,"","",null,null,"",""]
[null,"",null,null,"","","",null,0,"","","","","",null,null,null,null,null,null,null,null,null,null,null,null,null,null,null,null,null,null,"",0,"","",0,"","",null,null,"",0,"","",0,"","",null,null,"",0,"","",0,"","",null,null,"",""]
[null,"",null,null,"","","",null,0,"","","","","",null,null,null,null,null,null,null,null,null,null,null,null,null,null,null,null,null,null,"",0,"","",0,"","",null,null,"",0,"","",0,"","",null,null,"",0,"","",0,"","",null,null,"",""]
[null,"",null,null,"","","",null,0,"","","","","",null,null,null,null,null,null,null,null,null,null,null,null,null,null,null,null,null,null,"",0,"","",0,"","",null,null,"",0,"","",0,"","",null,null,"",0,"","",0,"","",null,null,"",""]
[null,"",null,null,"","","",null,0,"","","","","",null,null,null,null,null,null,null,null,null,null,null,null,null,null,null,null,null,null,"",0,"","",0,"","",null,null,"",0,"","",0,"","",null,null,"",0,"","",0,"","",null,null,"",""]
[null,"",null,null,"","","",null,0,"","","","","",null,null,null,null,null,null,null,null,null,null,null,null,null,null,null,null,null,null,"",0,"","",0,"","",null,null,"",0,"","",0,"","",null,null,"",0,"","",0,"","",null,null,"",""]
[null,"",null,null,"","","",null,0,"","","","","",null,null,null,null,null,null,null,null,null,null,null,null,null,null,null,null,null,null,"",0,"","",0,"","",null,null,"",0,"","",0,"","",null,null,"",0,"","",0,"","",null,null,"",""]
[null,"",null,null,"","","",null,0,"","","","","",null,null,null,null,null,null,null,null,null,null,null,null,null,null,null,null,null,null,"",0,"","",0,"","",null,null,"",0,"","",0,"","",null,null,"",0,"","",0,"","",null,null,"",""]
[null,"",null,null,"","","",null,0,"","","","","",null,null,null,null,null,null,null,null,null,null,null,null,null,null,null,null,null,null,"",0,"","",0,"","",null,null,"",0,"","",0,"","",null,null,"",0,"","",0,"","",null,null,"",""]
[null,"",null,null,"","","",null,0,"","","","","",null,null,null,null,null,null,null,null,null,null,null,null,null,null,null,null,null,null,"",0,"","",0,"","",null,null,"",0,"","",0,"","",null,null,"",0,"","",0,"","",null,null,"",""]
[null,"",null,null,"","","",null,0,"","","","","",null,null,null,null,null,null,null,null,null,null,null,null,null,null,null,null,null,null,"",0,"","",0,"","",null,null,"",0,"","",0,"","",null,null,"",0,"","",0,"","",null,null,"",""]
[null,"",null,null,"","","",null,0,"","","","","",null,null,null,null,null,null,null,null,null,null,null,null,null,null,null,null,null,null,"",0,"","",0,"","",null,null,"",0,"","",0,"","",null,null,"",0,"","",0,"","",null,null,"",""]
[null,"",null,null,"","","",null,0,"","","","","",null,null,null,null,null,null,null,null,null,null,null,null,null,null,null,null,null,null,"",0,"","",0,"","",null,null,"",0,"","",0,"","",null,null,"",0,"","",0,"","",null,null,"",""]
[null,"",null,null,"","","",null,0,"","","","","",null,null,null,null,null,null,null,null,null,null,null,null,null,null,null,null,null,null,"",0,"","",0,"","",null,null,"",0,"","",0,"","",null,null,"",0,"","",0,"","",null,null,"",""]
[null,"",null,null,"","","",null,0,"","","","","",null,null,null,null,null,null,null,null,null,null,null,null,null,null,null,null,null,null,"",0,"","",0,"","",null,null,"",0,"","",0,"","",null,null,"",0,"","",0,"","",null,null,"",""]
[null,"",null,null,"","","",null,0,"","","","","",null,null,null,null,null,null,null,null,null,null,null,null,null,null,null,null,null,null,"",0,"","",0,"","",null,null,"",0,"","",0,"","",null,null,"",0,"","",0,"","",null,null,"",""]
[null,"",null,null,"","","",null,0,"","","","","",null,null,null,null,null,null,null,null,null,null,null,null,null,null,null,null,null,null,"",0,"","",0,"","",null,null,"",0,"","",0,"","",null,null,"",0,"","",0,"","",null,null,"",""]
[null,"",null,null,{"$f":"IF(D68=\"\",\"\",C68/D68)","v":""},"","",null,0,"","","","","",null,null,null,null,null,null,null,null,null,null,null,null,null,null,null,null,null,null,"",0,"","",0,"","",null,null,"",0,"","",0,"","",null,null,"",0,"","",0,"","",null,null,"",""]
[null,"",null,null,"","","",null,0,"","","","","",null,null,null,null,null,null,null,null,null,null,null,null,null,null,null,null,null,null,"",0,"","",0,"","",null,null,"",0,"","",0,"","",null,null,"",0,"","",0,"","",null,null,"",""]
[null,"",null,null,"","","",null,0,"","","","","",null,null,null,null,null,null,null,null,null,null,null,null,null,null,null,null,null,null,"",0,"","",0,"","",null,null,"",0,"","",0,"","",null,null,"",0,"","",0,"","",null,null,"",""]
[null,"",null,null,"","","",null,0,"","","","","",null,null,null,null,null,null,null,null,null,null,null,null,null,null,null,null,null,null,"",0,"","",0,"","",null,null,"",0,"","",0,"","",null,null,"",0,"","",0,"","",null,null,"",""]
[null,"",null,null,"","","",null,0,"","","","","",null,null,null,null,null,null,null,null,null,null,null,null,null,null,null,null,null,null,"",0,"","",0,"","",null,null,"",0,"","",0,"","",null,null,"",0,"","",0,"","",null,null,"",""]
[null,"",null,null,"","","",null,0,"","","","","",null,null,null,null,null,null,null,null,null,null,null,null,null,null,null,null,null,null,"",0,"","",0,"","",null,null,"",0,"","",0,"","",null,null,"",0,"","",0,"","",null,null,"",""]
[null,"",null,null,"","","",null,0,"","","","","",null,null,null,null,null,null,null,null,null,null,null,null,null,null,null,null,null,null,"",0,"","",0,"","",null,null,"",0,"","",0,"","",null,null,"",0,"","",0,"","",null,null,"",""]
[null,"",null,null,"","","",null,0,"","","","","",null,null,null,null,null,null,null,null,null,null,null,null,null,null,null,null,null,null,"",0,"","",0,"","",null,null,"",0,"","",0,"","",null,null,"",0,"","",0,"","",null,null,"",""]
[null,"",null,null,"","","",null,0,"","","","","",null,null,null,null,null,null,null,null,null,null,null,null,null,null,null,null,null,null,"",0,"","",0,"","",null,null,"",0,"","",0,"","",null,null,"",0,"","",0,"","",null,null,"",""]
[null,"",null,null,"","","",null,0,"","","","","",null,null,null,null,null,null,null,null,null,null,null,null,null,null,null,null,null,null,"",0,"","",0,"","",null,null,"",0,"","",0,"","",null,null,"",0,"","",0,"","",null,null,"",""]
[null,"",null,null,"",{"$f":"IF(D78=\"\",\"\",$F$8+(3*(SQRT($F$8/D78))))","v":""},{"$f":"IF(D78=\"\",\"\",IF($F$8-(3*(SQRT($F$8/D78)))<0,0,$F$8-(3*(SQRT($F$8/D78)))))","v":""},null,0,{"$f":"IF(G78=\"\",\"\",$F$8)","v":""},{"$f":"IF(D78=\"\",\"\",IF($F$8-(1*(SQRT($F$8/D78)))<0,0,$F$8-(1*(SQRT($F$8/D78)))))","v":""},{"$f":"IF(D78=\"\",\"\",IF($F$8-(2*(SQRT($F$8/D78)))<0,0,$F$8-(2*(SQRT($F$8/D78)))))","v":""},{"$f":"IF(D78=\"\",\"\",$F$8+(1*(SQRT($F$8/D78))))","v":""},{"$f":"IF(D78=\"\",\"\",$F$8+(2*(SQRT($F$8/D78))))","v":""},null,null,null,null,null,null,null,null,null,null,null,null,null,null,null,null,null,null,"",0,"","",0,"","",null,null,"",0,"","",0,"",{"$f":"IF(AND(AR78<>\"\",AU78=\"\"),AR78,IF(AND(AR78=\"\",AU78<>\"\"),AU78,IF(AND(AR78<>\"\",AU78<>\"\"),AR78,\"\")))","v":""},null,null,"",0,"","",0,"","",null,null,"",{"$f":"IF(BH78=1,CONCATENATE(\"Data Point \",B78),\"\")","v":""}]
[null,"",null,null,"","","",null,{"$f":"IF(B79>$F$9,0,1)","v":0},"","","","","",null,null,null,null,null,null,null,null,null,null,null,null,null,null,null,null,null,null,{"$f":"IF(E79=\"\",\"\",IF(AND(E79>=N79,E79<F79),1,0))","v":""},{"$f":"SUM(AG79:AG81)","v":0},{"$f":"IF(AH80=2,\"\",IF(AH79>=2,CONCATENATE(\"Data Point \",B79,\" to \",\"Data Point \",(B79+2)),\"\"))","v":""},{"$f":"IF(E79=\"\",\"\",IF(AND(E79<=L79,E79>G79),1,0))","v":""},{"$f":"SUM(AJ79:AJ81)","v":0},{"$f":"IF(AK80=2,\"\",IF(AK79>=2,CONCATENATE(\"Data Point \",B79,\" to \",\"Data Point \",(B79+2)),\"\"))","v":""},{"$f":"IF(AND(AI79<>\"\",AL79=\"\"),AI79,IF(AND(AI79=\"\",AL79<>\"\"),AL79,IF(AND(AI79<>\"\",AL79<>\"\"),AI79,\"\")))","v":""},null,null,{"$f":"IF(E79=\"\",\"\",IF(AND(E79>=M79,E79<F79),1,0))","v":""},{"$f":"SUM(AP79:AP83)","v":0},{"$f":"IF(AQ80=4,\"\",IF(AQ79>=4,CONCATENATE(\"Data Point \",B79,\" to \",\"Data Point \",(B79+4)),\"\"))","v":""},{"$f":"IF(E79=\"\",\"\",IF(AND(E79<=K79,E79>G79),1,0))","v":""},{"$f":"SUM(AS79:AS83)","v":0},{"$f":"IF(AT80=4,\"\",IF(AT79>=4,CONCATENATE(\"Data Point \",B79,\" to \",\"Data Point \",(B79+4)),\"\"))","v":""},"",null,null,{"$f":"IF(E79=\"\",\"\",IF(AND(E79>=J79,E79<F79),1,0))","v":""},{"$f":"SUM(AY79:AY86)","v":0},{"$f":"IF(AZ80=8, \"\", IF(AZ79=8,CONCATENATE(\"Data Point \",B79,\" to \",\"Data Point \",(B79+8)),\"\"))","v":""},{"$f":"IF(E79=\"\",\"\",IF(AND(E79<=J79,E79>G79),1,0))","v":""},{"$f":"SUM(BB79:BB86)","v":0},{"$f":"IF(BC80=8, \"\", IF(BC79=8,CONCATENATE(\"Data Point \",B79,\" to \",\"Data Point \",(B79+8)),\"\"))","v":""},{"$f":"IF(AND(BA79<>\"\",BD79=\"\"),BA79,IF(AND(BA79=\"\",BD79<>\"\"),BD79,IF(AND(BA79<>\"\",BD79<>\"\"),BA79,\"\")))","v":""},null,null,{"$f":"IF(E79=\"\",\"\",IF(OR(E79>F79,E79<G79),1,0))","v":""},""]
[null,{"$f":"IF(C80=\"\",\"\",B79+1)","v":""},null,null,"","","",null,0,"","","","","",null,null,null,null,null,null,null,null,null,null,null,null,null,null,null,null,null,null,"",0,"","",0,"","",null,null,"",0,"","",0,"","",null,null,"",0,"","",0,"","",null,null,"",""]
[null,"",null,null,"","","",null,0,"","","","","",null,null,null,null,null,null,null,null,null,null,null,null,null,null,null,null,null,null,"",0,"","",0,"","",null,null,"",0,"","",0,"","",null,null,"",0,"","",0,"","",null,null,"",""]
[null,"",null,null,"","","",null,0,"","","","","",null,null,null,null,null,null,null,null,null,null,null,null,null,null,null,null,null,null,"",0,"","",0,"","",null,null,"",0,"","",0,"","",null,null,"",0,"","",0,"","",null,null,"",""]
[null,"",null,null,"","","",null,0,"","","","","",null,null,null,null,null,null,null,null,null,null,null,null,null,null,null,null,null,null,"",0,"","",0,"","",null,null,"",0,"","",0,"","",null,null,"",0,"","",0,"","",null,null,"",""]
[null,"",null,null,"","","",null,0,"","","","","",null,null,null,null,null,null,null,null,null,null,null,null,null,null,null,null,null,null,"",0,"","",0,"","",null,null,"",0,"","",0,"","",null,null,"",0,"","",0,"","",null,null,"",""]
[null,"",null,null,"","","",null,0,"","","","","",null,null,null,null,null,null,null,null,null,null,null,null,null,null,null,null,null,null,"",0,"","",0,"","",null,null,"",0,"","",0,"","",null,null,"",0,"","",0,"","",null,null,"",""]
[null,"",null,null,"","","",null,0,"","","","","",null,null,null,null,null,null,null,null,null,null,null,null,null,null,null,null,null,null,"",0,"","",0,"","",null,null,"",0,"","",0,"","",null,null,"",0,"","",0,"","",null,null,"",""]
[null,"",null,null,"","","",null,0,"","","","","",null,null,null,null,null,null,null,null,null,null,null,null,null,null,null,null,null,null,"",0,"","",0,"","",null,null,"",0,"","",0,"","",null,null,"",0,"","",0,"","",null,null,"",""]
[null,"",null,null,"","","",null,0,"","","","","",null,null,null,null,null,null,null,null,null,null,null,null,null,null,null,null,null,null,"",0,"","",0,"","",null,null,"",0,"","",0,"","",null,null,"",0,"","",0,"","",null,null,"",""]
[null,"",null,null,"","","",null,0,"","","","","",null,null,null,null,null,null,null,null,null,null,null,null,null,null,null,null,null,null,"",0,"","",0,"","",null,null,"",0,"","",0,"","",null,null,"",0,"","",0,"","",null,null,"",""]
[null,"",null,null,"","","",null,0,"","","","","",null,null,null,null,null,null,null,null,null,null,null,null,null,null,null,null,null,null,"",0,"","",0,"","",null,null,"",0,"","",0,"","",null,null,"",0,"","",0,"","",null,null,"",""]
[null,"",null,null,"","","",null,0,"","","","","",null,null,null,null,null,null,null,null,null,null,null,null,null,null,null,null,null,null,"",0,"","",0,"","",null,null,"",0,"","",0,"","",null,null,"",0,"","",0,"","",null,null,"",""]
[null,"",null,null,"","","",null,0,"","","","","",null,null,null,null,null,null,null,null,null,null,null,null,null,null,null,null,null,null,"",0,"","",0,"","",null,null,"",0,"","",0,"","",null,null,"",0,"","",0,"","",null,null,"",""]
[null,"",null,null,"","","",null,0,"","","","","",null,null,null,null,null,null,null,null,null,null,null,null,null,null,null,null,null,null,"",0,"","",0,"","",null,null,"",0,"","",0,"","",null,null,"",0,"","",0,"","",null,null,"",""]
[null,"",null,null,"","","",null,0,"","","","","",null,null,null,null,null,null,null,null,null,null,null,null,null,null,null,null,null,null,"",0,"","",0,"","",null,null,"",0,"","",0,"","",null,null,"",0,"","",0,"","",null,null,"",""]
[null,"",null,null,"","","",null,0,"","","","","",null,null,null,null,null,null,null,null,null,null,null,null,null,null,null,null,null,null,"",0,"","",0,"","",null,null,"",0,"","",0,"","",null,null,"",0,"","",0,"","",null,null,"",""]
[null,"",null,null,"","","",null,0,"","","","","",null,null,null,null,null,null,null,null,null,null,null,null,null,null,null,null,null,null,"",0,"","",0,"","",null,null,"",0,"","",0,"","",null,null,"",0,"","",0,"","",null,null,"",""]
[null,"",null,null,"","","",null,0,"","","","","",null,null,null,null,null,null,null,null,null,null,null,null,null,null,null,null,null,null,"",0,"","",0,"","",null,null,"",0,"","",0,"","",null,null,"",0,"","",0,"","",null,null,"",""]
[null,"",null,null,"","","",null,0,"","","","","",null,null,null,null,null,null,null,null,null,null,null,null,null,null,null,null,null,null,"",0,"","",0,"","",null,null,"",0,"","",0,"","",null,null,"",0,"","",0,"","",null,null,"",""]
[null,"",null,null,"","","",null,0,"","","","","",null,null,null,null,null,null,null,null,null,null,null,null,null,null,null,null,null,null,"",0,"","",0,"","",null,null,"",0,"","",0,"","",null,null,"",0,"","",0,"","",null,null,"",""]
[null,"",null,null,"","","",null,0,"","","","","",null,null,null,null,null,null,null,null,null,null,null,null,null,null,null,null,null,null,"",0,"","",0,"","",null,null,"",0,"","",0,"","",null,null,"",0,"","",0,"","",null,null,"",""]
[null,"",null,null,"","","",null,0,"","","","","",null,null,null,null,null,null,null,null,null,null,null,null,null,null,null,null,null,null,"",0,"","",0,"","",null,null,"",0,"","",0,"","",null,null,"",0,"","",0,"","",null,null,"",""]
[null,"",null,null,"","","",null,0,"","","","","",null,null,null,null,null,null,null,null,null,null,null,null,null,null,null,null,null,null,"",0,"","",0,"","",null,null,"",0,"","",0,"","",null,null,"",0,"","",0,"","",null,null,"",""]
[null,"",null,null,"","","",null,0,"","","","","",null,null,null,null,null,null,null,null,null,null,null,null,null,null,null,null,null,null,"",0,"","",0,"","",null,null,"",0,"","",0,"","",null,null,"",0,"","",0,"","",null,null,"",""]
[null,"",null,null,"","","",null,0,"","","","","",null,null,null,null,null,null,null,null,null,null,null,null,null,null,null,null,null,null,"",0,"","",0,"","",null,null,"",0,"","",0,"","",null,null,"",0,"","",0,"","",null,null,"",""]
[null,"",null,null,"","","",null,0,"","","","","",null,null,null,null,null,null,null,null,null,null,null,null,null,null,null,null,null,null,"",0,"","",0,"","",null,null,"",0,"","",0,"","",null,null,"",0,"","",0,"","",null,null,"",""]
[null,"",null,null,"","","",null,0,"","","","","",null,null,null,null,null,null,null,null,null,null,null,null,null,null,null,null,null,null,"",0,"","",0,"","",null,null,"",0,"","",0,"","",null,null,"",0,"","",0,"","",null,null,"",""]
[null,"",null,null,"","","",null,0,"","","","","",null,null,null,null,null,null,null,null,null,null,null,null,null,null,null,null,null,null,"",0,"","",0,"","",null,null,"",0,"","",0,"","",null,null,"",0,"","",0,"","",null,null,"",""]
[null,"",null,null,"","","",null,0,"","","","","",null,null,null,null,null,null,null,null,null,null,null,null,null,null,null,null,null,null,"",0,"","",0,"","",null,null,"",0,"","",0,"","",null,null,"",0,"","",0,"","",null,null,"",""]
[null,"",null,null,"","","",null,0,"","","","","",null,null,null,null,null,null,null,null,null,null,null,null,null,null,null,null,null,null,"",0,"","",0,"","",null,null,"",0,"","",0,"","",null,null,"",0,"","",0,"","",null,null,"",""]
[null,"",null,null,"","","",null,0,"","","","","",null,null,null,null,null,null,null,null,null,null,null,null,null,null,null,null,null,null,"",0,"","",0,"","",null,null,"",0,"","",0,"","",null,null,"",0,"","",0,"","",null,null,"",""]
[null,"",null,null,"","","",null,0,"","","","","",null,null,null,null,null,null,null,null,null,null,null,null,null,null,null,null,null,null,"",0,"","",0,"","",null,null,"",0,"","",0,"","",null,null,"",0,"","",0,"","",null,null,"",""]
[null,"",null,null,"","","",null,0,"","","","","",null,null,null,null,null,null,null,null,null,null,null,null,null,null,null,null,null,null,"",0,"","",0,"","",null,null,"",0,"","",0,"","",null,null,"",0,"","",0,"","",null,null,"",""]
[null,"",null,null,"","","",null,0,"","","","","",null,null,null,null,null,null,null,null,null,null,null,null,null,null,null,null,null,null,"",0,"","",0,"","",null,null,"",0,"","",0,"","",null,null,"",0,"","",0,"","",null,null,"",""]
[null,"",null,null,"","","",null,0,"","","","","",null,null,null,null,null,null,null,null,null,null,null,null,null,null,null,null,null,null,"",0,"","",0,"","",null,null,"",0,"","",0,"","",null,null,"",0,"","",0,"","",null,null,"",""]
[null,"",null,null,"","","",null,0,"","","","","",null,null,null,null,null,null,null,null,null,null,null,null,null,null,null,null,null,null,"",0,"","",0,"","",null,null,"",0,"","",0,"","",null,null,"",0,"","",0,"","",null,null,"",""]
[null,"",null,null,"","","",null,0,"","","","","",null,null,null,null,null,null,null,null,null,null,null,null,null,null,null,null,null,null,"",0,"","",0,"","",null,null,"",0,"","",0,"","",null,null,"",0,"","",0,"","",null,null,"",""]
[null,"",null,null,"","","",null,0,"","","","","",null,null,null,null,null,null,null,null,null,null,null,null,null,null,null,null,null,null,"",0,"","",0,"","",null,null,"",0,"","",0,"","",null,null,"",0,"","",0,"","",null,null,"",""]
[null,"",null,null,"","","",null,0,"","","","","",null,null,null,null,null,null,null,null,null,null,null,null,null,null,null,null,null,null,"",0,"","",0,"","",null,null,"",0,"","",0,"","",null,null,"",0,"","",0,"","",null,null,"",""]
[null,"",null,null,"","","",null,0,"","","","","",null,null,null,null,null,null,null,null,null,null,null,null,null,null,null,null,null,null,"",0,"","",0,"","",null,null,"",0,"","",0,"","",null,null,"",0,"","",0,"","",null,null,"",""]
[null,"",null,null,"","","",null,0,"","","","","",null,null,null,null,null,null,null,null,null,null,null,null,null,null,null,null,null,null,"",0,"","",0,"","",null,null,"",0,"","",0,"","",null,null,"",0,"","",0,"","",null,null,"",""]
[null,"",null,null,"","","",null,0,"","","","","",null,null,null,null,null,null,null,null,null,null,null,null,null,null,null,null,null,null,"",0,"","",0,"","",null,null,"",0,"","",0,"","",null,null,"",0,"","",0,"","",null,null,"",""]
[null,"",null,null,"","","",null,0,"","","","","",null,null,null,null,null,null,null,null,null,null,null,null,null,null,null,null,null,null,"",0,"","",0,"","",null,null,"",0,"","",0,"","",null,null,"",0,"","",0,"","",null,null,"",""]
[null,"",null,null,"","","",null,0,"","","","","",null,null,null,null,null,null,null,null,null,null,null,null,null,null,null,null,null,null,"",0,"","",0,"","",null,null,"",0,"","",0,"","",null,null,"",0,"","",0,"","",null,null,"",""]
[null,"",null,null,"","","",null,0,"","","","","",null,null,null,null,null,null,null,null,null,null,null,null,null,null,null,null,null,null,"",0,"","",0,"","",null,null,"",0,"","",0,"","",null,null,"",0,"","",0,"","",null,null,"","",null,null,null,null,null,null,null,null,null,null,null,null,null,null,null,null,null,null,null,null,null,null,null,null,null,null,null,null,null,null,null,null,null,null,null,null,null,null,null,null,null,null,null,null,null,null,null,null,null,null,null,null,null,null,null,null,null,null,null,null,null,null,null,null,null,null,null,null,null,null,null,null,null,null,null,null,null,null,null,null,null,null,null,null,null,null,null,null,null,null,null,null,null,null,null,null,null,null,null,null,null,null,null,null,null,null,null,null,null,null,null,null,null,null,null,null,null,null,null,null,null,null,null,null,null,null,null,null,null,null,null,null,null,null,null,null,null,null,null,null,null,null,null,null,null,null,null,null,null,null,null,null,null,null,null,null,null,null,null,null,null,null,null,null,null,null,null,null,null,null,null,null,null,null,null,null,null,null,null,null,null,null,null,null,null,null,null,null,null,null,null,null,null,null,null,null,null,null,null,null,null,null,null,null,null,null,null,null,null,null,null,null,null,null,null,null,null,null,null,null,null,null,null,null,null,null,null,null,null,null,null,null,null,null,null,null,null,null,null,null,null,null,null,null,null,null,null,null,null,null,null,null,null,null,null,null,null,null,null,null,null,null,null,null,null,null,null,null,null,null,null,null,null,null,null,null,null,null,null,null,null,null,null,null,null,null,null,null,null,null,null,null,null,null,null,null,null,null,null,null,null,null,null,null,null,null,null,null,null,null,null,null,null,null,null,null,null,null,null,null,null,null,null,null,null,null,null,null,null,null,null,null,null,null,null,null,null,null,null,null,null,null,null,null,null,null,null,null,null,null,null,null,null,null,null,null,null,null,null,null,null,null,null,null,null,null,null,null,null,null,null,null,null,null,null,null,null,null,null,null,null,null,null,null,null,null,null,null,null,null,null,null,null,null,null,null,null,null,null,null,null,null,null,null,null,null,null,null,null,null,null,null,null,null,null,null,null,null,null,null,null,null,null,null,null,null,null,null,null,null,null,"Rule 3"]
[null,"",null,null,"","","",null,0,"","","","","",null,null,null,null,null,null,null,null,null,null,null,null,null,null,null,null,null,null,"",0,"","",0,"","",null,null,"",0,"","",0,"","",null,null,"",0,"","",0,"","",null,null,"","",null,null,null,null,null,null,null,null,null,null,null,null,null,null,null,null,null,null,null,null,null,null,null,null,null,null,null,null,null,null,null,null,null,null,null,null,null,null,null,null,null,null,null,null,null,null,null,null,null,null,null,null,null,null,null,null,null,null,null,null,null,null,null,null,null,null,null,null,null,null,null,null,null,null,null,null,null,null,null,null,null,null,null,null,null,null,null,null,null,null,null,null,null,null,null,null,null,null,null,null,null,null,null,null,null,null,null,null,null,null,null,null,null,null,null,null,null,null,null,null,null,null,null,null,null,null,null,null,null,null,null,null,null,null,null,null,null,null,null,null,null,null,null,null,null,null,null,null,null,null,null,null,null,null,null,null,null,null,null,null,null,null,null,null,null,null,null,null,null,null,null,null,null,null,null,null,null,null,null,null,null,null,null,null,null,null,null,null,null,null,null,null,null,null,null,null,null,null,null,null,null,null,null,null,null,null,null,null,null,null,null,null,null,null,null,null,null,null,null,null,null,null,null,null,null,null,null,null,null,null,null,null,null,null,null,null,null,null,null,null,null,null,null,null,null,null,null,null,null,null,null,null,null,null,null,null,null,null,null,null,null,null,null,null,null,null,null,null,null,null,null,null,null,null,null,null,null,null,null,null,null,null,null,null,null,null,null,null,null,null,null,null,null,null,null,null,null,null,null,null,null,null,null,null,null,null,null,null,null,null,null,null,null,null,null,null,null,null,null,null,null,null,null,null,null,null,null,null,null,null,null,null,null,null,null,null,null,null,null,null,null,null,null,null,null,null,null,null,null,null,null,null,null,null,null,null,null,null,null,null,null,null,null,null,null,null,null,null,null,null,null,null,null,null,null,null,null,null,null,null,null,null,null,null,null,null,null,null,null,null,null,null,null,null,null,null,null,null,null,null,null,null,null,null,null,null,null,null,null,null,null,null,null,null,null,null,null,null,null,null,null,null,null,null,null,null,null,null,null,null,null,""]
[null,"",null,null,"","","",null,0,"","","","","",null,null,null,null,null,null,null,null,null,null,null,null,null,null,null,null,null,null,"",0,"","",0,"","",null,null,"",0,"","",0,"","",null,null,"",0,"","",0,"","",null,null,"",""]
[null,"",null,null,"","","",null,0,"","","","","",null,null,null,null,null,null,null,null,null,null,null,null,null,null,null,null,null,null,"",0,"","",0,"","",null,null,"",0,"","",0,"","",null,null,"",0,"","",0,"","",null,null,"",""]
[null,"",null,null,"","","",null,0,"","","","","",null,null,null,null,null,null,null,null,null,null,null,null,null,null,null,null,null,null,"",0,"","",0,"","",null,null,"",0,"","",0,"","",null,null,"",0,"","",0,"","",null,null,"",""]
[null,"",null,null,"","","",null,0,"","","","","",null,null,null,null,null,null,null,null,null,null,null,null,null,null,null,null,null,null,"",0,"","",0,"","",null,null,"",0,"","",0,"","",null,null,"",0,"","",0,"","",null,null,"",""]
[null,"",null,null,"","","",null,0,"","","","","",null,null,null,null,null,null,null,null,null,null,null,null,null,null,null,null,null,null,"",0,"","",0,"","",null,null,"",0,"","",0,"","",null,null,"",0,"","",0,"","",null,null,"",""]
[null,"",null,null,"","","",null,0,"","","","","",null,null,null,null,null,null,null,null,null,null,null,null,null,null,null,null,null,null,"",0,"","",0,"","",null,null,"",0,"","",0,"","",null,null,"",0,"","",0,"","",null,null,"",""]
[null,"",null,null,{"$f":"IF(D132=\"\",\"\",C132/D132)","v":""},"","",null,0,"","","","","",null,null,null,null,null,null,null,null,null,null,null,null,null,null,null,null,null,null,"",0,"","",0,"","",null,null,"",0,"","",0,"","",null,null,"",0,"","",0,"","",null,null,"",""]
[null,"",null,null,"","","",null,0,"","","","","",null,null,null,null,null,null,null,null,null,null,null,null,null,null,null,null,null,null,"",0,"","",0,"","",null,null,"",0,"","",0,"","",null,null,"",0,"","",0,"","",null,null,"",""]
[null,"",null,null,"","","",null,0,"","","","","",null,null,null,null,null,null,null,null,null,null,null,null,null,null,null,null,null,null,"",0,"","",0,"","",null,null,"",0,"","",0,"","",null,null,"",0,"","",0,"","",null,null,"",""]
[null,"",null,null,"","","",null,0,"","","","","",null,null,null,null,null,null,null,null,null,null,null,null,null,null,null,null,null,null,"",0,"","",0,"","",null,null,"",0,"","",0,"","",null,null,"",0,"","",0,"","",null,null,"",""]
[null,"",null,null,"","","",null,0,"","","","","",null,null,null,null,null,null,null,null,null,null,null,null,null,null,null,null,null,null,"",0,"","",0,"","",null,null,"",0,"","",0,"","",null,null,"",0,"","",0,"","",null,null,"",""]
[null,"",null,null,"","","",null,0,"","","","","",null,null,null,null,null,null,null,null,null,null,null,null,null,null,null,null,null,null,"",0,"","",0,"","",null,null,"",0,"","",0,"","",null,null,"",0,"","",0,"","",null,null,"",""]
[null,"",null,null,"","","",null,0,"","","","","",null,null,null,null,null,null,null,null,null,null,null,null,null,null,null,null,null,null,"",0,"","",0,"","",null,null,"",0,"","",0,"","",null,null,"",0,"","",0,"","",null,null,"",""]
[null,"",null,null,"","","",null,0,"","","","","",null,null,null,null,null,null,null,null,null,null,null,null,null,null,null,null,null,null,"",0,"","",0,"","",null,null,"",0,"","",0,"","",null,null,"",0,"","",0,"","",null,null,"",""]
[null,"",null,null,"","","",null,0,"","","","","",null,null,null,null,null,null,null,null,null,null,null,null,null,null,null,null,null,null,"",0,"","",0,"","",null,null,"",0,"","",0,"","",null,null,"",0,"","",0,"","",null,null,"",""]
[null,"",null,null,"","","",null,0,"","","","","",null,null,null,null,null,null,null,null,null,null,null,null,null,null,null,null,null,null,"",0,"","",0,"","",null,null,"",0,"","",0,"","",null,null,"",0,"","",0,"","",null,null,"",""]
[null,"",null,null,"",{"$f":"IF(D142=\"\",\"\",$F$8+(3*(SQRT($F$8/D142))))","v":""},{"$f":"IF(D142=\"\",\"\",IF($F$8-(3*(SQRT($F$8/D142)))<0,0,$F$8-(3*(SQRT($F$8/D142)))))","v":""},null,0,{"$f":"IF(G142=\"\",\"\",$F$8)","v":""},{"$f":"IF(D142=\"\",\"\",IF($F$8-(1*(SQRT($F$8/D142)))<0,0,$F$8-(1*(SQRT($F$8/D142)))))","v":""},{"$f":"IF(D142=\"\",\"\",IF($F$8-(2*(SQRT($F$8/D142)))<0,0,$F$8-(2*(SQRT($F$8/D142)))))","v":""},{"$f":"IF(D142=\"\",\"\",$F$8+(1*(SQRT($F$8/D142))))","v":""},{"$f":"IF(D142=\"\",\"\",$F$8+(2*(SQRT($F$8/D142))))","v":""},null,null,null,null,null,null,null,null,null,null,null,null,null,null,null,null,null,null,"",0,"","",0,"","",null,null,"",0,"","",0,"",{"$f":"IF(AND(AR142<>\"\",AU142=\"\"),AR142,IF(AND(AR142=\"\",AU142<>\"\"),AU142,IF(AND(AR142<>\"\",AU142<>\"\"),AR142,\"\")))","v":""},null,null,"",0,"","",0,"","",null,null,"",{"$f":"IF(BH142=1,CONCATENATE(\"Data Point \",B142),\"\")","v":""}]
[null,"",null,null,"","","",null,{"$f":"IF(B143>$F$9,0,1)","v":0},"","","","","",null,null,null,null,null,null,null,null,null,null,null,null,null,null,null,null,null,null,{"$f":"IF(E143=\"\",\"\",IF(AND(E143>=N143,E143<F143),1,0))","v":""},{"$f":"SUM(AG143:AG145)","v":0},{"$f":"IF(AH144=2,\"\",IF(AH143>=2,CONCATENATE(\"Data Point \",B143,\" to \",\"Data Point \",(B143+2)),\"\"))","v":""},{"$f":"IF(E143=\"\",\"\",IF(AND(E143<=L143,E143>G143),1,0))","v":""},{"$f":"SUM(AJ143:AJ145)","v":0},{"$f":"IF(AK144=2,\"\",IF(AK143>=2,CONCATENATE(\"Data Point \",B143,\" to \",\"Data Point \",(B143+2)),\"\"))","v":""},{"$f":"IF(AND(AI143<>\"\",AL143=\"\"),AI143,IF(AND(AI143=\"\",AL143<>\"\"),AL143,IF(AND(AI143<>\"\",AL143<>\"\"),AI143,\"\")))","v":""},null,null,{"$f":"IF(E143=\"\",\"\",IF(AND(E143>=M143,E143<F143),1,0))","v":""},{"$f":"SUM(AP143:AP147)","v":0},{"$f":"IF(AQ144=4,\"\",IF(AQ143>=4,CONCATENATE(\"Data Point \",B143,\" to \",\"Data Point \",(B143+4)),\"\"))","v":""},{"$f":"IF(E143=\"\",\"\",IF(AND(E143<=K143,E143>G143),1,0))","v":""},{"$f":"SUM(AS143:AS147)","v":0},{"$f":"IF(AT144=4,\"\",IF(AT143>=4,CONCATENATE(\"Data Point \",B143,\" to \",\"Data Point \",(B143+4)),\"\"))","v":""},"",null,null,{"$f":"IF(E143=\"\",\"\",IF(AND(E143>=J143,E143<F143),1,0))","v":""},{"$f":"SUM(AY143:AY150)","v":0},{"$f":"IF(AZ144=8, \"\", IF(AZ143=8,CONCATENATE(\"Data Point \",B143,\" to \",\"Data Point \",(B143+8)),\"\"))","v":""},{"$f":"IF(E143=\"\",\"\",IF(AND(E143<=J143,E143>G143),1,0))","v":""},{"$f":"SUM(BB143:BB150)","v":0},{"$f":"IF(BC144=8, \"\", IF(BC143=8,CONCATENATE(\"Data Point \",B143,\" to \",\"Data Point \",(B143+8)),\"\"))","v":""},{"$f":"IF(AND(BA143<>\"\",BD143=\"\"),BA143,IF(AND(BA143=\"\",BD143<>\"\"),BD143,IF(AND(BA143<>\"\",BD143<>\"\"),BA143,\"\")))","v":""},null,null,{"$f":"IF(E143=\"\",\"\",IF(OR(E143>F143,E143<G143),1,0))","v":""},""]
[null,{"$f":"IF(C144=\"\",\"\",B143+1)","v":""},null,null,"","","",null,0,"","","","","",null,null,null,null,null,null,null,null,null,null,null,null,null,null,null,null,null,null,"",0,"","",0,"","",null,null,"",0,"","",0,"","",null,null,"",0,"","",0,"","",null,null,"",""]
[null,"",null,null,"","","",null,0,"","","","","",null,null,null,null,null,null,null,null,null,null,null,null,null,null,null,null,null,null,"",0,"","",0,"","",null,null,"",0,"","",0,"","",null,null,"",0,"","",0,"","",null,null,"",""]
[null,"",null,null,"","","",null,0,"","","","","",null,null,null,null,null,null,null,null,null,null,null,null,null,null,null,null,null,null,"",0,"","",0,"","",null,null,"",0,"","",0,"","",null,null,"",0,"","",0,"","",null,null,"",""]
[null,"",null,null,"","","",null,0,"","","","","",null,null,null,null,null,null,null,null,null,null,null,null,null,null,null,null,null,null,"",0,"","",0,"","",null,null,"",0,"","",0,"","",null,null,"",0,"","",0,"","",null,null,"",""]
[null,"",null,null,"","","",null,0,"","","","","",null,null,null,null,null,null,null,null,null,null,null,null,null,null,null,null,null,null,"",0,"","",0,"","",null,null,"",0,"","",0,"","",null,null,"",0,"","",0,"","",null,null,"",""]
[null,"",null,null,"","","",null,0,"","","","","",null,null,null,null,null,null,null,null,null,null,null,null,null,null,null,null,null,null,"",0,"","",0,"","",null,null,"",0,"","",0,"","",null,null,"",0,"","",0,"","",null,null,"",""]
[null,"",null,null,"","","",null,0,"","","","","",null,null,null,null,null,null,null,null,null,null,null,null,null,null,null,null,null,null,"",0,"","",0,"","",null,null,"",0,"","",0,"","",null,null,"",0,"","",0,"","",null,null,"",""]
[null,"",null,null,"","","",null,0,"","","","","",null,null,null,null,null,null,null,null,null,null,null,null,null,null,null,null,null,null,"",0,"","",0,"","",null,null,"",0,"","",0,"","",null,null,"",0,"","",0,"","",null,null,"",""]
[null,"",null,null,"","","",null,0,"","","","","",null,null,null,null,null,null,null,null,null,null,null,null,null,null,null,null,null,null,"",0,"","",0,"","",null,null,"",0,"","",0,"","",null,null,"",0,"","",0,"","",null,null,"",""]
[null,"",null,null,"","","",null,0,"","","","","",null,null,null,null,null,null,null,null,null,null,null,null,null,null,null,null,null,null,"",0,"","",0,"","",null,null,"",0,"","",0,"","",null,null,"",0,"","",0,"","",null,null,"",""]
[null,"",null,null,"","","",null,0,"","","","","",null,null,null,null,null,null,null,null,null,null,null,null,null,null,null,null,null,null,"",0,"","",0,"","",null,null,"",0,"","",0,"","",null,null,"",0,"","",0,"","",null,null,"",""]
[null,"",null,null,"","","",null,0,"","","","","",null,null,null,null,null,null,null,null,null,null,null,null,null,null,null,null,null,null,"",0,"","",0,"","",null,null,"",0,"","",0,"","",null,null,"",0,"","",0,"","",null,null,"",""]
[null,"",null,null,"","","",null,0,"","","","","",null,null,null,null,null,null,null,null,null,null,null,null,null,null,null,null,null,null,"",0,"","",0,"","",null,null,"",0,"","",0,"","",null,null,"",0,"","",0,"","",null,null,"",""]
[null,"",null,null,"","","",null,0,"","","","","",null,null,null,null,null,null,null,null,null,null,null,null,null,null,null,null,null,null,"",0,"","",0,"","",null,null,"",0,"","",0,"","",null,null,"",0,"","",0,"","",null,null,"",""]
[null,"",null,null,"","","",null,0,"","","","","",null,null,null,null,null,null,null,null,null,null,null,null,null,null,null,null,null,null,"",0,"","",0,"","",null,null,"",0,"","",0,"","",null,null,"",0,"","",0,"","",null,null,"",""]
[null,"",null,null,"","","",null,0,"","","","","",null,null,null,null,null,null,null,null,null,null,null,null,null,null,null,null,null,null,"",0,"","",0,"","",null,null,"",0,"","",0,"","",null,null,"",0,"","",0,"","",null,null,"",""]
[null,"",null,null,"","","",null,0,"","","","","",null,null,null,null,null,null,null,null,null,null,null,null,null,null,null,null,null,null,"",0,"","",0,"","",null,null,"",0,"","",0,"","",null,null,"",0,"","",0,"","",null,null,"",""]
[null,"",null,null,"","","",null,0,"","","","","",null,null,null,null,null,null,null,null,null,null,null,null,null,null,null,null,null,null,"",0,"","",0,"","",null,null,"",0,"","",0,"","",null,null,"",0,"","",0,"","",null,null,"",""]
[null,"",null,null,"","","",null,0,"","","","","",null,null,null,null,null,null,null,null,null,null,null,null,null,null,null,null,null,null,"",0,"","",0,"","",null,null,"",0,"","",0,"","",null,null,"",0,"","",0,"","",null,null,"",""]
[null,"",null,null,"","","",null,0,"","","","","",null,null,null,null,null,null,null,null,null,null,null,null,null,null,null,null,null,null,"",0,"","",0,"","",null,null,"",0,"","",0,"","",null,null,"",0,"","",0,"","",null,null,"",""]
[null,"",null,null,"","","",null,0,"","","","","",null,null,null,null,null,null,null,null,null,null,null,null,null,null,null,null,null,null,"",0,"","",0,"","",null,null,"",0,"","",0,"","",null,null,"",0,"","",0,"","",null,null,"",""]
[null,"",null,null,"","","",null,0,"","","","","",null,null,null,null,null,null,null,null,null,null,null,null,null,null,null,null,null,null,"",0,"","",0,"","",null,null,"",0,"","",0,"","",null,null,"",0,"","",0,"","",null,null,"",""]
[null,"",null,null,"","","",null,0,"","","","","",null,null,null,null,null,null,null,null,null,null,null,null,null,null,null,null,null,null,"",0,"","",0,"","",null,null,"",0,"","",0,"","",null,null,"",0,"","",0,"","",null,null,"",""]
[null,"",null,null,"","","",null,0,"","","","","",null,null,null,null,null,null,null,null,null,null,null,null,null,null,null,null,null,null,"",0,"","",0,"","",null,null,"",0,"","",0,"","",null,null,"",0,"","",0,"","",null,null,"",""]
[null,"",null,null,"","","",null,0,"","","","","",null,null,null,null,null,null,null,null,null,null,null,null,null,null,null,null,null,null,"",0,"","",0,"","",null,null,"",0,"","",0,"","",null,null,"",0,"","",0,"","",null,null,"",""]
[null,"",null,null,"","","",null,0,"","","","","",null,null,null,null,null,null,null,null,null,null,null,null,null,null,null,null,null,null,"",0,"","",0,"","",null,null,"",0,"","",0,"","",null,null,"",0,"","",0,"","",null,null,"",""]
[null,"",null,null,"","","",null,0,"","","","","",null,null,null,null,null,null,null,null,null,null,null,null,null,null,null,null,null,null,"",0,"","",0,"","",null,null,"",0,"","",0,"","",null,null,"",0,"","",0,"","",null,null,"",""]
[null,"",null,null,"","","",null,0,"","","","","",null,null,null,null,null,null,null,null,null,null,null,null,null,null,null,null,null,null,"",0,"","",0,"","",null,null,"",0,"","",0,"","",null,null,"",0,"","",0,"","",null,null,"",""]
[null,"",null,null,"","","",null,0,"","","","","",null,null,null,null,null,null,null,null,null,null,null,null,null,null,null,null,null,null,"",0,"","",0,"","",null,null,"",0,"","",0,"","",null,null,"",0,"","",0,"","",null,null,"",""]
[null,"",null,null,"","","",null,0,"","","","","",null,null,null,null,null,null,null,null,null,null,null,null,null,null,null,null,null,null,"",0,"","",0,"","",null,null,"",0,"","",0,"","",null,null,"",0,"","",0,"","",null,null,"",""]
[null,"",null,null,"","","",null,0,"","","","","",null,null,null,null,null,null,null,null,null,null,null,null,null,null,null,null,null,null,"",0,"","",0,"","",null,null,"",0,"","",0,"","",null,null,"",0,"","",0,"","",null,null,"",""]
[null,"",null,null,"","","",null,0,"","","","","",null,null,null,null,null,null,null,null,null,null,null,null,null,null,null,null,null,null,"",0,"","",0,"","",null,null,"",0,"","",0,"","",null,null,"",0,"","",0,"","",null,null,"",""]
[null,"",null,null,"","","",null,0,"","","","","",null,null,null,null,null,null,null,null,null,null,null,null,null,null,null,null,null,null,"",0,"","",0,"","",null,null,"",0,"","",0,"","",null,null,"",0,"","",0,"","",null,null,"",""]
[null,"",null,null,"","","",null,0,"","","","","",null,null,null,null,null,null,null,null,null,null,null,null,null,null,null,null,null,null,"",0,"","",0,"","",null,null,"",0,"","",0,"","",null,null,"",0,"","",0,"","",null,null,"",""]
[null,"",null,null,"","","",null,0,"","","","","",null,null,null,null,null,null,null,null,null,null,null,null,null,null,null,null,null,null,"",0,"","",0,"","",null,null,"",0,"","",0,"","",null,null,"",0,"","",0,"","",null,null,"",""]
[null,"",null,null,"","","",null,0,"","","","","",null,null,null,null,null,null,null,null,null,null,null,null,null,null,null,null,null,null,"",0,"","",0,"","",null,null,"",0,"","",0,"","",null,null,"",0,"","",0,"","",null,null,"",""]
[null,"",null,null,"","","",null,0,"","","","","",null,null,null,null,null,null,null,null,null,null,null,null,null,null,null,null,null,null,"",0,"","",0,"","",null,null,"",0,"","",0,"","",null,null,"",0,"","",0,"","",null,null,"",""]
[null,"",null,null,"","","",null,0,"","","","","",null,null,null,null,null,null,null,null,null,null,null,null,null,null,null,null,null,null,"",0,"","",0,"","",null,null,"",0,"","",0,"","",null,null,"",0,"","",0,"","",null,null,"",""]
[null,"",null,null,"","","",null,0,"","","","","",null,null,null,null,null,null,null,null,null,null,null,null,null,null,null,null,null,null,"",0,"","",0,"","",null,null,"",0,"","",0,"","",null,null,"",0,"","",0,"","",null,null,"",""]
[null,"",null,null,"","","",null,0,"","","","","",null,null,null,null,null,null,null,null,null,null,null,null,null,null,null,null,null,null,"",0,"","",0,"","",null,null,"",0,"","",0,"","",null,null,"",0,"","",0,"","",null,null,"",""]
[null,"",null,null,"","","",null,0,"","","","","",null,null,null,null,null,null,null,null,null,null,null,null,null,null,null,null,null,null,"",0,"","",0,"","",null,null,"",0,"","",0,"","",null,null,"",0,"","",0,"","",null,null,"",""]
[null,"",null,null,"","","",null,0,"","","","","",null,null,null,null,null,null,null,null,null,null,null,null,null,null,null,null,null,null,"",0,"","",0,"","",null,null,"",0,"","",0,"","",null,null,"",0,"","",0,"","",null,null,"",""]
[null,"",null,null,"","","",null,0,"","","","","",null,null,null,null,null,null,null,null,null,null,null,null,null,null,null,null,null,null,"",0,"","",0,"","",null,null,"",0,"","",0,"","",null,null,"",0,"","",0,"","",null,null,"",""]
[null,"",null,null,"","","",null,0,"","","","","",null,null,null,null,null,null,null,null,null,null,null,null,null,null,null,null,null,null,"",0,"","",0,"","",null,null,"",0,"","",0,"","",null,null,"",0,"","",0,"","",null,null,"",""]
[null,"",null,null,"","","",null,0,"","","","","",null,null,null,null,null,null,null,null,null,null,null,null,null,null,null,null,null,null,"",0,"","",0,"","",null,null,"",0,"","",0,"","",null,null,"",0,"","",0,"","",null,null,"",""]
[null,"",null,null,"","","",null,0,"","","","","",null,null,null,null,null,null,null,null,null,null,null,null,null,null,null,null,null,null,"",0,"","",0,"","",null,null,"",0,"","",0,"","",null,null,"",0,"","",0,"","",null,null,"",""]
[null,"",null,null,"","","",null,0,"","","","","",null,null,null,null,null,null,null,null,null,null,null,null,null,null,null,null,null,null,"",0,"","",0,"","",null,null,"",0,"","",0,"","",null,null,"",0,"","",0,"","",null,null,"",""]
[null,"",null,null,"","","",null,0,"","","","","",null,null,null,null,null,null,null,null,null,null,null,null,null,null,null,null,null,null,"",0,"","",0,"","",null,null,"",0,"","",0,"","",null,null,"",0,"","",0,"","",null,null,"",""]
[null,"",null,null,"","","",null,0,"","","","","",null,null,null,null,null,null,null,null,null,null,null,null,null,null,null,null,null,null,"",0,"","",0,"","",null,null,"",0,"","",0,"","",null,null,"",0,"","",0,"","",null,null,"",""]
[null,"",null,null,"","","",null,0,"","","","","",null,null,null,null,null,null,null,null,null,null,null,null,null,null,null,null,null,null,"",0,"","",0,"","",null,null,"",0,"","",0,"","",null,null,"",0,"","",0,"","",null,null,"",""]
[null,"",null,null,"","","",null,0,"","","","","",null,null,null,null,null,null,null,null,null,null,null,null,null,null,null,null,null,null,"",0,"","",0,"","",null,null,"",0,"","",0,"","",null,null,"",0,"","",0,"","",null,null,"",""]
[null,"",null,null,"","","",null,0,"","","","","",null,null,null,null,null,null,null,null,null,null,null,null,null,null,null,null,null,null,"",0,"","",0,"","",null,null,"",0,"","",0,"","",null,null,"",0,"","",0,"","",null,null,"",""]
[null,"",null,null,{"$f":"IF(D196=\"\",\"\",C196/D196)","v":""},"","",null,0,"","","","","",null,null,null,null,null,null,null,null,null,null,null,null,null,null,null,null,null,null,"",0,"","",0,"","",null,null,"",0,"","",0,"","",null,null,"",0,"","",0,"","",null,null,"",""]
[null,"",null,null,"","","",null,0,"","","","","",null,null,null,null,null,null,null,null,null,null,null,null,null,null,null,null,null,null,"",0,"","",0,"","",null,null,"",0,"","",0,"","",null,null,"",0,"","",0,"","",null,null,"",""]
[null,"",null,null,"","","",null,0,"","","","","",null,null,null,null,null,null,null,null,null,null,null,null,null,null,null,null,null,null,"",0,"","",0,"","",null,null,"",0,"","",0,"","",null,null,"",0,"","",0,"","",null,null,"",""]
[null,"",null,null,"","","",null,0,"","","","","",null,null,null,null,null,null,null,null,null,null,null,null,null,null,null,null,null,null,"",0,"","",0,"","",null,null,"",0,"","",0,"","",null,null,"",0,"","",0,"","",null,null,"",""]
[null,"",null,null,"","","",null,0,"","","","","",null,null,null,null,null,null,null,null,null,null,null,null,null,null,null,null,null,null,"",0,"","",0,"","",null,null,"",0,"","",0,"","",null,null,"",0,"","",0,"","",null,null,"",""]
[null,"",null,null,"","","",null,0,"","","","","",null,null,null,null,null,null,null,null,null,null,null,null,null,null,null,null,null,null,"",0,"","",0,"","",null,null,"",0,"","",0,"","",null,null,"",0,"","",0,"","",null,null,"",""]
[null,"",null,null,"","","",null,0,"","","","","",null,null,null,null,null,null,null,null,null,null,null,null,null,null,null,null,null,null,"",0,"","",0,"","",null,null,"",0,"","",0,"","",null,null,"",0,"","",0,"","",null,null,"",""]
[null,"",null,null,"","","",null,0,"","","","","",null,null,null,null,null,null,null,null,null,null,null,null,null,null,null,null,null,null,"",0,"","",0,"","",null,null,"",0,"","",0,"","",null,null,"",0,"","",0,"","",null,null,"",""]
[null,"",null,null,"","","",null,0,"","","","","",null,null,null,null,null,null,null,null,null,null,null,null,null,null,null,null,null,null,"",0,"","",0,"","",null,null,"",0,"","",0,"","",null,null,"",0,"","",0,"","",null,null,"",""]
[null,"",null,null,"","","",null,0,"","","","","",null,null,null,null,null,null,null,null,null,null,null,null,null,null,null,null,null,null,"",0,"","",0,"","",null,null,"",0,"","",0,"","",null,null,"",0,"","",0,"","",null,null,"",""]
[null,"",null,null,"",{"$f":"IF(D206=\"\",\"\",$F$8+(3*(SQRT($F$8/D206))))","v":""},{"$f":"IF(D206=\"\",\"\",IF($F$8-(3*(SQRT($F$8/D206)))<0,0,$F$8-(3*(SQRT($F$8/D206)))))","v":""},null,0,{"$f":"IF(G206=\"\",\"\",$F$8)","v":""},{"$f":"IF(D206=\"\",\"\",IF($F$8-(1*(SQRT($F$8/D206)))<0,0,$F$8-(1*(SQRT($F$8/D206)))))","v":""},{"$f":"IF(D206=\"\",\"\",IF($F$8-(2*(SQRT($F$8/D206)))<0,0,$F$8-(2*(SQRT($F$8/D206)))))","v":""},{"$f":"IF(D206=\"\",\"\",$F$8+(1*(SQRT($F$8/D206))))","v":""},{"$f":"IF(D206=\"\",\"\",$F$8+(2*(SQRT($F$8/D206))))","v":""},null,null,null,null,null,null,null,null,null,null,null,null,null,null,null,null,null,null,"",0,"","",0,"","",null,null,"",0,"","",0,"",{"$f":"IF(AND(AR206<>\"\",AU206=\"\"),AR206,IF(AND(AR206=\"\",AU206<>\"\"),AU206,IF(AND(AR206<>\"\",AU206<>\"\"),AR206,\"\")))","v":""},null,null,"",0,"","",0,"","",null,null,"",{"$f":"IF(BH206=1,CONCATENATE(\"Data Point \",B206),\"\")","v":""}]
[null,"",null,null,"","","",null,{"$f":"IF(B207>$F$9,0,1)","v":0},"","","","","",null,null,null,null,null,null,null,null,null,null,null,null,null,null,null,null,null,null,{"$f":"IF(E207=\"\",\"\",IF(AND(E207>=N207,E207<F207),1,0))","v":""},{"$f":"SUM(AG207:AG209)","v":0},{"$f":"IF(AH208=2,\"\",IF(AH207>=2,CONCATENATE(\"Data Point \",B207,\" to \",\"Data Point \",(B207+2)),\"\"))","v":""},{"$f":"IF(E207=\"\",\"\",IF(AND(E207<=L207,E207>G207),1,0))","v":""},{"$f":"SUM(AJ207:AJ209)","v":0},{"$f":"IF(AK208=2,\"\",IF(AK207>=2,CONCATENATE(\"Data Point \",B207,\" to \",\"Data Point \",(B207+2)),\"\"))","v":""},{"$f":"IF(AND(AI207<>\"\",AL207=\"\"),AI207,IF(AND(AI207=\"\",AL207<>\"\"),AL207,IF(AND(AI207<>\"\",AL207<>\"\"),AI207,\"\")))","v":""},null,null,{"$f":"IF(E207=\"\",\"\",IF(AND(E207>=M207,E207<F207),1,0))","v":""},{"$f":"SUM(AP207:AP211)","v":0},{"$f":"IF(AQ208=4,\"\",IF(AQ207>=4,CONCATENATE(\"Data Point \",B207,\" to \",\"Data Point \",(B207+4)),\"\"))","v":""},{"$f":"IF(E207=\"\",\"\",IF(AND(E207<=K207,E207>G207),1,0))","v":""},{"$f":"SUM(AS207:AS211)","v":0},{"$f":"IF(AT208=4,\"\",IF(AT207>=4,CONCATENATE(\"Data Point \",B207,\" to \",\"Data Point \",(B207+4)),\"\"))","v":""},"",null,null,{"$f":"IF(E207=\"\",\"\",IF(AND(E207>=J207,E207<F207),1,0))","v":""},{"$f":"SUM(AY207:AY214)","v":0},{"$f":"IF(AZ208=8, \"\", IF(AZ207=8,CONCATENATE(\"Data Point \",B207,\" to \",\"Data Point \",(B207+8)),\"\"))","v":""},{"$f":"IF(E207=\"\",\"\",IF(AND(E207<=J207,E207>G207),1,0))","v":""},{"$f":"SUM(BB207:BB214)","v":0},{"$f":"IF(BC208=8, \"\", IF(BC207=8,CONCATENATE(\"Data Point \",B207,\" to \",\"Data Point \",(B207+8)),\"\"))","v":""},{"$f":"IF(AND(BA207<>\"\",BD207=\"\"),BA207,IF(AND(BA207=\"\",BD207<>\"\"),BD207,IF(AND(BA207<>\"\",BD207<>\"\"),BA207,\"\")))","v":""},null,null,{"$f":"IF(E207=\"\",\"\",IF(OR(E207>F207,E207<G207),1,0))","v":""},""]
[null,{"$f":"IF(C208=\"\",\"\",B207+1)","v":""},null,null,"","","",null,0,"","","","","",null,null,null,null,null,null,null,null,null,null,null,null,null,null,null,null,null,null,"",0,"","",0,"","",null,null,"",0,"","",0,"","",null,null,"",0,"","",0,"","",null,null,"",""]
[null,"",null,null,"","","",null,0,"","","","","",null,null,null,null,null,null,null,null,null,null,null,null,null,null,null,null,null,null,"",0,"","",0,"","",null,null,"",0,"","",0,"","",null,null,"",0,"","",0,"","",null,null,"",""]
[null,"",null,null,"","","",null,0,"","","","","",null,null,null,null,null,null,null,null,null,null,null,null,null,null,null,null,null,null,"",0,"","",0,"","",null,null,"",0,"","",0,"","",null,null,"",0,"","",0,"","",null,null,"",""]
[null,"",null,null,"","","",null,0,"","","","","",null,null,null,null,null,null,null,null,null,null,null,null,null,null,null,null,null,null,"",0,"","",0,"","",null,null,"",0,"","",0,"","",null,null,"",0,"","",0,"","",null,null,"",""]
[null,"",null,null,"","","",null,0,"","","","","",null,null,null,null,null,null,null,null,null,null,null,null,null,null,null,null,null,null,"",0,"","",0,"","",null,null,"",0,"","",0,"","",null,null,"",0,"","",0,"","",null,null,"",""]
[null,"",null,null,"","","",null,0,"","","","","",null,null,null,null,null,null,null,null,null,null,null,null,null,null,null,null,null,null,"",0,"","",0,"","",null,null,"",0,"","",0,"","",null,null,"",0,"","",0,"","",null,null,"",""]
[null,"",null,null,"","","",null,0,"","","","","",null,null,null,null,null,null,null,null,null,null,null,null,null,null,null,null,null,null,"",0,"","",0,"","",null,null,"",0,"","",0,"","",null,null,"",0,"","",0,"","",null,null,"",""]
[null,"",null,null,"","","",null,0,"","","","","",null,null,null,null,null,null,null,null,null,null,null,null,null,null,null,null,null,null,"",0,"","",0,"","",null,null,"",0,"","",0,"","",null,null,"",0,"","",0,"","",null,null,"",""]
[null,"",null,null,"","","",null,0,"","","","","",null,null,null,null,null,null,null,null,null,null,null,null,null,null,null,null,null,null,"",0,"","",0,"","",null,null,"",0,"","",0,"","",null,null,"",0,"","",0,"","",null,null,"",""]
[null,"",null,null,"","","",null,0,"","","","","",null,null,null,null,null,null,null,null,null,null,null,null,null,null,null,null,null,null,"",0,"","",0,"","",null,null,"",0,"","",0,"","",null,null,"",0,"","",0,"","",null,null,"",""]
[null,"",null,null,"","","",null,0,"","","","","",null,null,null,null,null,null,null,null,null,null,null,null,null,null,null,null,null,null,"",0,"","",0,"","",null,null,"",0,"","",0,"","",null,null,"",0,"","",0,"","",null,null,"",""]
[null,"",null,null,"","","",null,0,"","","","","",null,null,null,null,null,null,null,null,null,null,null,null,null,null,null,null,null,null,"",0,"","",0,"","",null,null,"",0,"","",0,"","",null,null,"",0,"","",0,"","",null,null,"",""]
[null,"",null,null,"","","",null,0,"","","","","",null,null,null,null,null,null,null,null,null,null,null,null,null,null,null,null,null,null,"",0,"","",0,"","",null,null,"",0,"","",0,"","",null,null,"",0,"","",0,"","",null,null,"",""]
[null,"",null,null,"","","",null,0,"","","","","",null,null,null,null,null,null,null,null,null,null,null,null,null,null,null,null,null,null,"",0,"","",0,"","",null,null,"",0,"","",0,"","",null,null,"",0,"","",0,"","",null,null,"",""]
[null,"",null,null,"","","",null,0,"","","","","",null,null,null,null,null,null,null,null,null,null,null,null,null,null,null,null,null,null,"",0,"","",0,"","",null,null,"",0,"","",0,"","",null,null,"",0,"","",0,"","",null,null,"",""]
[null,"",null,null,"","","",null,0,"","","","","",null,null,null,null,null,null,null,null,null,null,null,null,null,null,null,null,null,null,"",0,"","",0,"","",null,null,"",0,"","",0,"","",null,null,"",0,"","",0,"","",null,null,"",""]
[null,"",null,null,"","","",null,0,"","","","","",null,null,null,null,null,null,null,null,null,null,null,null,null,null,null,null,null,null,"",0,"","",0,"","",null,null,"",0,"","",0,"","",null,null,"",0,"","",0,"","",null,null,"",""]
[null,"",null,null,"","","",null,0,"","","","","",null,null,null,null,null,null,null,null,null,null,null,null,null,null,null,null,null,null,"",0,"","",0,"","",null,null,"",0,"","",0,"","",null,null,"",0,"","",0,"","",null,null,"",""]
[null,"",null,null,"","","",null,0,"","","","","",null,null,null,null,null,null,null,null,null,null,null,null,null,null,null,null,null,null,"",0,"","",0,"","",null,null,"",0,"","",0,"","",null,null,"",0,"","",0,"","",null,null,"",""]
[null,"",null,null,"","","",null,0,"","","","","",null,null,null,null,null,null,null,null,null,null,null,null,null,null,null,null,null,null,"",0,"","",0,"","",null,null,"",0,"","",0,"","",null,null,"",0,"","",0,"","",null,null,"",""]
[null,"",null,null,"","","",null,0,"","","","","",null,null,null,null,null,null,null,null,null,null,null,null,null,null,null,null,null,null,"",0,"","",0,"","",null,null,"",0,"","",0,"","",null,null,"",0,"","",0,"","",null,null,"",""]
[null,"",null,null,"","","",null,0,"","","","","",null,null,null,null,null,null,null,null,null,null,null,null,null,null,null,null,null,null,"",0,"","",0,"","",null,null,"",0,"","",0,"","",null,null,"",0,"","",0,"","",null,null,"",""]
[null,"",null,null,"","","",null,0,"","","","","",null,null,null,null,null,null,null,null,null,null,null,null,null,null,null,null,null,null,"",0,"","",0,"","",null,null,"",0,"","",0,"","",null,null,"",0,"","",0,"","",null,null,"",""]
[null,"",null,null,"","","",null,0,"","","","","",null,null,null,null,null,null,null,null,null,null,null,null,null,null,null,null,null,null,"",0,"","",0,"","",null,null,"",0,"","",0,"","",null,null,"",0,"","",0,"","",null,null,"",""]
[null,"",null,null,"","","",null,0,"","","","","",null,null,null,null,null,null,null,null,null,null,null,null,null,null,null,null,null,null,"",0,"","",0,"","",null,null,"",0,"","",0,"","",null,null,"",0,"","",0,"","",null,null,"",""]
[null,"",null,null,"","","",null,0,"","","","","",null,null,null,null,null,null,null,null,null,null,null,null,null,null,null,null,null,null,"",0,"","",0,"","",null,null,"",0,"","",0,"","",null,null,"",0,"","",0,"","",null,null,"",""]
[null,"",null,null,"","","",null,0,"","","","","",null,null,null,null,null,null,null,null,null,null,null,null,null,null,null,null,null,null,"",0,"","",0,"","",null,null,"",0,"","",0,"","",null,null,"",0,"","",0,"","",null,null,"",""]
[null,"",null,null,"","","",null,0,"","","","","",null,null,null,null,null,null,null,null,null,null,null,null,null,null,null,null,null,null,"",0,"","",0,"","",null,null,"",0,"","",0,"","",null,null,"",0,"","",0,"","",null,null,"",""]
[null,"",null,null,"","","",null,0,"","","","","",null,null,null,null,null,null,null,null,null,null,null,null,null,null,null,null,null,null,"",0,"","",0,"","",null,null,"",0,"","",0,"","",null,null,"",0,"","",0,"","",null,null,"",""]
[null,"",null,null,"","","",null,0,"","","","","",null,null,null,null,null,null,null,null,null,null,null,null,null,null,null,null,null,null,"",0,"","",0,"","",null,null,"",0,"","",0,"","",null,null,"",0,"","",0,"","",null,null,"",""]
[null,"",null,null,"","","",null,0,"","","","","",null,null,null,null,null,null,null,null,null,null,null,null,null,null,null,null,null,null,"",0,"","",0,"","",null,null,"",0,"","",0,"","",null,null,"",0,"","",0,"","",null,null,"",""]
[null,"",null,null,"","","",null,0,"","","","","",null,null,null,null,null,null,null,null,null,null,null,null,null,null,null,null,null,null,"",0,"","",0,"","",null,null,"",0,"","",0,"","",null,null,"",0,"","",0,"","",null,null,"",""]
[null,"",null,null,"","","",null,0,"","","","","",null,null,null,null,null,null,null,null,null,null,null,null,null,null,null,null,null,null,"",0,"","",0,"","",null,null,"",0,"","",0,"","",null,null,"",0,"","",0,"","",null,null,"",""]
[null,"",null,null,"","","",null,0,"","","","","",null,null,null,null,null,null,null,null,null,null,null,null,null,null,null,null,null,null,"",0,"","",0,"","",null,null,"",0,"","",0,"","",null,null,"",0,"","",0,"","",null,null,"",""]
[null,"",null,null,"","","",null,0,"","","","","",null,null,null,null,null,null,null,null,null,null,null,null,null,null,null,null,null,null,"",0,"","",0,"","",null,null,"",0,"","",0,"","",null,null,"",0,"","",0,"","",null,null,"",""]
[null,"",null,null,"","","",null,0,"","","","","",null,null,null,null,null,null,null,null,null,null,null,null,null,null,null,null,null,null,"",0,"","",0,"","",null,null,"",0,"","",0,"","",null,null,"",0,"","",0,"","",null,null,"",""]
[null,"",null,null,"","","",null,0,"","","","","",null,null,null,null,null,null,null,null,null,null,null,null,null,null,null,null,null,null,"",0,"","",0,"","",null,null,"",0,"","",0,"","",null,null,"",0,"","",0,"","",null,null,"",""]
[null,"",null,null,"","","",null,0,"","","","","",null,null,null,null,null,null,null,null,null,null,null,null,null,null,null,null,null,null,"",0,"","",0,"","",null,null,"",0,"","",0,"","",null,null,"",0,"","",0,"","",null,null,"",""]
[null,"",null,null,"","","",null,0,"","","","","",null,null,null,null,null,null,null,null,null,null,null,null,null,null,null,null,null,null,"",0,"","",0,"","",null,null,"",0,"","",0,"","",null,null,"",0,"","",0,"","",null,null,"",""]
[null,"",null,null,"","","",null,0,"","","","","",null,null,null,null,null,null,null,null,null,null,null,null,null,null,null,null,null,null,"",0,"","",0,"","",null,null,"",0,"","",0,"","",null,null,"",0,"","",0,"","",null,null,"",""]
[null,"",null,null,"","","",null,0,"","","","","",null,null,null,null,null,null,null,null,null,null,null,null,null,null,null,null,null,null,"",0,"","",0,"","",null,null,"",0,"","",0,"","",null,null,"",0,"","",0,"","",null,null,"",""]
[null,"",null,null,"","","",null,0,"","","","","",null,null,null,null,null,null,null,null,null,null,null,null,null,null,null,null,null,null,"",0,"","",0,"","",null,null,"",0,"","",0,"","",null,null,"",0,"","",0,"","",null,null,"",""]
[null,"",null,null,"","","",null,0,"","","","","",null,null,null,null,null,null,null,null,null,null,null,null,null,null,null,null,null,null,"",0,"","",0,"","",null,null,"",0,"","",0,"","",null,null,"",0,"","",0,"","",null,null,"",""]
[null,"",null,null,"","","",null,0,"","","","","",null,null,null,null,null,null,null,null,null,null,null,null,null,null,null,null,null,null,"",0,"","",0,"","",null,null,"",0,"","",0,"","",null,null,"",0,"","",0,"","",null,null,"",""]
[null,"",null,null,"","","",null,0,"","","","","",null,null,null,null,null,null,null,null,null,null,null,null,null,null,null,null,null,null,"",0,"","",0,"","",null,null,"",0,"","",0,"","",null,null,"",0,"","",0,"","",null,null,"",""]
[null,"",null,null,"","","",null,0,"","","","","",null,null,null,null,null,null,null,null,null,null,null,null,null,null,null,null,null,null,"",0,"","",0,"","",null,null,"",0,"","",0,"","",null,null,"",0,"","",0,"","",null,null,"",""]
[null,"",null,null,"","","",null,0,"","","","","",null,null,null,null,null,null,null,null,null,null,null,null,null,null,null,null,null,null,"",0,"","",0,"","",null,null,"",0,"","",0,"","",null,null,"",0,"","",0,"","",null,null,"",""]
[null,"",null,null,"","","",null,0,"","","","","",null,null,null,null,null,null,null,null,null,null,null,null,null,null,null,null,null,null,"",0,"","",0,"","",null,null,"",0,"","",0,"","",null,null,"",0,"","",0,"","",null,null,"",""]
[null,"",null,null,"","","",null,0,"","","","","",null,null,null,null,null,null,null,null,null,null,null,null,null,null,null,null,null,null,"",0,"","",0,"","",null,null,"",0,"","",0,"","",null,null,"",0,"","",0,"","",null,null,"",""]
[null,"",null,null,"","","",null,0,"","","","","",null,null,null,null,null,null,null,null,null,null,null,null,null,null,null,null,null,null,"",0,"","",0,"","",null,null,"",0,"","",0,"","",null,null,"",0,"","",0,"","",null,null,"",""]
[null,"",null,null,"","","",null,0,"","","","","",null,null,null,null,null,null,null,null,null,null,null,null,null,null,null,null,null,null,"",0,"","",0,"","",null,null,"",0,"","",0,"","",null,null,"",0,"","",0,"","",null,null,"",""]
[null,"",null,null,"","","",null,0,"","","","","",null,null,null,null,null,null,null,null,null,null,null,null,null,null,null,null,null,null,"",0,"","",0,"","",null,null,"",0,"","",0,"","",null,null,"",0,"","",0,"","",null,null,"",""]
[null,"",null,null,{"$f":"IF(D260=\"\",\"\",C260/D260)","v":""},"","",null,0,"","","","","",null,null,null,null,null,null,null,null,null,null,null,null,null,null,null,null,null,null,"",0,"","",0,"","",null,null,"",0,"","",0,"","",null,null,"",0,"","",0,"","",null,null,"",""]
[null,"",null,null,"","","",null,0,"","","","","",null,null,null,null,null,null,null,null,null,null,null,null,null,null,null,null,null,null,"",0,"","",0,"","",null,null,"",0,"","",0,"","",null,null,"",0,"","",0,"","",null,null,"",""]
[null,"",null,null,"","","",null,0,"","","","","",null,null,null,null,null,null,null,null,null,null,null,null,null,null,null,null,null,null,"",0,"","",0,"","",null,null,"",0,"","",0,"","",null,null,"",0,"","",0,"","",null,null,"",""]
[null,"",null,null,"","","",null,0,"","","","","",null,null,null,null,null,null,null,null,null,null,null,null,null,null,null,null,null,null,"",0,"","",0,"","",null,null,"",0,"","",0,"","",null,null,"",0,"","",0,"","",null,null,"",""]
[null,"",null,null,"","","",null,0,"","","","","",null,null,null,null,null,null,null,null,null,null,null,null,null,null,null,null,null,null,"",0,"","",0,"","",null,null,"",0,"","",0,"","",null,null,"",0,"","",0,"","",null,null,"",""]
[null,"",null,null,"","","",null,0,"","","","","",null,null,null,null,null,null,null,null,null,null,null,null,null,null,null,null,null,null,"",0,"","",0,"","",null,null,"",0,"","",0,"","",null,null,"",0,"","",0,"","",null,null,"",""]
[null,"",null,null,"","","",null,0,"","","","","",null,null,null,null,null,null,null,null,null,null,null,null,null,null,null,null,null,null,"",0,"","",0,"","",null,null,"",0,"","",0,"","",null,null,"",0,"","",0,"","",null,null,"",""]
[null,"",null,null,"","","",null,0,"","","","","",null,null,null,null,null,null,null,null,null,null,null,null,null,null,null,null,null,null,"",0,"","",0,"","",null,null,"",0,"","",0,"","",null,null,"",0,"","",0,"","",null,null,"",""]
[null,"",null,null,"","","",null,0,"","","","","",null,null,null,null,null,null,null,null,null,null,null,null,null,null,null,null,null,null,"",0,"","",0,"","",null,null,"",0,"","",0,"","",null,null,"",0,"","",0,"","",null,null,"",""]
[null,"",null,null,"","","",null,0,"","","","","",null,null,null,null,null,null,null,null,null,null,null,null,null,null,null,null,null,null,"",0,"","",0,"","",null,null,"",0,"","",0,"","",null,null,"",0,"","",0,"","",null,null,"",""]
[null,"",null,null,"",{"$f":"IF(D270=\"\",\"\",$F$8+(3*(SQRT($F$8/D270))))","v":""},{"$f":"IF(D270=\"\",\"\",IF($F$8-(3*(SQRT($F$8/D270)))<0,0,$F$8-(3*(SQRT($F$8/D270)))))","v":""},null,0,{"$f":"IF(G270=\"\",\"\",$F$8)","v":""},{"$f":"IF(D270=\"\",\"\",IF($F$8-(1*(SQRT($F$8/D270)))<0,0,$F$8-(1*(SQRT($F$8/D270)))))","v":""},{"$f":"IF(D270=\"\",\"\",IF($F$8-(2*(SQRT($F$8/D270)))<0,0,$F$8-(2*(SQRT($F$8/D270)))))","v":""},{"$f":"IF(D270=\"\",\"\",$F$8+(1*(SQRT($F$8/D270))))","v":""},{"$f":"IF(D270=\"\",\"\",$F$8+(2*(SQRT($F$8/D270))))","v":""},null,null,null,null,null,null,null,null,null,null,null,null,null,null,null,null,null,null,"",0,"","",0,"","",null,null,"",0,"","",0,"",{"$f":"IF(AND(AR270<>\"\",AU270=\"\"),AR270,IF(AND(AR270=\"\",AU270<>\"\"),AU270,IF(AND(AR270<>\"\",AU270<>\"\"),AR270,\"\")))","v":""},null,null,"",0,"","",0,"","",null,null,"",{"$f":"IF(BH270=1,CONCATENATE(\"Data Point \",B270),\"\")","v":""}]
[null,"",null,null,"","","",null,{"$f":"IF(B271>$F$9,0,1)","v":0},"","","","","",null,null,null,null,null,null,null,null,null,null,null,null,null,null,null,null,null,null,{"$f":"IF(E271=\"\",\"\",IF(AND(E271>=N271,E271<F271),1,0))","v":""},{"$f":"SUM(AG271:AG273)","v":0},{"$f":"IF(AH272=2,\"\",IF(AH271>=2,CONCATENATE(\"Data Point \",B271,\" to \",\"Data Point \",(B271+2)),\"\"))","v":""},{"$f":"IF(E271=\"\",\"\",IF(AND(E271<=L271,E271>G271),1,0))","v":""},{"$f":"SUM(AJ271:AJ273)","v":0},{"$f":"IF(AK272=2,\"\",IF(AK271>=2,CONCATENATE(\"Data Point \",B271,\" to \",\"Data Point \",(B271+2)),\"\"))","v":""},{"$f":"IF(AND(AI271<>\"\",AL271=\"\"),AI271,IF(AND(AI271=\"\",AL271<>\"\"),AL271,IF(AND(AI271<>\"\",AL271<>\"\"),AI271,\"\")))","v":""},null,null,{"$f":"IF(E271=\"\",\"\",IF(AND(E271>=M271,E271<F271),1,0))","v":""},{"$f":"SUM(AP271:AP275)","v":0},{"$f":"IF(AQ272=4,\"\",IF(AQ271>=4,CONCATENATE(\"Data Point \",B271,\" to \",\"Data Point \",(B271+4)),\"\"))","v":""},{"$f":"IF(E271=\"\",\"\",IF(AND(E271<=K271,E271>G271),1,0))","v":""},{"$f":"SUM(AS271:AS275)","v":0},{"$f":"IF(AT272=4,\"\",IF(AT271>=4,CONCATENATE(\"Data Point \",B271,\" to \",\"Data Point \",(B271+4)),\"\"))","v":""},"",null,null,{"$f":"IF(E271=\"\",\"\",IF(AND(E271>=J271,E271<F271),1,0))","v":""},{"$f":"SUM(AY271:AY278)","v":0},{"$f":"IF(AZ272=8, \"\", IF(AZ271=8,CONCATENATE(\"Data Point \",B271,\" to \",\"Data Point \",(B271+8)),\"\"))","v":""},{"$f":"IF(E271=\"\",\"\",IF(AND(E271<=J271,E271>G271),1,0))","v":""},{"$f":"SUM(BB271:BB278)","v":0},{"$f":"IF(BC272=8, \"\", IF(BC271=8,CONCATENATE(\"Data Point \",B271,\" to \",\"Data Point \",(B271+8)),\"\"))","v":""},{"$f":"IF(AND(BA271<>\"\",BD271=\"\"),BA271,IF(AND(BA271=\"\",BD271<>\"\"),BD271,IF(AND(BA271<>\"\",BD271<>\"\"),BA271,\"\")))","v":""},null,null,{"$f":"IF(E271=\"\",\"\",IF(OR(E271>F271,E271<G271),1,0))","v":""},""]
[null,{"$f":"IF(C272=\"\",\"\",B271+1)","v":""},null,null,"","","",null,0,"","","","","",null,null,null,null,null,null,null,null,null,null,null,null,null,null,null,null,null,null,"",0,"","",0,"","",null,null,"",0,"","",0,"","",null,null,"",0,"","",0,"","",null,null,"",""]
[null,"",null,null,"","","",null,0,"","","","","",null,null,null,null,null,null,null,null,null,null,null,null,null,null,null,null,null,null,"",0,"","",0,"","",null,null,"",0,"","",0,"","",null,null,"",0,"","",0,"","",null,null,"",""]
[null,"",null,null,"","","",null,0,"","","","","",null,null,null,null,null,null,null,null,null,null,null,null,null,null,null,null,null,null,"",0,"","",0,"","",null,null,"",0,"","",0,"","",null,null,"",0,"","",0,"","",null,null,"",""]
[null,"",null,null,"","","",null,0,"","","","","",null,null,null,null,null,null,null,null,null,null,null,null,null,null,null,null,null,null,"",0,"","",0,"","",null,null,"",0,"","",0,"","",null,null,"",0,"","",0,"","",null,null,"",""]
[null,"",null,null,"","","",null,0,"","","","","",null,null,null,null,null,null,null,null,null,null,null,null,null,null,null,null,null,null,"",0,"","",0,"","",null,null,"",0,"","",0,"","",null,null,"",0,"","",0,"","",null,null,"",""]
[null,"",null,null,"","","",null,0,"","","","","",null,null,null,null,null,null,null,null,null,null,null,null,null,null,null,null,null,null,"",0,"","",0,"","",null,null,"",0,"","",0,"","",null,null,"",0,"","",0,"","",null,null,"",""]
[null,"",null,null,"","","",null,0,"","","","","",null,null,null,null,null,null,null,null,null,null,null,null,null,null,null,null,null,null,"",0,"","",0,"","",null,null,"",0,"","",0,"","",null,null,"",0,"","",0,"","",null,null,"",""]
[null,"",null,null,"","","",null,0,"","","","","",null,null,null,null,null,null,null,null,null,null,null,null,null,null,null,null,null,null,"",0,"","",0,"","",null,null,"",0,"","",0,"","",null,null,"",0,"","",0,"","",null,null,"",""]
[null,"",null,null,"","","",null,0,"","","","","",null,null,null,null,null,null,null,null,null,null,null,null,null,null,null,null,null,null,"",0,"","",0,"","",null,null,"",0,"","",0,"","",null,null,"",0,"","",0,"","",null,null,"",""]
[null,"",null,null,"","","",null,0,"","","","","",null,null,null,null,null,null,null,null,null,null,null,null,null,null,null,null,null,null,"",0,"","",0,"","",null,null,"",0,"","",0,"","",null,null,"",0,"","",0,"","",null,null,"",""]
[null,"",null,null,"","","",null,0,"","","","","",null,null,null,null,null,null,null,null,null,null,null,null,null,null,null,null,null,null,"",0,"","",0,"","",null,null,"",0,"","",0,"","",null,null,"",0,"","",0,"","",null,null,"",""]
[null,"",null,null,"","","",null,0,"","","","","",null,null,null,null,null,null,null,null,null,null,null,null,null,null,null,null,null,null,"",0,"","",0,"","",null,null,"",0,"","",0,"","",null,null,"",0,"","",0,"","",null,null,"",""]
[null,"",null,null,"","","",null,0,"","","","","",null,null,null,null,null,null,null,null,null,null,null,null,null,null,null,null,null,null,"",0,"","",0,"","",null,null,"",0,"","",0,"","",null,null,"",0,"","",0,"","",null,null,"",""]
[null,"",null,null,"","","",null,0,"","","","","",null,null,null,null,null,null,null,null,null,null,null,null,null,null,null,null,null,null,"",0,"","",0,"","",null,null,"",0,"","",0,"","",null,null,"",0,"","",0,"","",null,null,"",""]
[null,"",null,null,"","","",null,0,"","","","","",null,null,null,null,null,null,null,null,null,null,null,null,null,null,null,null,null,null,"",0,"","",0,"","",null,null,"",0,"","",0,"","",null,null,"",0,"","",0,"","",null,null,"",""]
[null,"",null,null,"","","",null,0,"","","","","",null,null,null,null,null,null,null,null,null,null,null,null,null,null,null,null,null,null,"",0,"","",0,"","",null,null,"",0,"","",0,"","",null,null,"",0,"","",0,"","",null,null,"",""]
[null,"",null,null,"","","",null,0,"","","","","",null,null,null,null,null,null,null,null,null,null,null,null,null,null,null,null,null,null,"",0,"","",0,"","",null,null,"",0,"","",0,"","",null,null,"",0,"","",0,"","",null,null,"",""]
[null,"",null,null,"","","",null,0,"","","","","",null,null,null,null,null,null,null,null,null,null,null,null,null,null,null,null,null,null,"",0,"","",0,"","",null,null,"",0,"","",0,"","",null,null,"",0,"","",0,"","",null,null,"",""]
[null,"",null,null,"","","",null,0,"","","","","",null,null,null,null,null,null,null,null,null,null,null,null,null,null,null,null,null,null,"",0,"","",0,"","",null,null,"",0,"","",0,"","",null,null,"",0,"","",0,"","",null,null,"",""]
[null,"",null,null,"","","",null,0,"","","","","",null,null,null,null,null,null,null,null,null,null,null,null,null,null,null,null,null,null,"",0,"","",0,"","",null,null,"",0,"","",0,"","",null,null,"",0,"","",0,"","",null,null,"",""]
[null,"",null,null,"","","",null,0,"","","","","",null,null,null,null,null,null,null,null,null,null,null,null,null,null,null,null,null,null,"",0,"","",0,"","",null,null,"",0,"","",0,"","",null,null,"",0,"","",0,"","",null,null,"",""]
[null,"",null,null,"","","",null,0,"","","","","",null,null,null,null,null,null,null,null,null,null,null,null,null,null,null,null,null,null,"",0,"","",0,"","",null,null,"",0,"","",0,"","",null,null,"",0,"","",0,"","",null,null,"",""]
[null,"",null,null,"","","",null,0,"","","","","",null,null,null,null,null,null,null,null,null,null,null,null,null,null,null,null,null,null,"",0,"","",0,"","",null,null,"",0,"","",0,"","",null,null,"",0,"","",0,"","",null,null,"",""]
[null,"",null,null,"","","",null,0,"","","","","",null,null,null,null,null,null,null,null,null,null,null,null,null,null,null,null,null,null,"",0,"","",0,"","",null,null,"",0,"","",0,"","",null,null,"",0,"","",0,"","",null,null,"",""]
[null,"",null,null,"","","",null,0,"","","","","",null,null,null,null,null,null,null,null,null,null,null,null,null,null,null,null,null,null,"",0,"","",0,"","",null,null,"",0,"","",0,"","",null,null,"",0,"","",0,"","",null,null,"",""]
[null,"",null,null,"","","",null,0,"","","","","",null,null,null,null,null,null,null,null,null,null,null,null,null,null,null,null,null,null,"",0,"","",0,"","",null,null,"",0,"","",0,"","",null,null,"",0,"","",0,"","",null,null,"",""]
[null,"",null,null,"","","",null,0,"","","","","",null,null,null,null,null,null,null,null,null,null,null,null,null,null,null,null,null,null,"",0,"","",0,"","",null,null,"",0,"","",0,"","",null,null,"",0,"","",0,"","",null,null,"",""]
[null,"",null,null,"","","",null,0,"","","","","",null,null,null,null,null,null,null,null,null,null,null,null,null,null,null,null,null,null,"",0,"","",0,"","",null,null,"",0,"","",0,"","",null,null,"",0,"","",0,"","",null,null,"",""]
[null,"",null,null,"","","",null,0,"","","","","",null,null,null,null,null,null,null,null,null,null,null,null,null,null,null,null,null,null,"",0,"","",0,"","",null,null,"",0,"","",0,"","",null,null,"",0,"","",0,"","",null,null,"",""]
[null,"",null,null,"","","",null,0,"","","","","",null,null,null,null,null,null,null,null,null,null,null,null,null,null,null,null,null,null,"",0,"","",0,"","",null,null,"",0,"","",0,"","",null,null,"",0,"","",0,"","",null,null,"",""]
[null,"",null,null,"","","",null,0,"","","","","",null,null,null,null,null,null,null,null,null,null,null,null,null,null,null,null,null,null,"",0,"","",0,"","",null,null,"",0,"","",0,"","",null,null,"",0,"","",0,"","",null,null,"",""]
[null,"",null,null,"","","",null,0,"","","","","",null,null,null,null,null,null,null,null,null,null,null,null,null,null,null,null,null,null,"",0,"","",0,"","",null,null,"",0,"","",0,"","",null,null,"",0,"","",0,"","",null,null,"",""]
[null,"",null,null,"","","",null,0,"","","","","",null,null,null,null,null,null,null,null,null,null,null,null,null,null,null,null,null,null,"",0,"","",0,"","",null,null,"",0,"","",0,"","",null,null,"",0,"","",0,"","",null,null,"",""]
[null,"",null,null,"","","",null,0,"","","","","",null,null,null,null,null,null,null,null,null,null,null,null,null,null,null,null,null,null,"",0,"","",0,"","",null,null,"",0,"","",0,"","",null,null,"",0,"","",0,"","",null,null,"",""]
[null,"",null,null,"","","",null,0,"","","","","",null,null,null,null,null,null,null,null,null,null,null,null,null,null,null,null,null,null,"",0,"","",0,"","",null,null,"",0,"","",0,"","",null,null,"",0,"","",0,"","",null,null,"",""]
[null,"",null,null,"","","",null,0,"","","","","",null,null,null,null,null,null,null,null,null,null,null,null,null,null,null,null,null,null,"",0,"","",0,"","",null,null,"",0,"","",0,"","",null,null,"",0,"","",0,"","",null,null,"",""]
[null,"",null,null,"","","",null,0,"","","","","",null,null,null,null,null,null,null,null,null,null,null,null,null,null,null,null,null,null,"",0,"","",0,"","",null,null,"",0,"","",0,"","",null,null,"",0,"","",0,"","",null,null,"",""]
[null,"",null,null,"","","",null,0,"","","","","",null,null,null,null,null,null,null,null,null,null,null,null,null,null,null,null,null,null,"",0,"","",0,"","",null,null,"",0,"","",0,"","",null,null,"",0,"","",0,"","",null,null,"",""]
[null,"",null,null,"","","",null,0,"","","","","",null,null,null,null,null,null,null,null,null,null,null,null,null,null,null,null,null,null,"",0,"","",0,"","",null,null,"",0,"","",0,"","",null,null,"",0,"","",0,"","",null,null,"",""]
[null,"",null,null,"","","",null,0,"","","","","",null,null,null,null,null,null,null,null,null,null,null,null,null,null,null,null,null,null,"",0,"","",0,"","",null,null,"",0,"","",0,"","",null,null,"",0,"","",0,"","",null,null,"",""]
[null,"",null,null,"","","",null,0,"","","","","",null,null,null,null,null,null,null,null,null,null,null,null,null,null,null,null,null,null,"",0,"","",0,"","",null,null,"",0,"","",0,"","",null,null,"",0,"","",0,"","",null,null,"",""]
[null,"",null,null,"","","",null,0,"","","","","",null,null,null,null,null,null,null,null,null,null,null,null,null,null,null,null,null,null,"",0,"","",0,"","",null,null,"",0,"","",0,"","",null,null,"",0,"","",0,"","",null,null,"",""]
[null,"",null,null,"","","",null,0,"","","","","",null,null,null,null,null,null,null,null,null,null,null,null,null,null,null,null,null,null,"",0,"","",0,"","",null,null,"",0,"","",0,"","",null,null,"",0,"","",0,"","",null,null,"",""]
[null,"",null,null,"","","",null,0,"","","","","",null,null,null,null,null,null,null,null,null,null,null,null,null,null,null,null,null,null,"",0,"","",0,"","",null,null,"",0,"","",0,"","",null,null,"",0,"","",0,"","",null,null,"",""]
[null,"",null,null,"","","",null,0,"","","","","",null,null,null,null,null,null,null,null,null,null,null,null,null,null,null,null,null,null,"",0,"","",0,"","",null,null,"",0,"","",0,"","",null,null,"",0,"","",0,"","",null,null,"",""]
[null,"",null,null,"","","",null,0,"","","","","",null,null,null,null,null,null,null,null,null,null,null,null,null,null,null,null,null,null,"",0,"","",0,"","",null,null,"",0,"","",0,"","",null,null,"",0,"","",0,"","",null,null,"",""]
[null,"",null,null,"","","",null,0,"","","","","",null,null,null,null,null,null,null,null,null,null,null,null,null,null,null,null,null,null,"",0,"","",0,"","",null,null,"",0,"","",0,"","",null,null,"",0,"","",0,"","",null,null,"",""]
[null,"",null,null,"","","",null,0,"","","","","",null,null,null,null,null,null,null,null,null,null,null,null,null,null,null,null,null,null,"",0,"","",0,"","",null,null,"",0,"","",0,"","",null,null,"",0,"","",0,"","",null,null,"",""]
[null,"",null,null,"","","",null,0,"","","","","",null,null,null,null,null,null,null,null,null,null,null,null,null,null,null,null,null,null,"",0,"","",0,"","",null,null,"",0,"","",0,"","",null,null,"",0,"","",0,"","",null,null,"",""]
[null,"",null,null,"","","",null,0,"","","","","",null,null,null,null,null,null,null,null,null,null,null,null,null,null,null,null,null,null,"",0,"","",0,"","",null,null,"",0,"","",0,"","",null,null,"",0,"","",0,"","",null,null,"",""]
[null,"",null,null,"","","",null,0,"","","","","",null,null,null,null,null,null,null,null,null,null,null,null,null,null,null,null,null,null,"",0,"","",0,"","",null,null,"",0,"","",0,"","",null,null,"",0,"","",0,"","",null,null,"",""]
[null,"",null,null,"","","",null,0,"","","","","",null,null,null,null,null,null,null,null,null,null,null,null,null,null,null,null,null,null,"",0,"","",0,"","",null,null,"",0,"","",0,"","",null,null,"",0,"","",0,"","",null,null,"",""]
[null,"",null,null,{"$f":"IF(D324=\"\",\"\",C324/D324)","v":""},"","",null,0,"","","","","",null,null,null,null,null,null,null,null,null,null,null,null,null,null,null,null,null,null,"",0,"","",0,"","",null,null,"",0,"","",0,"","",null,null,"",0,"","",0,"","",null,null,"",""]
[null,"",null,null,"","","",null,0,"","","","","",null,null,null,null,null,null,null,null,null,null,null,null,null,null,null,null,null,null,"",0,"","",0,"","",null,null,"",0,"","",0,"","",null,null,"",0,"","",0,"","",null,null,"",""]
[null,"",null,null,"","","",null,0,"","","","","",null,null,null,null,null,null,null,null,null,null,null,null,null,null,null,null,null,null,"",0,"","",0,"","",null,null,"",0,"","",0,"","",null,null,"",0,"","",0,"","",null,null,"",""]
[null,"",null,null,"","","",null,0,"","","","","",null,null,null,null,null,null,null,null,null,null,null,null,null,null,null,null,null,null,"",0,"","",0,"","",null,null,"",0,"","",0,"","",null,null,"",0,"","",0,"","",null,null,"",""]
[null,"",null,null,"","","",null,0,"","","","","",null,null,null,null,null,null,null,null,null,null,null,null,null,null,null,null,null,null,"",0,"","",0,"","",null,null,"",0,"","",0,"","",null,null,"",0,"","",0,"","",null,null,"",""]
[null,"",null,null,"","","",null,0,"","","","","",null,null,null,null,null,null,null,null,null,null,null,null,null,null,null,null,null,null,"",0,"","",0,"","",null,null,"",0,"","",0,"","",null,null,"",0,"","",0,"","",null,null,"",""]
[null,"",null,null,"","","",null,0,"","","","","",null,null,null,null,null,null,null,null,null,null,null,null,null,null,null,null,null,null,"",0,"","",0,"","",null,null,"",0,"","",0,"","",null,null,"",0,"","",0,"","",null,null,"",""]
[null,"",null,null,"","","",null,0,"","","","","",null,null,null,null,null,null,null,null,null,null,null,null,null,null,null,null,null,null,"",0,"","",0,"","",null,null,"",0,"","",0,"","",null,null,"",0,"","",0,"","",null,null,"",""]
[null,"",null,null,"","","",null,0,"","","","","",null,null,null,null,null,null,null,null,null,null,null,null,null,null,null,null,null,null,"",0,"","",0,"","",null,null,"",0,"","",0,"","",null,null,"",0,"","",0,"","",null,null,"",""]
[null,"",null,null,"","","",null,0,"","","","","",null,null,null,null,null,null,null,null,null,null,null,null,null,null,null,null,null,null,"",0,"","",0,"","",null,null,"",0,"","",0,"","",null,null,"",0,"","",0,"","",null,null,"",""]
[null,"",null,null,"",{"$f":"IF(D334=\"\",\"\",$F$8+(3*(SQRT($F$8/D334))))","v":""},{"$f":"IF(D334=\"\",\"\",IF($F$8-(3*(SQRT($F$8/D334)))<0,0,$F$8-(3*(SQRT($F$8/D334)))))","v":""},null,0,{"$f":"IF(G334=\"\",\"\",$F$8)","v":""},{"$f":"IF(D334=\"\",\"\",IF($F$8-(1*(SQRT($F$8/D334)))<0,0,$F$8-(1*(SQRT($F$8/D334)))))","v":""},{"$f":"IF(D334=\"\",\"\",IF($F$8-(2*(SQRT($F$8/D334)))<0,0,$F$8-(2*(SQRT($F$8/D334)))))","v":""},{"$f":"IF(D334=\"\",\"\",$F$8+(1*(SQRT($F$8/D334))))","v":""},{"$f":"IF(D334=\"\",\"\",$F$8+(2*(SQRT($F$8/D334))))","v":""},null,null,null,null,null,null,null,null,null,null,null,null,null,null,null,null,null,null,"",0,"","",0,"","",null,null,"",0,"","",0,"",{"$f":"IF(AND(AR334<>\"\",AU334=\"\"),AR334,IF(AND(AR334=\"\",AU334<>\"\"),AU334,IF(AND(AR334<>\"\",AU334<>\"\"),AR334,\"\")))","v":""},null,null,"",0,"","",0,"","",null,null,"",{"$f":"IF(BH334=1,CONCATENATE(\"Data Point \",B334),\"\")","v":""}]
[null,"",null,null,"","","",null,{"$f":"IF(B335>$F$9,0,1)","v":0},"","","","","",null,null,null,null,null,null,null,null,null,null,null,null,null,null,null,null,null,null,{"$f":"IF(E335=\"\",\"\",IF(AND(E335>=N335,E335<F335),1,0))","v":""},{"$f":"SUM(AG335:AG337)","v":0},{"$f":"IF(AH336=2,\"\",IF(AH335>=2,CONCATENATE(\"Data Point \",B335,\" to \",\"Data Point \",(B335+2)),\"\"))","v":""},{"$f":"IF(E335=\"\",\"\",IF(AND(E335<=L335,E335>G335),1,0))","v":""},{"$f":"SUM(AJ335:AJ337)","v":0},{"$f":"IF(AK336=2,\"\",IF(AK335>=2,CONCATENATE(\"Data Point \",B335,\" to \",\"Data Point \",(B335+2)),\"\"))","v":""},{"$f":"IF(AND(AI335<>\"\",AL335=\"\"),AI335,IF(AND(AI335=\"\",AL335<>\"\"),AL335,IF(AND(AI335<>\"\",AL335<>\"\"),AI335,\"\")))","v":""},null,null,{"$f":"IF(E335=\"\",\"\",IF(AND(E335>=M335,E335<F335),1,0))","v":""},{"$f":"SUM(AP335:AP339)","v":0},{"$f":"IF(AQ336=4,\"\",IF(AQ335>=4,CONCATENATE(\"Data Point \",B335,\" to \",\"Data Point \",(B335+4)),\"\"))","v":""},{"$f":"IF(E335=\"\",\"\",IF(AND(E335<=K335,E335>G335),1,0))","v":""},{"$f":"SUM(AS335:AS339)","v":0},{"$f":"IF(AT336=4,\"\",IF(AT335>=4,CONCATENATE(\"Data Point \",B335,\" to \",\"Data Point \",(B335+4)),\"\"))","v":""},"",null,null,{"$f":"IF(E335=\"\",\"\",IF(AND(E335>=J335,E335<F335),1,0))","v":""},{"$f":"SUM(AY335:AY342)","v":0},{"$f":"IF(AZ336=8, \"\", IF(AZ335=8,CONCATENATE(\"Data Point \",B335,\" to \",\"Data Point \",(B335+8)),\"\"))","v":""},{"$f":"IF(E335=\"\",\"\",IF(AND(E335<=J335,E335>G335),1,0))","v":""},{"$f":"SUM(BB335:BB342)","v":0},{"$f":"IF(BC336=8, \"\", IF(BC335=8,CONCATENATE(\"Data Point \",B335,\" to \",\"Data Point \",(B335+8)),\"\"))","v":""},{"$f":"IF(AND(BA335<>\"\",BD335=\"\"),BA335,IF(AND(BA335=\"\",BD335<>\"\"),BD335,IF(AND(BA335<>\"\",BD335<>\"\"),BA335,\"\")))","v":""},null,null,{"$f":"IF(E335=\"\",\"\",IF(OR(E335>F335,E335<G335),1,0))","v":""},""]
[null,{"$f":"IF(C336=\"\",\"\",B335+1)","v":""},null,null,"","","",null,0,"","","","","",null,null,null,null,null,null,null,null,null,null,null,null,null,null,null,null,null,null,"",0,"","",0,"","",null,null,"",0,"","",0,"","",null,null,"",0,"","",0,"","",null,null,"",""]
[null,"",null,null,"","","",null,0,"","","","","",null,null,null,null,null,null,null,null,null,null,null,null,null,null,null,null,null,null,"",0,"","",0,"","",null,null,"",0,"","",0,"","",null,null,"",0,"","",0,"","",null,null,"",""]
[null,"",null,null,"","","",null,0,"","","","","",null,null,null,null,null,null,null,null,null,null,null,null,null,null,null,null,null,null,"",0,"","",0,"","",null,null,"",0,"","",0,"","",null,null,"",0,"","",0,"","",null,null,"",""]
[null,"",null,null,"","","",null,0,"","","","","",null,null,null,null,null,null,null,null,null,null,null,null,null,null,null,null,null,null,"",0,"","",0,"","",null,null,"",0,"","",0,"","",null,null,"",0,"","",0,"","",null,null,"",""]
[null,"",null,null,"","","",null,0,"","","","","",null,null,null,null,null,null,null,null,null,null,null,null,null,null,null,null,null,null,"",0,"","",0,"","",null,null,"",0,"","",0,"","",null,null,"",0,"","",0,"","",null,null,"",""]
[null,"",null,null,"","","",null,0,"","","","","",null,null,null,null,null,null,null,null,null,null,null,null,null,null,null,null,null,null,"",0,"","",0,"","",null,null,"",0,"","",0,"","",null,null,"",0,"","",0,"","",null,null,"",""]
[null,"",null,null,"","","",null,0,"","","","","",null,null,null,null,null,null,null,null,null,null,null,null,null,null,null,null,null,null,"",0,"","",0,"","",null,null,"",0,"","",0,"","",null,null,"",0,"","",0,"","",null,null,"",""]
[null,"",null,null,"","","",null,0,"","","","","",null,null,null,null,null,null,null,null,null,null,null,null,null,null,null,null,null,null,"",0,"","",0,"","",null,null,"",0,"","",0,"","",null,null,"",0,"","",0,"","",null,null,"",""]
[null,"",null,null,"","","",null,0,"","","","","",null,null,null,null,null,null,null,null,null,null,null,null,null,null,null,null,null,null,"",0,"","",0,"","",null,null,"",0,"","",0,"","",null,null,"",0,"","",0,"","",null,null,"",""]
[null,"",null,null,"","","",null,0,"","","","","",null,null,null,null,null,null,null,null,null,null,null,null,null,null,null,null,null,null,"",0,"","",0,"","",null,null,"",0,"","",0,"","",null,null,"",0,"","",0,"","",null,null,"",""]
[null,"",null,null,"","","",null,0,"","","","","",null,null,null,null,null,null,null,null,null,null,null,null,null,null,null,null,null,null,"",0,"","",0,"","",null,null,"",0,"","",0,"","",null,null,"",0,"","",0,"","",null,null,"",""]
[null,"",null,null,"","","",null,0,"","","","","",null,null,null,null,null,null,null,null,null,null,null,null,null,null,null,null,null,null,"",0,"","",0,"","",null,null,"",0,"","",0,"","",null,null,"",0,"","",0,"","",null,null,"",""]
[null,"",null,null,"","","",null,0,"","","","","",null,null,null,null,null,null,null,null,null,null,null,null,null,null,null,null,null,null,"",0,"","",0,"","",null,null,"",0,"","",0,"","",null,null,"",0,"","",0,"","",null,null,"",""]
[null,"",null,null,"","","",null,0,"","","","","",null,null,null,null,null,null,null,null,null,null,null,null,null,null,null,null,null,null,"",0,"","",0,"","",null,null,"",0,"","",0,"","",null,null,"",0,"","",0,"","",null,null,"",""]
[null,"",null,null,"","","",null,0,"","","","","",null,null,null,null,null,null,null,null,null,null,null,null,null,null,null,null,null,null,"",0,"","",0,"","",null,null,"",0,"","",0,"","",null,null,"",0,"","",0,"","",null,null,"",""]
[null,"",null,null,"","","",null,0,"","","","","",null,null,null,null,null,null,null,null,null,null,null,null,null,null,null,null,null,null,"",0,"","",0,"","",null,null,"",0,"","",0,"","",null,null,"",0,"","",0,"","",null,null,"",""]
[null,"",null,null,"","","",null,0,"","","","","",null,null,null,null,null,null,null,null,null,null,null,null,null,null,null,null,null,null,"",0,"","",0,"","",null,null,"",0,"","",0,"","",null,null,"",0,"","",0,"","",null,null,"",""]
[null,"",null,null,"","","",null,0,"","","","","",null,null,null,null,null,null,null,null,null,null,null,null,null,null,null,null,null,null,"",0,"","",0,"","",null,null,"",0,"","",0,"","",null,null,"",0,"","",0,"","",null,null,"",""]
[null,"",null,null,"","","",null,0,"","","","","",null,null,null,null,null,null,null,null,null,null,null,null,null,null,null,null,null,null,"",0,"","",0,"","",null,null,"",0,"","",0,"","",null,null,"",0,"","",0,"","",null,null,"",""]
[null,"",null,null,"","","",null,0,"","","","","",null,null,null,null,null,null,null,null,null,null,null,null,null,null,null,null,null,null,"",0,"","",0,"","",null,null,"",0,"","",0,"","",null,null,"",0,"","",0,"","",null,null,"",""]
[null,"",null,null,"","","",null,0,"","","","","",null,null,null,null,null,null,null,null,null,null,null,null,null,null,null,null,null,null,"",0,"","",0,"","",null,null,"",0,"","",0,"","",null,null,"",0,"","",0,"","",null,null,"",""]
[null,"",null,null,"","","",null,0,"","","","","",null,null,null,null,null,null,null,null,null,null,null,null,null,null,null,null,null,null,"",0,"","",0,"","",null,null,"",0,"","",0,"","",null,null,"",0,"","",0,"","",null,null,"",""]
[null,"",null,null,"","","",null,0,"","","","","",null,null,null,null,null,null,null,null,null,null,null,null,null,null,null,null,null,null,"",0,"","",0,"","",null,null,"",0,"","",0,"","",null,null,"",0,"","",0,"","",null,null,"",""]
[null,"",null,null,"","","",null,0,"","","","","",null,null,null,null,null,null,null,null,null,null,null,null,null,null,null,null,null,null,"",0,"","",0,"","",null,null,"",0,"","",0,"","",null,null,"",0,"","",0,"","",null,null,"",""]
[null,"",null,null,"","","",null,0,"","","","","",null,null,null,null,null,null,null,null,null,null,null,null,null,null,null,null,null,null,"",0,"","",0,"","",null,null,"",0,"","",0,"","",null,null,"",0,"","",0,"","",null,null,"",""]
[null,"",null,null,"","","",null,0,"","","","","",null,null,null,null,null,null,null,null,null,null,null,null,null,null,null,null,null,null,"",0,"","",0,"","",null,null,"",0,"","",0,"","",null,null,"",0,"","",0,"","",null,null,"",""]
[null,"",null,null,"","","",null,0,"","","","","",null,null,null,null,null,null,null,null,null,null,null,null,null,null,null,null,null,null,"",0,"","",0,"","",null,null,"",0,"","",0,"","",null,null,"",0,"","",0,"","",null,null,"",""]
[null,"",null,null,"","","",null,0,"","","","","",null,null,null,null,null,null,null,null,null,null,null,null,null,null,null,null,null,null,"",0,"","",0,"","",null,null,"",0,"","",0,"","",null,null,"",0,"","",0,"","",null,null,"",""]
[null,"",null,null,"","","",null,0,"","","","","",null,null,null,null,null,null,null,null,null,null,null,null,null,null,null,null,null,null,"",0,"","",0,"","",null,null,"",0,"","",0,"","",null,null,"",0,"","",0,"","",null,null,"",""]
[null,"",null,null,"","","",null,0,"","","","","",null,null,null,null,null,null,null,null,null,null,null,null,null,null,null,null,null,null,"",0,"","",0,"","",null,null,"",0,"","",0,"","",null,null,"",0,"","",0,"","",null,null,"",""]
[null,"",null,null,"","","",null,0,"","","","","",null,null,null,null,null,null,null,null,null,null,null,null,null,null,null,null,null,null,"",0,"","",0,"","",null,null,"",0,"","",0,"","",null,null,"",0,"","",0,"","",null,null,"",""]
[null,"",null,null,"","","",null,0,"","","","","",null,null,null,null,null,null,null,null,null,null,null,null,null,null,null,null,null,null,"",0,"","",0,"","",null,null,"",0,"","",0,"","",null,null,"",0,"","",0,"","",null,null,"",""]
[null,"",null,null,"","","",null,0,"","","","","",null,null,null,null,null,null,null,null,null,null,null,null,null,null,null,null,null,null,"",0,"","",0,"","",null,null,"",0,"","",0,"","",null,null,"",0,"","",0,"","",null,null,"",""]
[null,"",null,null,"","","",null,0,"","","","","",null,null,null,null,null,null,null,null,null,null,null,null,null,null,null,null,null,null,"",0,"","",0,"","",null,null,"",0,"","",0,"","",null,null,"",0,"","",0,"","",null,null,"",""]
[null,"",null,null,"","","",null,0,"","","","","",null,null,null,null,null,null,null,null,null,null,null,null,null,null,null,null,null,null,"",0,"","",0,"","",null,null,"",0,"","",0,"","",null,null,"",0,"","",0,"","",null,null,"",""]
[null,"",null,null,"","","",null,0,"","","","","",null,null,null,null,null,null,null,null,null,null,null,null,null,null,null,null,null,null,"",0,"","",0,"","",null,null,"",0,"","",0,"","",null,null,"",0,"","",0,"","",null,null,"",""]
[null,"",null,null,"","","",null,0,"","","","","",null,null,null,null,null,null,null,null,null,null,null,null,null,null,null,null,null,null,"",0,"","",0,"","",null,null,"",0,"","",0,"","",null,null,"",0,"","",0,"","",null,null,"",""]
[null,"",null,null,"","","",null,0,"","","","","",null,null,null,null,null,null,null,null,null,null,null,null,null,null,null,null,null,null,"",0,"","",0,"","",null,null,"",0,"","",0,"","",null,null,"",0,"","",0,"","",null,null,"",""]
[null,"",null,null,"","","",null,0,"","","","","",null,null,null,null,null,null,null,null,null,null,null,null,null,null,null,null,null,null,"",0,"","",0,"","",null,null,"",0,"","",0,"","",null,null,"",0,"","",0,"","",null,null,"",""]
[null,"",null,null,"","","",null,0,"","","","","",null,null,null,null,null,null,null,null,null,null,null,null,null,null,null,null,null,null,"",0,"","",0,"","",null,null,"",0,"","",0,"","",null,null,"",0,"","",0,"","",null,null,"",""]
[null,"",null,null,"","","",null,0,"","","","","",null,null,null,null,null,null,null,null,null,null,null,null,null,null,null,null,null,null,"",0,"","",0,"","",null,null,"",0,"","",0,"","",null,null,"",0,"","",0,"","",null,null,"",""]
[null,"",null,null,"","","",null,0,"","","","","",null,null,null,null,null,null,null,null,null,null,null,null,null,null,null,null,null,null,"",0,"","",0,"","",null,null,"",0,"","",0,"","",null,null,"",0,"","",0,"","",null,null,"",""]
[null,"",null,null,"","","",null,0,"","","","","",null,null,null,null,null,null,null,null,null,null,null,null,null,null,null,null,null,null,"",0,"","",0,"","",null,null,"",0,"","",0,"","",null,null,"",0,"","",0,"","",null,null,"",""]
[null,"",null,null,"","","",null,0,"","","","","",null,null,null,null,null,null,null,null,null,null,null,null,null,null,null,null,null,null,"",0,"","",0,"","",null,null,"",0,"","",0,"","",null,null,"",0,"","",0,"","",null,null,"",""]
[null,"",null,null,"","","",null,0,"","","","","",null,null,null,null,null,null,null,null,null,null,null,null,null,null,null,null,null,null,"",0,"","",0,"","",null,null,"",0,"","",0,"","",null,null,"",0,"","",0,"","",null,null,"",""]
[null,"",null,null,"","","",null,0,"","","","","",null,null,null,null,null,null,null,null,null,null,null,null,null,null,null,null,null,null,"",0,"","",0,"","",null,null,"",0,"","",0,"","",null,null,"",0,"","",0,"","",null,null,"",""]
[null,"",null,null,"","","",null,0,"","","","","",null,null,null,null,null,null,null,null,null,null,null,null,null,null,null,null,null,null,"",0,"","",0,"","",null,null,"",0,"","",0,"","",null,null,"",0,"","",0,"","",null,null,"",""]
[null,"",null,null,"","","",null,0,"","","","","",null,null,null,null,null,null,null,null,null,null,null,null,null,null,null,null,null,null,"",0,"","",0,"","",null,null,"",0,"","",0,"","",null,null,"",0,"","",0,"","",null,null,"",""]
[null,"",null,null,"","","",null,0,"","","","","",null,null,null,null,null,null,null,null,null,null,null,null,null,null,null,null,null,null,"",0,"","",0,"","",null,null,"",0,"","",0,"","",null,null,"",0,"","",0,"","",null,null,"",""]
[null,"",null,null,"","","",null,0,"","","","","",null,null,null,null,null,null,null,null,null,null,null,null,null,null,null,null,null,null,"",0,"","",0,"","",null,null,"",0,"","",0,"","",null,null,"",0,"","",0,"","",null,null,"",""]
[null,"",null,null,"","","",null,0,"","","","","",null,null,null,null,null,null,null,null,null,null,null,null,null,null,null,null,null,null,"",0,"","",0,"","",null,null,"",0,"","",0,"","",null,null,"",0,"","",0,"","",null,null,"",""]
[null,"",null,null,"","","",null,0,"","","","","",null,null,null,null,null,null,null,null,null,null,null,null,null,null,null,null,null,null,"",0,"","",0,"","",null,null,"",0,"","",0,"","",null,null,"",0,"","",0,"","",null,null,"",""]
[null,"",null,null,{"$f":"IF(D388=\"\",\"\",C388/D388)","v":""},"","",null,0,"","","","","",null,null,null,null,null,null,null,null,null,null,null,null,null,null,null,null,null,null,"",0,"","",0,"","",null,null,"",0,"","",0,"","",null,null,"",0,"","",0,"","",null,null,"",""]
[null,"",null,null,"","","",null,0,"","","","","",null,null,null,null,null,null,null,null,null,null,null,null,null,null,null,null,null,null,"",0,"","",0,"","",null,null,"",0,"","",0,"","",null,null,"",0,"","",0,"","",null,null,"",""]
[null,"",null,null,"","","",null,0,"","","","","",null,null,null,null,null,null,null,null,null,null,null,null,null,null,null,null,null,null,"",0,"","",0,"","",null,null,"",0,"","",0,"","",null,null,"",0,"","",0,"","",null,null,"",""]
[null,"",null,null,"","","",null,0,"","","","","",null,null,null,null,null,null,null,null,null,null,null,null,null,null,null,null,null,null,"",0,"","",0,"","",null,null,"",0,"","",0,"","",null,null,"",0,"","",0,"","",null,null,"",""]
[null,"",null,null,"","","",null,0,"","","","","",null,null,null,null,null,null,null,null,null,null,null,null,null,null,null,null,null,null,"",0,"","",0,"","",null,null,"",0,"","",0,"","",null,null,"",0,"","",0,"","",null,null,"",""]
[null,"",null,null,"","","",null,0,"","","","","",null,null,null,null,null,null,null,null,null,null,null,null,null,null,null,null,null,null,"",0,"","",0,"","",null,null,"",0,"","",0,"","",null,null,"",0,"","",0,"","",null,null,"",""]
[null,"",null,null,"","","",null,0,"","","","","",null,null,null,null,null,null,null,null,null,null,null,null,null,null,null,null,null,null,"",0,"","",0,"","",null,null,"",0,"","",0,"","",null,null,"",0,"","",0,"","",null,null,"",""]
[null,"",null,null,"","","",null,0,"","","","","",null,null,null,null,null,null,null,null,null,null,null,null,null,null,null,null,null,null,"",0,"","",0,"","",null,null,"",0,"","",0,"","",null,null,"",0,"","",0,"","",null,null,"",""]
[null,"",null,null,"","","",null,0,"","","","","",null,null,null,null,null,null,null,null,null,null,null,null,null,null,null,null,null,null,"",0,"","",0,"","",null,null,"",0,"","",0,"","",null,null,"",0,"","",0,"","",null,null,"",""]
[null,"",null,null,"","","",null,0,"","","","","",null,null,null,null,null,null,null,null,null,null,null,null,null,null,null,null,null,null,"",0,"","",0,"","",null,null,"",0,"","",0,"","",null,null,"",0,"","",0,"","",null,null,"",""]
[null,"",null,null,"",{"$f":"IF(D398=\"\",\"\",$F$8+(3*(SQRT($F$8/D398))))","v":""},{"$f":"IF(D398=\"\",\"\",IF($F$8-(3*(SQRT($F$8/D398)))<0,0,$F$8-(3*(SQRT($F$8/D398)))))","v":""},null,0,{"$f":"IF(G398=\"\",\"\",$F$8)","v":""},{"$f":"IF(D398=\"\",\"\",IF($F$8-(1*(SQRT($F$8/D398)))<0,0,$F$8-(1*(SQRT($F$8/D398)))))","v":""},{"$f":"IF(D398=\"\",\"\",IF($F$8-(2*(SQRT($F$8/D398)))<0,0,$F$8-(2*(SQRT($F$8/D398)))))","v":""},{"$f":"IF(D398=\"\",\"\",$F$8+(1*(SQRT($F$8/D398))))","v":""},{"$f":"IF(D398=\"\",\"\",$F$8+(2*(SQRT($F$8/D398))))","v":""},null,null,null,null,null,null,null,null,null,null,null,null,null,null,null,null,null,null,"",0,"","",0,"","",null,null,"",0,"","",0,"",{"$f":"IF(AND(AR398<>\"\",AU398=\"\"),AR398,IF(AND(AR398=\"\",AU398<>\"\"),AU398,IF(AND(AR398<>\"\",AU398<>\"\"),AR398,\"\")))","v":""},null,null,"",0,"","",0,"","",null,null,"",{"$f":"IF(BH398=1,CONCATENATE(\"Data Point \",B398),\"\")","v":""}]
[null,"",null,null,"","","",null,{"$f":"IF(B399>$F$9,0,1)","v":0},"","","","","",null,null,null,null,null,null,null,null,null,null,null,null,null,null,null,null,null,null,{"$f":"IF(E399=\"\",\"\",IF(AND(E399>=N399,E399<F399),1,0))","v":""},{"$f":"SUM(AG399:AG401)","v":0},{"$f":"IF(AH400=2,\"\",IF(AH399>=2,CONCATENATE(\"Data Point \",B399,\" to \",\"Data Point \",(B399+2)),\"\"))","v":""},{"$f":"IF(E399=\"\",\"\",IF(AND(E399<=L399,E399>G399),1,0))","v":""},{"$f":"SUM(AJ399:AJ401)","v":0},{"$f":"IF(AK400=2,\"\",IF(AK399>=2,CONCATENATE(\"Data Point \",B399,\" to \",\"Data Point \",(B399+2)),\"\"))","v":""},{"$f":"IF(AND(AI399<>\"\",AL399=\"\"),AI399,IF(AND(AI399=\"\",AL399<>\"\"),AL399,IF(AND(AI399<>\"\",AL399<>\"\"),AI399,\"\")))","v":""},null,null,{"$f":"IF(E399=\"\",\"\",IF(AND(E399>=M399,E399<F399),1,0))","v":""},{"$f":"SUM(AP399:AP403)","v":0},{"$f":"IF(AQ400=4,\"\",IF(AQ399>=4,CONCATENATE(\"Data Point \",B399,\" to \",\"Data Point \",(B399+4)),\"\"))","v":""},{"$f":"IF(E399=\"\",\"\",IF(AND(E399<=K399,E399>G399),1,0))","v":""},{"$f":"SUM(AS399:AS403)","v":0},{"$f":"IF(AT400=4,\"\",IF(AT399>=4,CONCATENATE(\"Data Point \",B399,\" to \",\"Data Point \",(B399+4)),\"\"))","v":""},"",null,null,{"$f":"IF(E399=\"\",\"\",IF(AND(E399>=J399,E399<F399),1,0))","v":""},{"$f":"SUM(AY399:AY406)","v":0},{"$f":"IF(AZ400=8, \"\", IF(AZ399=8,CONCATENATE(\"Data Point \",B399,\" to \",\"Data Point \",(B399+8)),\"\"))","v":""},{"$f":"IF(E399=\"\",\"\",IF(AND(E399<=J399,E399>G399),1,0))","v":""},{"$f":"SUM(BB399:BB406)","v":0},{"$f":"IF(BC400=8, \"\", IF(BC399=8,CONCATENATE(\"Data Point \",B399,\" to \",\"Data Point \",(B399+8)),\"\"))","v":""},{"$f":"IF(AND(BA399<>\"\",BD399=\"\"),BA399,IF(AND(BA399=\"\",BD399<>\"\"),BD399,IF(AND(BA399<>\"\",BD399<>\"\"),BA399,\"\")))","v":""},null,null,{"$f":"IF(E399=\"\",\"\",IF(OR(E399>F399,E399<G399),1,0))","v":""},""]
[null,{"$f":"IF(C400=\"\",\"\",B399+1)","v":""},null,null,"","","",null,0,"","","","","",null,null,null,null,null,null,null,null,null,null,null,null,null,null,null,null,null,null,"",0,"","",0,"","",null,null,"",0,"","",0,"","",null,null,"",0,"","",0,"","",null,null,"",""]
[null,"",null,null,"","","",null,0,"","","","","",null,null,null,null,null,null,null,null,null,null,null,null,null,null,null,null,null,null,"",0,"","",0,"","",null,null,"",0,"","",0,"","",null,null,"",0,"","",0,"","",null,null,"",""]
[null,"",null,null,"","","",null,0,"","","","","",null,null,null,null,null,null,null,null,null,null,null,null,null,null,null,null,null,null,"",0,"","",0,"","",null,null,"",0,"","",0,"","",null,null,"",0,"","",0,"","",null,null,"",""]
[null,"",null,null,"","","",null,0,"","","","","",null,null,null,null,null,null,null,null,null,null,null,null,null,null,null,null,null,null,"",0,"","",0,"","",null,null,"",0,"","",0,"","",null,null,"",0,"","",0,"","",null,null,"",""]
[null,"",null,null,"","","",null,0,"","","","","",null,null,null,null,null,null,null,null,null,null,null,null,null,null,null,null,null,null,"",0,"","",0,"","",null,null,"",0,"","",0,"","",null,null,"",0,"","",0,"","",null,null,"",""]
[null,"",null,null,"","","",null,0,"","","","","",null,null,null,null,null,null,null,null,null,null,null,null,null,null,null,null,null,null,"",0,"","",0,"","",null,null,"",0,"","",0,"","",null,null,"",0,"","",0,"","",null,null,"",""]
[null,"",null,null,"","","",null,0,"","","","","",null,null,null,null,null,null,null,null,null,null,null,null,null,null,null,null,null,null,"",0,"","",0,"","",null,null,"",0,"","",0,"","",null,null,"",0,"","",0,"","",null,null,"",""]
[null,"",null,null,"","","",null,0,"","","","","",null,null,null,null,null,null,null,null,null,null,null,null,null,null,null,null,null,null,"",0,"","",0,"","",null,null,"",0,"","",0,"","",null,null,"",0,"","",0,"","",null,null,"",""]
[null,"",null,null,"","","",null,0,"","","","","",null,null,null,null,null,null,null,null,null,null,null,null,null,null,null,null,null,null,"",0,"","",0,"","",null,null,"",0,"","",0,"","",null,null,"",0,"","",0,"","",null,null,"",""]
[null,"",null,null,"","","",null,0,"","","","","",null,null,null,null,null,null,null,null,null,null,null,null,null,null,null,null,null,null,"",0,"","",0,"","",null,null,"",0,"","",0,"","",null,null,"",0,"","",0,"","",null,null,"",""]
[null,"",null,null,"","","",null,0,"","","","","",null,null,null,null,null,null,null,null,null,null,null,null,null,null,null,null,null,null,"",0,"","",0,"","",null,null,"",0,"","",0,"","",null,null,"",0,"","",0,"","",null,null,"",""]
[null,"",null,null,"","","",null,0,"","","","","",null,null,null,null,null,null,null,null,null,null,null,null,null,null,null,null,null,null,"",0,"","",0,"","",null,null,"",0,"","",0,"","",null,null,"",0,"","",0,"","",null,null,"",""]
[null,"",null,null,"","","",null,0,"","","","","",null,null,null,null,null,null,null,null,null,null,null,null,null,null,null,null,null,null,"",0,"","",0,"","",null,null,"",0,"","",0,"","",null,null,"",0,"","",0,"","",null,null,"",""]
[null,"",null,null,"","","",null,0,"","","","","",null,null,null,null,null,null,null,null,null,null,null,null,null,null,null,null,null,null,"",0,"","",0,"","",null,null,"",0,"","",0,"","",null,null,"",0,"","",0,"","",null,null,"",""]
[null,"",null,null,"","","",null,0,"","","","","",null,null,null,null,null,null,null,null,null,null,null,null,null,null,null,null,null,null,"",0,"","",0,"","",null,null,"",0,"","",0,"","",null,null,"",0,"","",0,"","",null,null,"",""]
[null,"",null,null,"","","",null,0,"","","","","",null,null,null,null,null,null,null,null,null,null,null,null,null,null,null,null,null,null,"",0,"","",0,"","",null,null,"",0,"","",0,"","",null,null,"",0,"","",0,"","",null,null,"",""]
[null,"",null,null,"","","",null,0,"","","","","",null,null,null,null,null,null,null,null,null,null,null,null,null,null,null,null,null,null,"",0,"","",0,"","",null,null,"",0,"","",0,"","",null,null,"",0,"","",0,"","",null,null,"",""]
[null,"",null,null,"","","",null,0,"","","","","",null,null,null,null,null,null,null,null,null,null,null,null,null,null,null,null,null,null,"",0,"","",0,"","",null,null,"",0,"","",0,"","",null,null,"",0,"","",0,"","",null,null,"",""]
[null,"",null,null,"","","",null,0,"","","","","",null,null,null,null,null,null,null,null,null,null,null,null,null,null,null,null,null,null,"",0,"","",0,"","",null,null,"",0,"","",0,"","",null,null,"",0,"","",0,"","",null,null,"",""]
[null,"",null,null,"","","",null,0,"","","","","",null,null,null,null,null,null,null,null,null,null,null,null,null,null,null,null,null,null,"",0,"","",0,"","",null,null,"",0,"","",0,"","",null,null,"",0,"","",0,"","",null,null,"",""]
[null,"",null,null,"","","",null,0,"","","","","",null,null,null,null,null,null,null,null,null,null,null,null,null,null,null,null,null,null,"",0,"","",0,"","",null,null,"",0,"","",0,"","",null,null,"",0,"","",0,"","",null,null,"",""]
[null,"",null,null,"","","",null,0,"","","","","",null,null,null,null,null,null,null,null,null,null,null,null,null,null,null,null,null,null,"",0,"","",0,"","",null,null,"",0,"","",0,"","",null,null,"",0,"","",0,"","",null,null,"",""]
[null,"",null,null,"","","",null,0,"","","","","",null,null,null,null,null,null,null,null,null,null,null,null,null,null,null,null,null,null,"",0,"","",0,"","",null,null,"",0,"","",0,"","",null,null,"",0,"","",0,"","",null,null,"",""]
[null,"",null,null,"","","",null,0,"","","","","",null,null,null,null,null,null,null,null,null,null,null,null,null,null,null,null,null,null,"",0,"","",0,"","",null,null,"",0,"","",0,"","",null,null,"",0,"","",0,"","",null,null,"",""]
[null,"",null,null,"","","",null,0,"","","","","",null,null,null,null,null,null,null,null,null,null,null,null,null,null,null,null,null,null,"",0,"","",0,"","",null,null,"",0,"","",0,"","",null,null,"",0,"","",0,"","",null,null,"",""]
[null,"",null,null,"","","",null,0,"","","","","",null,null,null,null,null,null,null,null,null,null,null,null,null,null,null,null,null,null,"",0,"","",0,"","",null,null,"",0,"","",0,"","",null,null,"",0,"","",0,"","",null,null,"",""]
[null,"",null,null,"","","",null,0,"","","","","",null,null,null,null,null,null,null,null,null,null,null,null,null,null,null,null,null,null,"",0,"","",0,"","",null,null,"",0,"","",0,"","",null,null,"",0,"","",0,"","",null,null,"",""]
[null,"",null,null,"","","",null,0,"","","","","",null,null,null,null,null,null,null,null,null,null,null,null,null,null,null,null,null,null,"",0,"","",0,"","",null,null,"",0,"","",0,"","",null,null,"",0,"","",0,"","",null,null,"",""]
[null,"",null,null,"","","",null,0,"","","","","",null,null,null,null,null,null,null,null,null,null,null,null,null,null,null,null,null,null,"",0,"","",0,"","",null,null,"",0,"","",0,"","",null,null,"",0,"","",0,"","",null,null,"",""]
[null,"",null,null,"","","",null,0,"","","","","",null,null,null,null,null,null,null,null,null,null,null,null,null,null,null,null,null,null,"",0,"","",0,"","",null,null,"",0,"","",0,"","",null,null,"",0,"","",0,"","",null,null,"",""]
[null,"",null,null,"","","",null,0,"","","","","",null,null,null,null,null,null,null,null,null,null,null,null,null,null,null,null,null,null,"",0,"","",0,"","",null,null,"",0,"","",0,"","",null,null,"",0,"","",0,"","",null,null,"",""]
[null,"",null,null,"","","",null,0,"","","","","",null,null,null,null,null,null,null,null,null,null,null,null,null,null,null,null,null,null,"",0,"","",0,"","",null,null,"",0,"","",0,"","",null,null,"",0,"","",0,"","",null,null,"",""]
[null,"",null,null,"","","",null,0,"","","","","",null,null,null,null,null,null,null,null,null,null,null,null,null,null,null,null,null,null,"",0,"","",0,"","",null,null,"",0,"","",0,"","",null,null,"",0,"","",0,"","",null,null,"",""]
[null,"",null,null,"","","",null,0,"","","","","",null,null,null,null,null,null,null,null,null,null,null,null,null,null,null,null,null,null,"",0,"","",0,"","",null,null,"",0,"","",0,"","",null,null,"",0,"","",0,"","",null,null,"",""]
[null,"",null,null,"","","",null,0,"","","","","",null,null,null,null,null,null,null,null,null,null,null,null,null,null,null,null,null,null,"",0,"","",0,"","",null,null,"",0,"","",0,"","",null,null,"",0,"","",0,"","",null,null,"",""]
[null,"",null,null,"","","",null,0,"","","","","",null,null,null,null,null,null,null,null,null,null,null,null,null,null,null,null,null,null,"",0,"","",0,"","",null,null,"",0,"","",0,"","",null,null,"",0,"","",0,"","",null,null,"",""]
[null,"",null,null,"","","",null,0,"","","","","",null,null,null,null,null,null,null,null,null,null,null,null,null,null,null,null,null,null,"",0,"","",0,"","",null,null,"",0,"","",0,"","",null,null,"",0,"","",0,"","",null,null,"",""]
[null,"",null,null,"","","",null,0,"","","","","",null,null,null,null,null,null,null,null,null,null,null,null,null,null,null,null,null,null,"",0,"","",0,"","",null,null,"",0,"","",0,"","",null,null,"",0,"","",0,"","",null,null,"",""]
[null,"",null,null,"","","",null,0,"","","","","",null,null,null,null,null,null,null,null,null,null,null,null,null,null,null,null,null,null,"",0,"","",0,"","",null,null,"",0,"","",0,"","",null,null,"",0,"","",0,"","",null,null,"",""]
[null,"",null,null,"","","",null,0,"","","","","",null,null,null,null,null,null,null,null,null,null,null,null,null,null,null,null,null,null,"",0,"","",0,"","",null,null,"",0,"","",0,"","",null,null,"",0,"","",0,"","",null,null,"",""]
[null,"",null,null,"","","",null,0,"","","","","",null,null,null,null,null,null,null,null,null,null,null,null,null,null,null,null,null,null,"",0,"","",0,"","",null,null,"",0,"","",0,"","",null,null,"",0,"","",0,"","",null,null,"",""]
[null,"",null,null,"","","",null,0,"","","","","",null,null,null,null,null,null,null,null,null,null,null,null,null,null,null,null,null,null,"",0,"","",0,"","",null,null,"",0,"","",0,"","",null,null,"",0,"","",0,"","",null,null,"",""]
[null,"",null,null,"","","",null,0,"","","","","",null,null,null,null,null,null,null,null,null,null,null,null,null,null,null,null,null,null,"",0,"","",0,"","",null,null,"",0,"","",0,"","",null,null,"",0,"","",0,"","",null,null,"",""]
[null,"",null,null,"","","",null,0,"","","","","",null,null,null,null,null,null,null,null,null,null,null,null,null,null,null,null,null,null,"",0,"","",0,"","",null,null,"",0,"","",0,"","",null,null,"",0,"","",0,"","",null,null,"",""]
[null,"",null,null,"","","",null,0,"","","","","",null,null,null,null,null,null,null,null,null,null,null,null,null,null,null,null,null,null,"",0,"","",0,"","",null,null,"",0,"","",0,"","",null,null,"",0,"","",0,"","",null,null,"",""]
[null,"",null,null,"","","",null,0,"","","","","",null,null,null,null,null,null,null,null,null,null,null,null,null,null,null,null,null,null,"",0,"","",0,"","",null,null,"",0,"","",0,"","",null,null,"",0,"","",0,"","",null,null,"",""]
[null,"",null,null,"","","",null,0,"","","","","",null,null,null,null,null,null,null,null,null,null,null,null,null,null,null,null,null,null,"",0,"","",0,"","",null,null,"",0,"","",0,"","",null,null,"",0,"","",0,"","",null,null,"",""]
[null,"",null,null,"","","",null,0,"","","","","",null,null,null,null,null,null,null,null,null,null,null,null,null,null,null,null,null,null,"",0,"","",0,"","",null,null,"",0,"","",0,"","",null,null,"",0,"","",0,"","",null,null,"",""]
[null,"",null,null,"","","",null,0,"","","","","",null,null,null,null,null,null,null,null,null,null,null,null,null,null,null,null,null,null,"",0,"","",0,"","",null,null,"",0,"","",0,"","",null,null,"",0,"","",0,"","",null,null,"",""]
[null,"",null,null,"","","",null,0,"","","","","",null,null,null,null,null,null,null,null,null,null,null,null,null,null,null,null,null,null,"",0,"","",0,"","",null,null,"",0,"","",0,"","",null,null,"",0,"","",0,"","",null,null,"",""]
[null,"",null,null,"","","",null,0,"","","","","",null,null,null,null,null,null,null,null,null,null,null,null,null,null,null,null,null,null,"",0,"","",0,"","",null,null,"",0,"","",0,"","",null,null,"",0,"","",0,"","",null,null,"",""]
[null,"",null,null,"","","",null,0,"","","","","",null,null,null,null,null,null,null,null,null,null,null,null,null,null,null,null,null,null,"",0,"","",0,"","",null,null,"",0,"","",0,"","",null,null,"",0,"","",0,"","",null,null,"",""]
[null,"",null,null,{"$f":"IF(D452=\"\",\"\",C452/D452)","v":""},"","",null,0,"","","","","",null,null,null,null,null,null,null,null,null,null,null,null,null,null,null,null,null,null,"",0,"","",0,"","",null,null,"",0,"","",0,"","",null,null,"",0,"","",0,"","",null,null,"",""]
[null,"",null,null,"","","",null,0,"","","","","",null,null,null,null,null,null,null,null,null,null,null,null,null,null,null,null,null,null,"",0,"","",0,"","",null,null,"",0,"","",0,"","",null,null,"",0,"","",0,"","",null,null,"",""]
[null,"",null,null,"","","",null,0,"","","","","",null,null,null,null,null,null,null,null,null,null,null,null,null,null,null,null,null,null,"",0,"","",0,"","",null,null,"",0,"","",0,"","",null,null,"",0,"","",0,"","",null,null,"",""]
[null,"",null,null,"","","",null,0,"","","","","",null,null,null,null,null,null,null,null,null,null,null,null,null,null,null,null,null,null,"",0,"","",0,"","",null,null,"",0,"","",0,"","",null,null,"",0,"","",0,"","",null,null,"",""]
[null,"",null,null,"","","",null,0,"","","","","",null,null,null,null,null,null,null,null,null,null,null,null,null,null,null,null,null,null,"",0,"","",0,"","",null,null,"",0,"","",0,"","",null,null,"",0,"","",0,"","",null,null,"",""]
[null,"",null,null,"","","",null,0,"","","","","",null,null,null,null,null,null,null,null,null,null,null,null,null,null,null,null,null,null,"",0,"","",0,"","",null,null,"",0,"","",0,"","",null,null,"",0,"","",0,"","",null,null,"",""]
[null,"",null,null,"","","",null,0,"","","","","",null,null,null,null,null,null,null,null,null,null,null,null,null,null,null,null,null,null,"",0,"","",0,"","",null,null,"",0,"","",0,"","",null,null,"",0,"","",0,"","",null,null,"",""]
[null,"",null,null,"","","",null,0,"","","","","",null,null,null,null,null,null,null,null,null,null,null,null,null,null,null,null,null,null,"",0,"","",0,"","",null,null,"",0,"","",0,"","",null,null,"",0,"","",0,"","",null,null,"",""]
[null,"",null,null,"","","",null,0,"","","","","",null,null,null,null,null,null,null,null,null,null,null,null,null,null,null,null,null,null,"",0,"","",0,"","",null,null,"",0,"","",0,"","",null,null,"",0,"","",0,"","",null,null,"",""]
[null,"",null,null,"","","",null,0,"","","","","",null,null,null,null,null,null,null,null,null,null,null,null,null,null,null,null,null,null,"",0,"","",0,"","",null,null,"",0,"","",0,"","",null,null,"",0,"","",0,"","",null,null,"",""]
[null,"",null,null,"",{"$f":"IF(D462=\"\",\"\",$F$8+(3*(SQRT($F$8/D462))))","v":""},{"$f":"IF(D462=\"\",\"\",IF($F$8-(3*(SQRT($F$8/D462)))<0,0,$F$8-(3*(SQRT($F$8/D462)))))","v":""},null,0,{"$f":"IF(G462=\"\",\"\",$F$8)","v":""},{"$f":"IF(D462=\"\",\"\",IF($F$8-(1*(SQRT($F$8/D462)))<0,0,$F$8-(1*(SQRT($F$8/D462)))))","v":""},{"$f":"IF(D462=\"\",\"\",IF($F$8-(2*(SQRT($F$8/D462)))<0,0,$F$8-(2*(SQRT($F$8/D462)))))","v":""},{"$f":"IF(D462=\"\",\"\",$F$8+(1*(SQRT($F$8/D462))))","v":""},{"$f":"IF(D462=\"\",\"\",$F$8+(2*(SQRT($F$8/D462))))","v":""},null,null,null,null,null,null,null,null,null,null,null,null,null,null,null,null,null,null,"",0,"","",0,"","",null,null,"",0,"","",0,"",{"$f":"IF(AND(AR462<>\"\",AU462=\"\"),AR462,IF(AND(AR462=\"\",AU462<>\"\"),AU462,IF(AND(AR462<>\"\",AU462<>\"\"),AR462,\"\")))","v":""},null,null,"",0,"","",0,"","",null,null,"",{"$f":"IF(BH462=1,CONCATENATE(\"Data Point \",B462),\"\")","v":""}]
[null,"",null,null,"","","",null,{"$f":"IF(B463>$F$9,0,1)","v":0},"","","","","",null,null,null,null,null,null,null,null,null,null,null,null,null,null,null,null,null,null,{"$f":"IF(E463=\"\",\"\",IF(AND(E463>=N463,E463<F463),1,0))","v":""},{"$f":"SUM(AG463:AG465)","v":0},{"$f":"IF(AH464=2,\"\",IF(AH463>=2,CONCATENATE(\"Data Point \",B463,\" to \",\"Data Point \",(B463+2)),\"\"))","v":""},{"$f":"IF(E463=\"\",\"\",IF(AND(E463<=L463,E463>G463),1,0))","v":""},{"$f":"SUM(AJ463:AJ465)","v":0},{"$f":"IF(AK464=2,\"\",IF(AK463>=2,CONCATENATE(\"Data Point \",B463,\" to \",\"Data Point \",(B463+2)),\"\"))","v":""},{"$f":"IF(AND(AI463<>\"\",AL463=\"\"),AI463,IF(AND(AI463=\"\",AL463<>\"\"),AL463,IF(AND(AI463<>\"\",AL463<>\"\"),AI463,\"\")))","v":""},null,null,{"$f":"IF(E463=\"\",\"\",IF(AND(E463>=M463,E463<F463),1,0))","v":""},{"$f":"SUM(AP463:AP467)","v":0},{"$f":"IF(AQ464=4,\"\",IF(AQ463>=4,CONCATENATE(\"Data Point \",B463,\" to \",\"Data Point \",(B463+4)),\"\"))","v":""},{"$f":"IF(E463=\"\",\"\",IF(AND(E463<=K463,E463>G463),1,0))","v":""},{"$f":"SUM(AS463:AS467)","v":0},{"$f":"IF(AT464=4,\"\",IF(AT463>=4,CONCATENATE(\"Data Point \",B463,\" to \",\"Data Point \",(B463+4)),\"\"))","v":""},"",null,null,{"$f":"IF(E463=\"\",\"\",IF(AND(E463>=J463,E463<F463),1,0))","v":""},{"$f":"SUM(AY463:AY470)","v":0},{"$f":"IF(AZ464=8, \"\", IF(AZ463=8,CONCATENATE(\"Data Point \",B463,\" to \",\"Data Point \",(B463+8)),\"\"))","v":""},{"$f":"IF(E463=\"\",\"\",IF(AND(E463<=J463,E463>G463),1,0))","v":""},{"$f":"SUM(BB463:BB470)","v":0},{"$f":"IF(BC464=8, \"\", IF(BC463=8,CONCATENATE(\"Data Point \",B463,\" to \",\"Data Point \",(B463+8)),\"\"))","v":""},{"$f":"IF(AND(BA463<>\"\",BD463=\"\"),BA463,IF(AND(BA463=\"\",BD463<>\"\"),BD463,IF(AND(BA463<>\"\",BD463<>\"\"),BA463,\"\")))","v":""},null,null,{"$f":"IF(E463=\"\",\"\",IF(OR(E463>F463,E463<G463),1,0))","v":""},""]
[null,{"$f":"IF(C464=\"\",\"\",B463+1)","v":""},null,null,"","","",null,0,"","","","","",null,null,null,null,null,null,null,null,null,null,null,null,null,null,null,null,null,null,"",0,"","",0,"","",null,null,"",0,"","",0,"","",null,null,"",0,"","",0,"","",null,null,"",""]
[null,"",null,null,"","","",null,0,"","","","","",null,null,null,null,null,null,null,null,null,null,null,null,null,null,null,null,null,null,"",0,"","",0,"","",null,null,"",0,"","",0,"","",null,null,"",0,"","",0,"","",null,null,"",""]
[null,"",null,null,"","","",null,0,"","","","","",null,null,null,null,null,null,null,null,null,null,null,null,null,null,null,null,null,null,"",0,"","",0,"","",null,null,"",0,"","",0,"","",null,null,"",0,"","",0,"","",null,null,"",""]
[null,"",null,null,"","","",null,0,"","","","","",null,null,null,null,null,null,null,null,null,null,null,null,null,null,null,null,null,null,"",0,"","",0,"","",null,null,"",0,"","",0,"","",null,null,"",0,"","",0,"","",null,null,"",""]
[null,"",null,null,"","","",null,0,"","","","","",null,null,null,null,null,null,null,null,null,null,null,null,null,null,null,null,null,null,"",0,"","",0,"","",null,null,"",0,"","",0,"","",null,null,"",0,"","",0,"","",null,null,"",""]
[null,"",null,null,"","","",null,0,"","","","","",null,null,null,null,null,null,null,null,null,null,null,null,null,null,null,null,null,null,"",0,"","",0,"","",null,null,"",0,"","",0,"","",null,null,"",0,"","",0,"","",null,null,"",""]
[null,"",null,null,"","","",null,0,"","","","","",null,null,null,null,null,null,null,null,null,null,null,null,null,null,null,null,null,null,"",0,"","",0,"","",null,null,"",0,"","",0,"","",null,null,"",0,"","",0,"","",null,null,"",""]
[null,"",null,null,"","","",null,0,"","","","","",null,null,null,null,null,null,null,null,null,null,null,null,null,null,null,null,null,null,"",0,"","",0,"","",null,null,"",0,"","",0,"","",null,null,"",0,"","",0,"","",null,null,"",""]
[null,"",null,null,"","","",null,0,"","","","","",null,null,null,null,null,null,null,null,null,null,null,null,null,null,null,null,null,null,"",0,"","",0,"","",null,null,"",0,"","",0,"","",null,null,"",0,"","",0,"","",null,null,"",""]
[null,"",null,null,"","","",null,0,"","","","","",null,null,null,null,null,null,null,null,null,null,null,null,null,null,null,null,null,null,"",0,"","",0,"","",null,null,"",0,"","",0,"","",null,null,"",0,"","",0,"","",null,null,"",""]
[null,"",null,null,"","","",null,0,"","","","","",null,null,null,null,null,null,null,null,null,null,null,null,null,null,null,null,null,null,"",0,"","",0,"","",null,null,"",0,"","",0,"","",null,null,"",0,"","",0,"","",null,null,"",""]
[null,"",null,null,"","","",null,0,"","","","","",null,null,null,null,null,null,null,null,null,null,null,null,null,null,null,null,null,null,"",0,"","",0,"","",null,null,"",0,"","",0,"","",null,null,"",0,"","",0,"","",null,null,"",""]
[null,"",null,null,"","","",null,0,"","","","","",null,null,null,null,null,null,null,null,null,null,null,null,null,null,null,null,null,null,"",0,"","",0,"","",null,null,"",0,"","",0,"","",null,null,"",0,"","",0,"","",null,null,"",""]
[null,"",null,null,"","","",null,0,"","","","","",null,null,null,null,null,null,null,null,null,null,null,null,null,null,null,null,null,null,"",0,"","",0,"","",null,null,"",0,"","",0,"","",null,null,"",0,"","",0,"","",null,null,"",""]
[null,"",null,null,"","","",null,0,"","","","","",null,null,null,null,null,null,null,null,null,null,null,null,null,null,null,null,null,null,"",0,"","",0,"","",null,null,"",0,"","",0,"","",null,null,"",0,"","",0,"","",null,null,"",""]
[null,"",null,null,"","","",null,0,"","","","","",null,null,null,null,null,null,null,null,null,null,null,null,null,null,null,null,null,null,"",0,"","",0,"","",null,null,"",0,"","",0,"","",null,null,"",0,"","",0,"","",null,null,"",""]
[null,"",null,null,"","","",null,0,"","","","","",null,null,null,null,null,null,null,null,null,null,null,null,null,null,null,null,null,null,"",0,"","",0,"","",null,null,"",0,"","",0,"","",null,null,"",0,"","",0,"","",null,null,"",""]
[null,"",null,null,"","","",null,0,"","","","","",null,null,null,null,null,null,null,null,null,null,null,null,null,null,null,null,null,null,"",0,"","",0,"","",null,null,"",0,"","",0,"","",null,null,"",0,"","",0,"","",null,null,"",""]
[null,"",null,null,"","","",null,0,"","","","","",null,null,null,null,null,null,null,null,null,null,null,null,null,null,null,null,null,null,"",0,"","",0,"","",null,null,"",0,"","",0,"","",null,null,"",0,"","",0,"","",null,null,"",""]
[null,"",null,null,"","","",null,0,"","","","","",null,null,null,null,null,null,null,null,null,null,null,null,null,null,null,null,null,null,"",0,"","",0,"","",null,null,"",0,"","",0,"","",null,null,"",0,"","",0,"","",null,null,"",""]
[null,"",null,null,"","","",null,0,"","","","","",null,null,null,null,null,null,null,null,null,null,null,null,null,null,null,null,null,null,"",0,"","",0,"","",null,null,"",0,"","",0,"","",null,null,"",0,"","",0,"","",null,null,"",""]
[null,"",null,null,"","","",null,0,"","","","","",null,null,null,null,null,null,null,null,null,null,null,null,null,null,null,null,null,null,"",0,"","",0,"","",null,null,"",0,"","",0,"","",null,null,"",0,"","",0,"","",null,null,"",""]
[null,"",null,null,"","","",null,0,"","","","","",null,null,null,null,null,null,null,null,null,null,null,null,null,null,null,null,null,null,"",0,"","",0,"","",null,null,"",0,"","",0,"","",null,null,"",0,"","",0,"","",null,null,"",""]
[null,"",null,null,"","","",null,0,"","","","","",null,null,null,null,null,null,null,null,null,null,null,null,null,null,null,null,null,null,"",0,"","",0,"","",null,null,"",0,"","",0,"","",null,null,"",0,"","",0,"","",null,null,"",""]
[null,"",null,null,"","","",null,0,"","","","","",null,null,null,null,null,null,null,null,null,null,null,null,null,null,null,null,null,null,"",0,"","",0,"","",null,null,"",0,"","",0,"","",null,null,"",0,"","",0,"","",null,null,"",""]
[null,"",null,null,"","","",null,0,"","","","","",null,null,null,null,null,null,null,null,null,null,null,null,null,null,null,null,null,null,"",0,"","",0,"","",null,null,"",0,"","",0,"","",null,null,"",0,"","",0,"","",null,null,"",""]
[null,"",null,null,"","","",null,0,"","","","","",null,null,null,null,null,null,null,null,null,null,null,null,null,null,null,null,null,null,"",0,"","",0,"","",null,null,"",0,"","",0,"","",null,null,"",0,"","",0,"","",null,null,"",""]
[null,"",null,null,"","","",null,0,"","","","","",null,null,null,null,null,null,null,null,null,null,null,null,null,null,null,null,null,null,"",0,"","",0,"","",null,null,"",0,"","",0,"","",null,null,"",0,"","",0,"","",null,null,"",""]
[null,"",null,null,"","","",null,0,"","","","","",null,null,null,null,null,null,null,null,null,null,null,null,null,null,null,null,null,null,"",0,"","",0,"","",null,null,"",0,"","",0,"","",null,null,"",0,"","",0,"","",null,null,"",""]
[null,"",null,null,"","","",null,0,"","","","","",null,null,null,null,null,null,null,null,null,null,null,null,null,null,null,null,null,null,"",0,"","",0,"","",null,null,"",0,"","",0,"","",null,null,"",0,"","",0,"","",null,null,"",""]
[null,"",null,null,"","","",null,0,"","","","","",null,null,null,null,null,null,null,null,null,null,null,null,null,null,null,null,null,null,"",0,"","",0,"","",null,null,"",0,"","",0,"","",null,null,"",0,"","",0,"","",null,null,"",""]
[null,"",null,null,"","","",null,0,"","","","","",null,null,null,null,null,null,null,null,null,null,null,null,null,null,null,null,null,null,"",0,"","",0,"","",null,null,"",0,"","",0,"","",null,null,"",0,"","",0,"","",null,null,"",""]
[null,"",null,null,"","","",null,0,"","","","","",null,null,null,null,null,null,null,null,null,null,null,null,null,null,null,null,null,null,"",0,"","",0,"","",null,null,"",0,"","",0,"","",null,null,"",0,"","",0,"","",null,null,"",""]
[null,"",null,null,"","","",null,0,"","","","","",null,null,null,null,null,null,null,null,null,null,null,null,null,null,null,null,null,null,"",0,"","",0,"","",null,null,"",0,"","",0,"","",null,null,"",0,"","",0,"","",null,null,"",""]
[null,"",null,null,"","","",null,0,"","","","","",null,null,null,null,null,null,null,null,null,null,null,null,null,null,null,null,null,null,"",0,"","",0,"","",null,null,"",0,"","",0,"","",null,null,"",0,"","",0,"","",null,null,"",""]
[null,"",null,null,"","","",null,0,"","","","","",null,null,null,null,null,null,null,null,null,null,null,null,null,null,null,null,null,null,"",0,"","",0,"","",null,null,"",0,"","",0,"","",null,null,"",0,"","",0,"","",null,null,"",""]
[null,"",null,null,"","","",null,0,"","","","","",null,null,null,null,null,null,null,null,null,null,null,null,null,null,null,null,null,null,"",0,"","",0,"","",null,null,"",0,"","",0,"","",null,null,"",0,"","",0,"","",null,null,"",""]
[null,"",null,null,"","","",null,0,"","","","","",null,null,null,null,null,null,null,null,null,null,null,null,null,null,null,null,null,null,"",0,"","",0,"","",null,null,"",0,"","",0,"","",null,null,"",0,"","",0,"","",null,null,"",""]
[null,"",null,null,"","","",null,0,"","","","","",null,null,null,null,null,null,null,null,null,null,null,null,null,null,null,null,null,null,"",0,"","",0,"","",null,null,"",0,"","",0,"","",null,null,"",0,"","",0,"","",null,null,"",""]
[null,"",null,null,"","","",null,0,"","","","","",null,null,null,null,null,null,null,null,null,null,null,null,null,null,null,null,null,null,"",0,"","",0,"","",null,null,"",0,"","",0,"","",null,null,"",0,"","",0,"","",null,null,"",""]
[null,"",null,null,"","","",null,0,"","","","","",null,null,null,null,null,null,null,null,null,null,null,null,null,null,null,null,null,null,"",0,"","",0,"","",null,null,"",0,"","",0,"","",null,null,"",0,"","",0,"","",null,null,"",""]
[null,"",null,null,"","","",null,0,"","","","","",null,null,null,null,null,null,null,null,null,null,null,null,null,null,null,null,null,null,"",0,"","",0,"","",null,null,"",0,"","",0,"","",null,null,"",0,"","",0,"","",null,null,"",""]
[null,"",null,null,"","","",null,0,"","","","","",null,null,null,null,null,null,null,null,null,null,null,null,null,null,null,null,null,null,"",0,"","",0,"","",null,null,"",0,"","",0,"","",null,null,"",0,"","",0,"","",null,null,"",""]
[null,"",null,null,"","","",null,0,"","","","","",null,null,null,null,null,null,null,null,null,null,null,null,null,null,null,null,null,null,"",0,"","",0,"","",null,null,"",0,"","",0,"","",null,null,"",0,"","",0,"","",null,null,"",""]
[null,"",null,null,"","","",null,0,"","","","","",null,null,null,null,null,null,null,null,null,null,null,null,null,null,null,null,null,null,"",0,"","",0,"","",null,null,"",0,"","",0,"","",null,null,"",0,"","",0,"","",null,null,"",""]
[null,"",null,null,"","","",null,0,"","","","","",null,null,null,null,null,null,null,null,null,null,null,null,null,null,null,null,null,null,"",0,"","",0,"","",null,null,"",0,"","",0,"","",null,null,"",0,"","",0,"","",null,null,"",""]
[null,"",null,null,"","","",null,0,"","","","","",null,null,null,null,null,null,null,null,null,null,null,null,null,null,null,null,null,null,"",0,"","",0,"","",null,null,"",0,"","",0,"","",null,null,"",0,"","",0,"","",null,null,"",""]
[null,"",null,null,"","","",null,0,"","","","","",null,null,null,null,null,null,null,null,null,null,null,null,null,null,null,null,null,null,"",0,"","",0,"","",null,null,"",0,"","",0,"","",null,null,"",0,"","",0,"","",null,null,"",""]
[null,"",null,null,"","","",null,0,"","","","","",null,null,null,null,null,null,null,null,null,null,null,null,null,null,null,null,null,null,"",0,"","",0,"","",null,null,"",0,"","",0,"","",null,null,"",0,"","",0,"","",null,null,"",""]
[null,"",null,null,"","","",null,0,"","","","","",null,null,null,null,null,null,null,null,null,null,null,null,null,null,null,null,null,null,"",0,"","",0,"","",null,null,"",0,"","",0,"","",null,null,"",0,"","",0,"","",null,null,"",""]
[null,"",null,null,"","","",null,0,"","","","","",null,null,null,null,null,null,null,null,null,null,null,null,null,null,null,null,null,null,"",0,"","",0,"","",null,null,"",0,"","",0,"","",null,null,"",0,"","",0,"","",null,null,"",""]
[null,"",null,null,"","","",null,0,"","","","","",null,null,null,null,null,null,null,null,null,null,null,null,null,null,null,null,null,null,"",0,"","",0,"","",null,null,"",0,"","",0,"","",null,null,"",0,"","",0,"","",null,null,"",""]
[null,"",null,null,{"$f":"IF(D516=\"\",\"\",C516/D516)","v":""},"","",null,0,"","","","","",null,null,null,null,null,null,null,null,null,null,null,null,null,null,null,null,null,null,"",0,"","",0,"","",null,null,"",0,"","",0,"","",null,null,"",0,"","",0,"","",null,null,"",""]
[null,"",null,null,"","","",null,0,"","","","","",null,null,null,null,null,null,null,null,null,null,null,null,null,null,null,null,null,null,"",0,"","",0,"","",null,null,"",0,"","",0,"","",null,null,"",0,"","",0,"","",null,null,"",""]
[null,"",null,null,"","","",null,0,"","","","","",null,null,null,null,null,null,null,null,null,null,null,null,null,null,null,null,null,null,"",0,"","",0,"","",null,null,"",0,"","",0,"","",null,null,"",0,"","",0,"","",null,null,"",""]
[null,"",null,null,"","","",null,0,"","","","","",null,null,null,null,null,null,null,null,null,null,null,null,null,null,null,null,null,null,"",0,"","",0,"","",null,null,"",0,"","",0,"","",null,null,"",0,"","",0,"","",null,null,"",""]
[null,"",null,null,"","","",null,0,"","","","","",null,null,null,null,null,null,null,null,null,null,null,null,null,null,null,null,null,null,"",0,"","",0,"","",null,null,"",0,"","",0,"","",null,null,"",0,"","",0,"","",null,null,"",""]
[null,"",null,null,"","","",null,0,"","","","","",null,null,null,null,null,null,null,null,null,null,null,null,null,null,null,null,null,null,"",0,"","",0,"","",null,null,"",0,"","",0,"","",null,null,"",0,"","",0,"","",null,null,"",""]
[null,"",null,null,"","","",null,0,"","","","","",null,null,null,null,null,null,null,null,null,null,null,null,null,null,null,null,null,null,"",0,"","",0,"","",null,null,"",0,"","",0,"","",null,null,"",0,"","",0,"","",null,null,"",""]
[null,"",null,null,"","","",null,0,"","","","","",null,null,null,null,null,null,null,null,null,null,null,null,null,null,null,null,null,null,"",0,"","",0,"","",null,null,"",0,"","",0,"","",null,null,"",0,"","",0,"","",null,null,"",""]
[null,"",null,null,"","","",null,0,"","","","","",null,null,null,null,null,null,null,null,null,null,null,null,null,null,null,null,null,null,"",0,"","",0,"","",null,null,"",0,"","",0,"","",null,null,"",0,"","",0,"","",null,null,"",""]
[null,"",null,null,"","","",null,0,"","","","","",null,null,null,null,null,null,null,null,null,null,null,null,null,null,null,null,null,null,"",0,"","",0,"","",null,null,"",0,"","",0,"","",null,null,"",0,"","",0,"","",null,null,"",""]
[null,"",null,null,"",{"$f":"IF(D526=\"\",\"\",$F$8+(3*(SQRT($F$8/D526))))","v":""},{"$f":"IF(D526=\"\",\"\",IF($F$8-(3*(SQRT($F$8/D526)))<0,0,$F$8-(3*(SQRT($F$8/D526)))))","v":""},null,0,{"$f":"IF(G526=\"\",\"\",$F$8)","v":""},{"$f":"IF(D526=\"\",\"\",IF($F$8-(1*(SQRT($F$8/D526)))<0,0,$F$8-(1*(SQRT($F$8/D526)))))","v":""},{"$f":"IF(D526=\"\",\"\",IF($F$8-(2*(SQRT($F$8/D526)))<0,0,$F$8-(2*(SQRT($F$8/D526)))))","v":""},{"$f":"IF(D526=\"\",\"\",$F$8+(1*(SQRT($F$8/D526))))","v":""},{"$f":"IF(D526=\"\",\"\",$F$8+(2*(SQRT($F$8/D526))))","v":""},null,null,null,null,null,null,null,null,null,null,null,null,null,null,null,null,null,null,"",0,"","",0,"","",null,null,"",0,"","",0,"",{"$f":"IF(AND(AR526<>\"\",AU526=\"\"),AR526,IF(AND(AR526=\"\",AU526<>\"\"),AU526,IF(AND(AR526<>\"\",AU526<>\"\"),AR526,\"\")))","v":""},null,null,"",0,"","",0,"","",null,null,"",{"$f":"IF(BH526=1,CONCATENATE(\"Data Point \",B526),\"\")","v":""}]
[null,"",null,null,"","","",null,{"$f":"IF(B527>$F$9,0,1)","v":0},"","","","","",null,null,null,null,null,null,null,null,null,null,null,null,null,null,null,null,null,null,{"$f":"IF(E527=\"\",\"\",IF(AND(E527>=N527,E527<F527),1,0))","v":""},{"$f":"SUM(AG527:AG529)","v":0},{"$f":"IF(AH528=2,\"\",IF(AH527>=2,CONCATENATE(\"Data Point \",B527,\" to \",\"Data Point \",(B527+2)),\"\"))","v":""},{"$f":"IF(E527=\"\",\"\",IF(AND(E527<=L527,E527>G527),1,0))","v":""},{"$f":"SUM(AJ527:AJ529)","v":0},{"$f":"IF(AK528=2,\"\",IF(AK527>=2,CONCATENATE(\"Data Point \",B527,\" to \",\"Data Point \",(B527+2)),\"\"))","v":""},{"$f":"IF(AND(AI527<>\"\",AL527=\"\"),AI527,IF(AND(AI527=\"\",AL527<>\"\"),AL527,IF(AND(AI527<>\"\",AL527<>\"\"),AI527,\"\")))","v":""},null,null,{"$f":"IF(E527=\"\",\"\",IF(AND(E527>=M527,E527<F527),1,0))","v":""},{"$f":"SUM(AP527:AP531)","v":0},{"$f":"IF(AQ528=4,\"\",IF(AQ527>=4,CONCATENATE(\"Data Point \",B527,\" to \",\"Data Point \",(B527+4)),\"\"))","v":""},{"$f":"IF(E527=\"\",\"\",IF(AND(E527<=K527,E527>G527),1,0))","v":""},{"$f":"SUM(AS527:AS531)","v":0},{"$f":"IF(AT528=4,\"\",IF(AT527>=4,CONCATENATE(\"Data Point \",B527,\" to \",\"Data Point \",(B527+4)),\"\"))","v":""},"",null,null,{"$f":"IF(E527=\"\",\"\",IF(AND(E527>=J527,E527<F527),1,0))","v":""},{"$f":"SUM(AY527:AY534)","v":0},{"$f":"IF(AZ528=8, \"\", IF(AZ527=8,CONCATENATE(\"Data Point \",B527,\" to \",\"Data Point \",(B527+8)),\"\"))","v":""},{"$f":"IF(E527=\"\",\"\",IF(AND(E527<=J527,E527>G527),1,0))","v":""},{"$f":"SUM(BB527:BB534)","v":0},{"$f":"IF(BC528=8, \"\", IF(BC527=8,CONCATENATE(\"Data Point \",B527,\" to \",\"Data Point \",(B527+8)),\"\"))","v":""},{"$f":"IF(AND(BA527<>\"\",BD527=\"\"),BA527,IF(AND(BA527=\"\",BD527<>\"\"),BD527,IF(AND(BA527<>\"\",BD527<>\"\"),BA527,\"\")))","v":""},null,null,{"$f":"IF(E527=\"\",\"\",IF(OR(E527>F527,E527<G527),1,0))","v":""},""]
[null,{"$f":"IF(C528=\"\",\"\",B527+1)","v":""},null,null,"","","",null,0,"","","","","",null,null,null,null,null,null,null,null,null,null,null,null,null,null,null,null,null,null,"",0,"","",0,"","",null,null,"",0,"","",0,"","",null,null,"",0,"","",0,"","",null,null,"",""]
[null,"",null,null,"","","",null,0,"","","","","",null,null,null,null,null,null,null,null,null,null,null,null,null,null,null,null,null,null,"",0,"","",0,"","",null,null,"",0,"","",0,"","",null,null,"",0,"","",0,"","",null,null,"",""]
[null,"",null,null,"","","",null,0,"","","","","",null,null,null,null,null,null,null,null,null,null,null,null,null,null,null,null,null,null,"",0,"","",0,"","",null,null,"",0,"","",0,"","",null,null,"",0,"","",0,"","",null,null,"",""]
[null,"",null,null,"","","",null,0,"","","","","",null,null,null,null,null,null,null,null,null,null,null,null,null,null,null,null,null,null,"",0,"","",0,"","",null,null,"",0,"","",0,"","",null,null,"",0,"","",0,"","",null,null,"",""]
[null,"",null,null,"","","",null,0,"","","","","",null,null,null,null,null,null,null,null,null,null,null,null,null,null,null,null,null,null,"",0,"","",0,"","",null,null,"",0,"","",0,"","",null,null,"",0,"","",0,"","",null,null,"",""]
[null,"",null,null,"","","",null,0,"","","","","",null,null,null,null,null,null,null,null,null,null,null,null,null,null,null,null,null,null,"",0,"","",0,"","",null,null,"",0,"","",0,"","",null,null,"",0,"","",0,"","",null,null,"",""]
[null,"",null,null,"","","",null,0,"","","","","",null,null,null,null,null,null,null,null,null,null,null,null,null,null,null,null,null,null,"",0,"","",0,"","",null,null,"",0,"","",0,"","",null,null,"",0,"","",0,"","",null,null,"",""]
[null,"",null,null,"","","",null,0,"","","","","",null,null,null,null,null,null,null,null,null,null,null,null,null,null,null,null,null,null,"",0,"","",0,"","",null,null,"",0,"","",0,"","",null,null,"",0,"","",0,"","",null,null,"",""]
[null,"",null,null,"","","",null,0,"","","","","",null,null,null,null,null,null,null,null,null,null,null,null,null,null,null,null,null,null,"",0,"","",0,"","",null,null,"",0,"","",0,"","",null,null,"",0,"","",0,"","",null,null,"",""]
[null,"",null,null,"","","",null,0,"","","","","",null,null,null,null,null,null,null,null,null,null,null,null,null,null,null,null,null,null,"",0,"","",0,"","",null,null,"",0,"","",0,"","",null,null,"",0,"","",0,"","",null,null,"",""]
[null,"",null,null,"","","",null,0,"","","","","",null,null,null,null,null,null,null,null,null,null,null,null,null,null,null,null,null,null,"",0,"","",0,"","",null,null,"",0,"","",0,"","",null,null,"",0,"","",0,"","",null,null,"",""]
[null,"",null,null,"","","",null,0,"","","","","",null,null,null,null,null,null,null,null,null,null,null,null,null,null,null,null,null,null,"",0,"","",0,"","",null,null,"",0,"","",0,"","",null,null,"",0,"","",0,"","",null,null,"",""]
[null,"",null,null,"","","",null,0,"","","","","",null,null,null,null,null,null,null,null,null,null,null,null,null,null,null,null,null,null,"",0,"","",0,"","",null,null,"",0,"","",0,"","",null,null,"",0,"","",0,"","",null,null,"",""]
[null,"",null,null,"","","",null,0,"","","","","",null,null,null,null,null,null,null,null,null,null,null,null,null,null,null,null,null,null,"",0,"","",0,"","",null,null,"",0,"","",0,"","",null,null,"",0,"","",0,"","",null,null,"",""]
[null,"",null,null,"","","",null,0,"","","","","",null,null,null,null,null,null,null,null,null,null,null,null,null,null,null,null,null,null,"",0,"","",0,"","",null,null,"",0,"","",0,"","",null,null,"",0,"","",0,"","",null,null,"",""]
[null,"",null,null,"","","",null,0,"","","","","",null,null,null,null,null,null,null,null,null,null,null,null,null,null,null,null,null,null,"",0,"","",0,"","",null,null,"",0,"","",0,"","",null,null,"",0,"","",0,"","",null,null,"",""]
[null,"",null,null,"","","",null,0,"","","","","",null,null,null,null,null,null,null,null,null,null,null,null,null,null,null,null,null,null,"",0,"","",0,"","",null,null,"",0,"","",0,"","",null,null,"",0,"","",0,"","",null,null,"",""]
[null,"",null,null,"","","",null,0,"","","","","",null,null,null,null,null,null,null,null,null,null,null,null,null,null,null,null,null,null,"",0,"","",0,"","",null,null,"",0,"","",0,"","",null,null,"",0,"","",0,"","",null,null,"",""]
[null,"",null,null,"","","",null,0,"","","","","",null,null,null,null,null,null,null,null,null,null,null,null,null,null,null,null,null,null,"",0,"","",0,"","",null,null,"",0,"","",0,"","",null,null,"",0,"","",0,"","",null,null,"",""]
[null,"",null,null,"","","",null,0,"","","","","",null,null,null,null,null,null,null,null,null,null,null,null,null,null,null,null,null,null,"",0,"","",0,"","",null,null,"",0,"","",0,"","",null,null,"",0,"","",0,"","",null,null,"",""]
[null,"",null,null,"","","",null,0,"","","","","",null,null,null,null,null,null,null,null,null,null,null,null,null,null,null,null,null,null,"",0,"","",0,"","",null,null,"",0,"","",0,"","",null,null,"",0,"","",0,"","",null,null,"",""]
[null,"",null,null,"","","",null,0,"","","","","",null,null,null,null,null,null,null,null,null,null,null,null,null,null,null,null,null,null,"",0,"","",0,"","",null,null,"",0,"","",0,"","",null,null,"",0,"","",0,"","",null,null,"",""]
[null,"",null,null,"","","",null,0,"","","","","",null,null,null,null,null,null,null,null,null,null,null,null,null,null,null,null,null,null,"",0,"","",0,"","",null,null,"",0,"","",0,"","",null,null,"",0,"","",0,"","",null,null,"",""]
[null,"",null,null,"","","",null,0,"","","","","",null,null,null,null,null,null,null,null,null,null,null,null,null,null,null,null,null,null,"",0,"","",0,"","",null,null,"",0,"","",0,"","",null,null,"",0,"","",0,"","",null,null,"",""]
[null,"",null,null,"","","",null,0,"","","","","",null,null,null,null,null,null,null,null,null,null,null,null,null,null,null,null,null,null,"",0,"","",0,"","",null,null,"",0,"","",0,"","",null,null,"",0,"","",0,"","",null,null,"",""]
[null,"",null,null,"","","",null,0,"","","","","",null,null,null,null,null,null,null,null,null,null,null,null,null,null,null,null,null,null,"",0,"","",0,"","",null,null,"",0,"","",0,"","",null,null,"",0,"","",0,"","",null,null,"",""]
[null,"",null,null,"","","",null,0,"","","","","",null,null,null,null,null,null,null,null,null,null,null,null,null,null,null,null,null,null,"",0,"","",0,"","",null,null,"",0,"","",0,"","",null,null,"",0,"","",0,"","",null,null,"",""]
[null,"",null,null,"","","",null,0,"","","","","",null,null,null,null,null,null,null,null,null,null,null,null,null,null,null,null,null,null,"",0,"","",0,"","",null,null,"",0,"","",0,"","",null,null,"",0,"","",0,"","",null,null,"",""]
[null,"",null,null,"","","",null,0,"","","","","",null,null,null,null,null,null,null,null,null,null,null,null,null,null,null,null,null,null,"",0,"","",0,"","",null,null,"",0,"","",0,"","",null,null,"",0,"","",0,"","",null,null,"",""]
[null,"",null,null,"","","",null,0,"","","","","",null,null,null,null,null,null,null,null,null,null,null,null,null,null,null,null,null,null,"",0,"","",0,"","",null,null,"",0,"","",0,"","",null,null,"",0,"","",0,"","",null,null,"",""]
[null,"",null,null,"","","",null,0,"","","","","",null,null,null,null,null,null,null,null,null,null,null,null,null,null,null,null,null,null,"",0,"","",0,"","",null,null,"",0,"","",0,"","",null,null,"",0,"","",0,"","",null,null,"",""]
[null,"",null,null,"","","",null,0,"","","","","",null,null,null,null,null,null,null,null,null,null,null,null,null,null,null,null,null,null,"",0,"","",0,"","",null,null,"",0,"","",0,"","",null,null,"",0,"","",0,"","",null,null,"",""]
[null,"",null,null,"","","",null,0,"","","","","",null,null,null,null,null,null,null,null,null,null,null,null,null,null,null,null,null,null,"",0,"","",0,"","",null,null,"",0,"","",0,"","",null,null,"",0,"","",0,"","",null,null,"",""]
[null,"",null,null,"","","",null,0,"","","","","",null,null,null,null,null,null,null,null,null,null,null,null,null,null,null,null,null,null,"",0,"","",0,"","",null,null,"",0,"","",0,"","",null,null,"",0,"","",0,"","",null,null,"",""]
[null,"",null,null,"","","",null,0,"","","","","",null,null,null,null,null,null,null,null,null,null,null,null,null,null,null,null,null,null,"",0,"","",0,"","",null,null,"",0,"","",0,"","",null,null,"",0,"","",0,"","",null,null,"",""]
[null,"",null,null,"","","",null,0,"","","","","",null,null,null,null,null,null,null,null,null,null,null,null,null,null,null,null,null,null,"",0,"","",0,"","",null,null,"",0,"","",0,"","",null,null,"",0,"","",0,"","",null,null,"",""]
[null,"",null,null,"","","",null,0,"","","","","",null,null,null,null,null,null,null,null,null,null,null,null,null,null,null,null,null,null,"",0,"","",0,"","",null,null,"",0,"","",0,"","",null,null,"",0,"","",0,"","",null,null,"",""]
[null,"",null,null,"","","",null,0,"","","","","",null,null,null,null,null,null,null,null,null,null,null,null,null,null,null,null,null,null,"",0,"","",0,"","",null,null,"",0,"","",0,"","",null,null,"",0,"","",0,"","",null,null,"",""]
[null,"",null,null,"","","",null,0,"","","","","",null,null,null,null,null,null,null,null,null,null,null,null,null,null,null,null,null,null,"",0,"","",0,"","",null,null,"",0,"","",0,"","",null,null,"",0,"","",0,"","",null,null,"",""]
[null,"",null,null,"","","",null,0,"","","","","",null,null,null,null,null,null,null,null,null,null,null,null,null,null,null,null,null,null,"",0,"","",0,"","",null,null,"",0,"","",0,"","",null,null,"",0,"","",0,"","",null,null,"",""]
[null,"",null,null,"","","",null,0,"","","","","",null,null,null,null,null,null,null,null,null,null,null,null,null,null,null,null,null,null,"",0,"","",0,"","",null,null,"",0,"","",0,"","",null,null,"",0,"","",0,"","",null,null,"",""]
[null,"",null,null,"","","",null,0,"","","","","",null,null,null,null,null,null,null,null,null,null,null,null,null,null,null,null,null,null,"",0,"","",0,"","",null,null,"",0,"","",0,"","",null,null,"",0,"","",0,"","",null,null,"",""]
[null,"",null,null,"","","",null,0,"","","","","",null,null,null,null,null,null,null,null,null,null,null,null,null,null,null,null,null,null,"",0,"","",0,"","",null,null,"",0,"","",0,"","",null,null,"",0,"","",0,"","",null,null,"",""]
[null,"",null,null,"","","",null,0,"","","","","",null,null,null,null,null,null,null,null,null,null,null,null,null,null,null,null,null,null,"",0,"","",0,"","",null,null,"",0,"","",0,"","",null,null,"",0,"","",0,"","",null,null,"",""]
[null,"",null,null,"","","",null,0,"","","","","",null,null,null,null,null,null,null,null,null,null,null,null,null,null,null,null,null,null,"",0,"","",0,"","",null,null,"",0,"","",0,"","",null,null,"",0,"","",0,"","",null,null,"",""]
[null,"",null,null,"","","",null,0,"","","","","",null,null,null,null,null,null,null,null,null,null,null,null,null,null,null,null,null,null,"",0,"","",0,"","",null,null,"",0,"","",0,"","",null,null,"",0,"","",0,"","",null,null,"",""]
[null,"",null,null,"","","",null,0,"","","","","",null,null,null,null,null,null,null,null,null,null,null,null,null,null,null,null,null,null,"",0,"","",0,"","",null,null,"",0,"","",0,"","",null,null,"",0,"","",0,"","",null,null,"",""]
[null,"",null,null,"","","",null,0,"","","","","",null,null,null,null,null,null,null,null,null,null,null,null,null,null,null,null,null,null,"",0,"","",0,"","",null,null,"",0,"","",0,"","",null,null,"",0,"","",0,"","",null,null,"",""]
[null,"",null,null,"","","",null,0,"","","","","",null,null,null,null,null,null,null,null,null,null,null,null,null,null,null,null,null,null,"",0,"","",0,"","",null,null,"",0,"","",0,"","",null,null,"",0,"","",0,"","",null,null,"",""]
[null,"",null,null,"","","",null,0,"","","","","",null,null,null,null,null,null,null,null,null,null,null,null,null,null,null,null,null,null,"",0,"","",0,"","",null,null,"",0,"","",0,"","",null,null,"",0,"","",0,"","",null,null,"",""]
[null,"",null,null,"","","",null,0,"","","","","",null,null,null,null,null,null,null,null,null,null,null,null,null,null,null,null,null,null,"",0,"","",0,"","",null,null,"",0,"","",0,"","",null,null,"",0,"","",0,"","",null,null,"",""]
[null,"",null,null,"","","",null,0,"","","","","",null,null,null,null,null,null,null,null,null,null,null,null,null,null,null,null,null,null,"",0,"","",0,"","",null,null,"",0,"","",0,"","",null,null,"",0,"","",0,"","",null,null,"",""]
[null,"",null,null,{"$f":"IF(D580=\"\",\"\",C580/D580)","v":""},"","",null,0,"","","","","",null,null,null,null,null,null,null,null,null,null,null,null,null,null,null,null,null,null,"",0,"","",0,"","",null,null,"",0,"","",0,"","",null,null,"",0,"","",0,"","",null,null,"",""]
[null,"",null,null,"","","",null,0,"","","","","",null,null,null,null,null,null,null,null,null,null,null,null,null,null,null,null,null,null,"",0,"","",0,"","",null,null,"",0,"","",0,"","",null,null,"",0,"","",0,"","",null,null,"",""]
[null,"",null,null,"","","",null,0,"","","","","",null,null,null,null,null,null,null,null,null,null,null,null,null,null,null,null,null,null,"",0,"","",0,"","",null,null,"",0,"","",0,"","",null,null,"",0,"","",0,"","",null,null,"",""]
[null,"",null,null,"","","",null,0,"","","","","",null,null,null,null,null,null,null,null,null,null,null,null,null,null,null,null,null,null,"",0,"","",0,"","",null,null,"",0,"","",0,"","",null,null,"",0,"","",0,"","",null,null,"",""]
[null,"",null,null,"","","",null,0,"","","","","",null,null,null,null,null,null,null,null,null,null,null,null,null,null,null,null,null,null,"",0,"","",0,"","",null,null,"",0,"","",0,"","",null,null,"",0,"","",0,"","",null,null,"",""]
[null,"",null,null,"","","",null,0,"","","","","",null,null,null,null,null,null,null,null,null,null,null,null,null,null,null,null,null,null,"",0,"","",0,"","",null,null,"",0,"","",0,"","",null,null,"",0,"","",0,"","",null,null,"",""]
[null,"",null,null,"","","",null,0,"","","","","",null,null,null,null,null,null,null,null,null,null,null,null,null,null,null,null,null,null,"",0,"","",0,"","",null,null,"",0,"","",0,"","",null,null,"",0,"","",0,"","",null,null,"",""]
[null,"",null,null,"","","",null,0,"","","","","",null,null,null,null,null,null,null,null,null,null,null,null,null,null,null,null,null,null,"",0,"","",0,"","",null,null,"",0,"","",0,"","",null,null,"",0,"","",0,"","",null,null,"",""]
[null,"",null,null,"","","",null,0,"","","","","",null,null,null,null,null,null,null,null,null,null,null,null,null,null,null,null,null,null,"",0,"","",0,"","",null,null,"",0,"","",0,"","",null,null,"",0,"","",0,"","",null,null,"",""]
[null,"",null,null,"","","",null,0,"","","","","",null,null,null,null,null,null,null,null,null,null,null,null,null,null,null,null,null,null,"",0,"","",0,"","",null,null,"",0,"","",0,"","",null,null,"",0,"","",0,"","",null,null,"",""]
[null,"",null,null,"",{"$f":"IF(D590=\"\",\"\",$F$8+(3*(SQRT($F$8/D590))))","v":""},{"$f":"IF(D590=\"\",\"\",IF($F$8-(3*(SQRT($F$8/D590)))<0,0,$F$8-(3*(SQRT($F$8/D590)))))","v":""},null,0,{"$f":"IF(G590=\"\",\"\",$F$8)","v":""},{"$f":"IF(D590=\"\",\"\",IF($F$8-(1*(SQRT($F$8/D590)))<0,0,$F$8-(1*(SQRT($F$8/D590)))))","v":""},{"$f":"IF(D590=\"\",\"\",IF($F$8-(2*(SQRT($F$8/D590)))<0,0,$F$8-(2*(SQRT($F$8/D590)))))","v":""},{"$f":"IF(D590=\"\",\"\",$F$8+(1*(SQRT($F$8/D590))))","v":""},{"$f":"IF(D590=\"\",\"\",$F$8+(2*(SQRT($F$8/D590))))","v":""},null,null,null,null,null,null,null,null,null,null,null,null,null,null,null,null,null,null,"",0,"","",0,"","",null,null,"",0,"","",0,"",{"$f":"IF(AND(AR590<>\"\",AU590=\"\"),AR590,IF(AND(AR590=\"\",AU590<>\"\"),AU590,IF(AND(AR590<>\"\",AU590<>\"\"),AR590,\"\")))","v":""},null,null,"",0,"","",0,"","",null,null,"",{"$f":"IF(BH590=1,CONCATENATE(\"Data Point \",B590),\"\")","v":""}]
[null,"",null,null,"","","",null,{"$f":"IF(B591>$F$9,0,1)","v":0},"","","","","",null,null,null,null,null,null,null,null,null,null,null,null,null,null,null,null,null,null,{"$f":"IF(E591=\"\",\"\",IF(AND(E591>=N591,E591<F591),1,0))","v":""},{"$f":"SUM(AG591:AG593)","v":0},{"$f":"IF(AH592=2,\"\",IF(AH591>=2,CONCATENATE(\"Data Point \",B591,\" to \",\"Data Point \",(B591+2)),\"\"))","v":""},{"$f":"IF(E591=\"\",\"\",IF(AND(E591<=L591,E591>G591),1,0))","v":""},{"$f":"SUM(AJ591:AJ593)","v":0},{"$f":"IF(AK592=2,\"\",IF(AK591>=2,CONCATENATE(\"Data Point \",B591,\" to \",\"Data Point \",(B591+2)),\"\"))","v":""},{"$f":"IF(AND(AI591<>\"\",AL591=\"\"),AI591,IF(AND(AI591=\"\",AL591<>\"\"),AL591,IF(AND(AI591<>\"\",AL591<>\"\"),AI591,\"\")))","v":""},null,null,{"$f":"IF(E591=\"\",\"\",IF(AND(E591>=M591,E591<F591),1,0))","v":""},{"$f":"SUM(AP591:AP595)","v":0},{"$f":"IF(AQ592=4,\"\",IF(AQ591>=4,CONCATENATE(\"Data Point \",B591,\" to \",\"Data Point \",(B591+4)),\"\"))","v":""},{"$f":"IF(E591=\"\",\"\",IF(AND(E591<=K591,E591>G591),1,0))","v":""},{"$f":"SUM(AS591:AS595)","v":0},{"$f":"IF(AT592=4,\"\",IF(AT591>=4,CONCATENATE(\"Data Point \",B591,\" to \",\"Data Point \",(B591+4)),\"\"))","v":""},"",null,null,{"$f":"IF(E591=\"\",\"\",IF(AND(E591>=J591,E591<F591),1,0))","v":""},{"$f":"SUM(AY591:AY598)","v":0},{"$f":"IF(AZ592=8, \"\", IF(AZ591=8,CONCATENATE(\"Data Point \",B591,\" to \",\"Data Point \",(B591+8)),\"\"))","v":""},{"$f":"IF(E591=\"\",\"\",IF(AND(E591<=J591,E591>G591),1,0))","v":""},{"$f":"SUM(BB591:BB598)","v":0},{"$f":"IF(BC592=8, \"\", IF(BC591=8,CONCATENATE(\"Data Point \",B591,\" to \",\"Data Point \",(B591+8)),\"\"))","v":""},{"$f":"IF(AND(BA591<>\"\",BD591=\"\"),BA591,IF(AND(BA591=\"\",BD591<>\"\"),BD591,IF(AND(BA591<>\"\",BD591<>\"\"),BA591,\"\")))","v":""},null,null,{"$f":"IF(E591=\"\",\"\",IF(OR(E591>F591,E591<G591),1,0))","v":""},""]
[null,{"$f":"IF(C592=\"\",\"\",B591+1)","v":""},null,null,"","","",null,0,"","","","","",null,null,null,null,null,null,null,null,null,null,null,null,null,null,null,null,null,null,"",0,"","",0,"","",null,null,"",0,"","",0,"","",null,null,"",0,"","",0,"","",null,null,"",""]
[null,"",null,null,"","","",null,0,"","","","","",null,null,null,null,null,null,null,null,null,null,null,null,null,null,null,null,null,null,"",0,"","",0,"","",null,null,"",0,"","",0,"","",null,null,"",0,"","",0,"","",null,null,"",""]
[null,"",null,null,"","","",null,0,"","","","","",null,null,null,null,null,null,null,null,null,null,null,null,null,null,null,null,null,null,"",0,"","",0,"","",null,null,"",0,"","",0,"","",null,null,"",0,"","",0,"","",null,null,"",""]
[null,"",null,null,"","","",null,0,"","","","","",null,null,null,null,null,null,null,null,null,null,null,null,null,null,null,null,null,null,"",0,"","",0,"","",null,null,"",0,"","",0,"","",null,null,"",0,"","",0,"","",null,null,"",""]
[null,"",null,null,"","","",null,0,"","","","","",null,null,null,null,null,null,null,null,null,null,null,null,null,null,null,null,null,null,"",0,"","",0,"","",null,null,"",0,"","",0,"","",null,null,"",0,"","",0,"","",null,null,"",""]
[null,"",null,null,"","","",null,0,"","","","","",null,null,null,null,null,null,null,null,null,null,null,null,null,null,null,null,null,null,"",0,"","",0,"","",null,null,"",0,"","",0,"","",null,null,"",0,"","",0,"","",null,null,"",""]
[null,"",null,null,"","","",null,0,"","","","","",null,null,null,null,null,null,null,null,null,null,null,null,null,null,null,null,null,null,"",0,"","",0,"","",null,null,"",0,"","",0,"","",null,null,"",0,"","",0,"","",null,null,"",""]
[null,"",null,null,"","","",null,0,"","","","","",null,null,null,null,null,null,null,null,null,null,null,null,null,null,null,null,null,null,"",0,"","",0,"","",null,null,"",0,"","",0,"","",null,null,"",0,"","",0,"","",null,null,"",""]
[null,"",null,null,"","","",null,0,"","","","","",null,null,null,null,null,null,null,null,null,null,null,null,null,null,null,null,null,null,"",0,"","",0,"","",null,null,"",0,"","",0,"","",null,null,"",0,"","",0,"","",null,null,"",""]
[null,"",null,null,"","","",null,0,"","","","","",null,null,null,null,null,null,null,null,null,null,null,null,null,null,null,null,null,null,"",0,"","",0,"","",null,null,"",0,"","",0,"","",null,null,"",0,"","",0,"","",null,null,"",""]
[null,"",null,null,"","","",null,0,"","","","","",null,null,null,null,null,null,null,null,null,null,null,null,null,null,null,null,null,null,"",0,"","",0,"","",null,null,"",0,"","",0,"","",null,null,"",0,"","",0,"","",null,null,"",""]
[null,"",null,null,"","","",null,0,"","","","","",null,null,null,null,null,null,null,null,null,null,null,null,null,null,null,null,null,null,"",0,"","",0,"","",null,null,"",0,"","",0,"","",null,null,"",0,"","",0,"","",null,null,"",""]
[null,"",null,null,"","","",null,0,"","","","","",null,null,null,null,null,null,null,null,null,null,null,null,null,null,null,null,null,null,"",0,"","",0,"","",null,null,"",0,"","",0,"","",null,null,"",0,"","",0,"","",null,null,"",""]
[null,"",null,null,"","","",null,0,"","","","","",null,null,null,null,null,null,null,null,null,null,null,null,null,null,null,null,null,null,"",0,"","",0,"","",null,null,"",0,"","",0,"","",null,null,"",0,"","",0,"","",null,null,"",""]
[null,"",null,null,"","","",null,0,"","","","","",null,null,null,null,null,null,null,null,null,null,null,null,null,null,null,null,null,null,"",0,"","",0,"","",null,null,"",0,"","",0,"","",null,null,"",0,"","",0,"","",null,null,"",""]
[null,"",null,null,"","","",null,0,"","","","","",null,null,null,null,null,null,null,null,null,null,null,null,null,null,null,null,null,null,"",0,"","",0,"","",null,null,"",0,"","",0,"","",null,null,"",0,"","",0,"","",null,null,"",""]
[null,"",null,null,"","","",null,0,"","","","","",null,null,null,null,null,null,null,null,null,null,null,null,null,null,null,null,null,null,"",0,"","",0,"","",null,null,"",0,"","",0,"","",null,null,"",0,"","",0,"","",null,null,"",""]
[null,"",null,null,"","","",null,0,"","","","","",null,null,null,null,null,null,null,null,null,null,null,null,null,null,null,null,null,null,"",0,"","",0,"","",null,null,"",0,"","",0,"","",null,null,"",0,"","",0,"","",null,null,"",""]
[null,"",null,null,"","","",null,0,"","","","","",null,null,null,null,null,null,null,null,null,null,null,null,null,null,null,null,null,null,"",0,"","",0,"","",null,null,"",0,"","",0,"","",null,null,"",0,"","",0,"","",null,null,"",""]
[null,"",null,null,"","","",null,0,"","","","","",null,null,null,null,null,null,null,null,null,null,null,null,null,null,null,null,null,null,"",0,"","",0,"","",null,null,"",0,"","",0,"","",null,null,"",0,"","",0,"","",null,null,"",""]
[null,"",null,null,"","","",null,0,"","","","","",null,null,null,null,null,null,null,null,null,null,null,null,null,null,null,null,null,null,"",0,"","",0,"","",null,null,"",0,"","",0,"","",null,null,"",0,"","",0,"","",null,null,"",""]
[null,"",null,null,"","","",null,0,"","","","","",null,null,null,null,null,null,null,null,null,null,null,null,null,null,null,null,null,null,"",0,"","",0,"","",null,null,"",0,"","",0,"","",null,null,"",0,"","",0,"","",null,null,"",""]
[null,"",null,null,"","","",null,0,"","","","","",null,null,null,null,null,null,null,null,null,null,null,null,null,null,null,null,null,null,"",0,"","",0,"","",null,null,"",0,"","",0,"","",null,null,"",0,"","",0,"","",null,null,"",""]
[null,"",null,null,"","","",null,0,"","","","","",null,null,null,null,null,null,null,null,null,null,null,null,null,null,null,null,null,null,"",0,"","",0,"","",null,null,"",0,"","",0,"","",null,null,"",0,"","",0,"","",null,null,"",""]
[null,"",null,null,"","","",null,0,"","","","","",null,null,null,null,null,null,null,null,null,null,null,null,null,null,null,null,null,null,"",0,"","",0,"","",null,null,"",0,"","",0,"","",null,null,"",0,"","",0,"","",null,null,"",""]
[null,"",null,null,"","","",null,0,"","","","","",null,null,null,null,null,null,null,null,null,null,null,null,null,null,null,null,null,null,"",0,"","",0,"","",null,null,"",0,"","",0,"","",null,null,"",0,"","",0,"","",null,null,"",""]
[null,"",null,null,"","","",null,0,"","","","","",null,null,null,null,null,null,null,null,null,null,null,null,null,null,null,null,null,null,"",0,"","",0,"","",null,null,"",0,"","",0,"","",null,null,"",0,"","",0,"","",null,null,"",""]
[null,"",null,null,"","","",null,0,"","","","","",null,null,null,null,null,null,null,null,null,null,null,null,null,null,null,null,null,null,"",0,"","",0,"","",null,null,"",0,"","",0,"","",null,null,"",0,"","",0,"","",null,null,"",""]
[null,"",null,null,"","","",null,0,"","","","","",null,null,null,null,null,null,null,null,null,null,null,null,null,null,null,null,null,null,"",0,"","",0,"","",null,null,"",0,"","",0,"","",null,null,"",0,"","",0,"","",null,null,"",""]
[null,"",null,null,"","","",null,0,"","","","","",null,null,null,null,null,null,null,null,null,null,null,null,null,null,null,null,null,null,"",0,"","",0,"","",null,null,"",0,"","",0,"","",null,null,"",0,"","",0,"","",null,null,"",""]
[null,"",null,null,"","","",null,0,"","","","","",null,null,null,null,null,null,null,null,null,null,null,null,null,null,null,null,null,null,"",0,"","",0,"","",null,null,"",0,"","",0,"","",null,null,"",0,"","",0,"","",null,null,"",""]
[null,"",null,null,"","","",null,0,"","","","","",null,null,null,null,null,null,null,null,null,null,null,null,null,null,null,null,null,null,"",0,"","",0,"","",null,null,"",0,"","",0,"","",null,null,"",0,"","",0,"","",null,null,"",""]
[null,"",null,null,"","","",null,0,"","","","","",null,null,null,null,null,null,null,null,null,null,null,null,null,null,null,null,null,null,"",0,"","",0,"","",null,null,"",0,"","",0,"","",null,null,"",0,"","",0,"","",null,null,"",""]
[null,"",null,null,"","","",null,0,"","","","","",null,null,null,null,null,null,null,null,null,null,null,null,null,null,null,null,null,null,"",0,"","",0,"","",null,null,"",0,"","",0,"","",null,null,"",0,"","",0,"","",null,null,"",""]
[null,"",null,null,"","","",null,0,"","","","","",null,null,null,null,null,null,null,null,null,null,null,null,null,null,null,null,null,null,"",0,"","",0,"","",null,null,"",0,"","",0,"","",null,null,"",0,"","",0,"","",null,null,"",""]
[null,"",null,null,"","","",null,0,"","","","","",null,null,null,null,null,null,null,null,null,null,null,null,null,null,null,null,null,null,"",0,"","",0,"","",null,null,"",0,"","",0,"","",null,null,"",0,"","",0,"","",null,null,"",""]
[null,"",null,null,"","","",null,0,"","","","","",null,null,null,null,null,null,null,null,null,null,null,null,null,null,null,null,null,null,"",0,"","",0,"","",null,null,"",0,"","",0,"","",null,null,"",0,"","",0,"","",null,null,"",""]
[null,"",null,null,"","","",null,0,"","","","","",null,null,null,null,null,null,null,null,null,null,null,null,null,null,null,null,null,null,"",0,"","",0,"","",null,null,"",0,"","",0,"","",null,null,"",0,"","",0,"","",null,null,"",""]
[null,"",null,null,"","","",null,0,"","","","","",null,null,null,null,null,null,null,null,null,null,null,null,null,null,null,null,null,null,"",0,"","",0,"","",null,null,"",0,"","",0,"","",null,null,"",0,"","",0,"","",null,null,"",""]
[null,"",null,null,"","","",null,0,"","","","","",null,null,null,null,null,null,null,null,null,null,null,null,null,null,null,null,null,null,"",0,"","",0,"","",null,null,"",0,"","",0,"","",null,null,"",0,"","",0,"","",null,null,"",""]
[null,"",null,null,"","","",null,0,"","","","","",null,null,null,null,null,null,null,null,null,null,null,null,null,null,null,null,null,null,"",0,"","",0,"","",null,null,"",0,"","",0,"","",null,null,"",0,"","",0,"","",null,null,"",""]
[null,"",null,null,"","","",null,0,"","","","","",null,null,null,null,null,null,null,null,null,null,null,null,null,null,null,null,null,null,"",0,"","",0,"","",null,null,"",0,"","",0,"","",null,null,"",0,"","",0,"","",null,null,"",""]
[null,"",null,null,"","","",null,0,"","","","","",null,null,null,null,null,null,null,null,null,null,null,null,null,null,null,null,null,null,"",0,"","",0,"","",null,null,"",0,"","",0,"","",null,null,"",0,"","",0,"","",null,null,"",""]
[null,"",null,null,"","","",null,0,"","","","","",null,null,null,null,null,null,null,null,null,null,null,null,null,null,null,null,null,null,"",0,"","",0,"","",null,null,"",0,"","",0,"","",null,null,"",0,"","",0,"","",null,null,"",""]
[null,"",null,null,"","","",null,0,"","","","","",null,null,null,null,null,null,null,null,null,null,null,null,null,null,null,null,null,null,"",0,"","",0,"","",null,null,"",0,"","",0,"","",null,null,"",0,"","",0,"","",null,null,"",""]
[null,"",null,null,"","","",null,0,"","","","","",null,null,null,null,null,null,null,null,null,null,null,null,null,null,null,null,null,null,"",0,"","",0,"","",null,null,"",0,"","",0,"","",null,null,"",0,"","",0,"","",null,null,"",""]
[null,"",null,null,"","","",null,0,"","","","","",null,null,null,null,null,null,null,null,null,null,null,null,null,null,null,null,null,null,"",0,"","",0,"","",null,null,"",0,"","",0,"","",null,null,"",0,"","",0,"","",null,null,"",""]
[null,"",null,null,"","","",null,0,"","","","","",null,null,null,null,null,null,null,null,null,null,null,null,null,null,null,null,null,null,"",0,"","",0,"","",null,null,"",0,"","",0,"","",null,null,"",0,"","",0,"","",null,null,"",""]
[null,"",null,null,"","","",null,0,"","","","","",null,null,null,null,null,null,null,null,null,null,null,null,null,null,null,null,null,null,"",0,"","",0,"","",null,null,"",0,"","",0,"","",null,null,"",0,"","",0,"","",null,null,"",""]
[null,"",null,null,"","","",null,0,"","","","","",null,null,null,null,null,null,null,null,null,null,null,null,null,null,null,null,null,null,"",0,"","",0,"","",null,null,"",0,"","",0,"","",null,null,"",0,"","",0,"","",null,null,"",""]
[null,"",null,null,"","","",null,0,"","","","","",null,null,null,null,null,null,null,null,null,null,null,null,null,null,null,null,null,null,"",0,"","",0,"","",null,null,"",0,"","",0,"","",null,null,"",0,"","",0,"","",null,null,"",""]
[null,"",null,null,"","","",null,0,"","","","","",null,null,null,null,null,null,null,null,null,null,null,null,null,null,null,null,null,null,"",0,"","",0,"","",null,null,"",0,"","",0,"","",null,null,"",0,"","",0,"","",null,null,"",""]
[null,"",null,null,{"$f":"IF(D644=\"\",\"\",C644/D644)","v":""},"","",null,0,"","","","","",null,null,null,null,null,null,null,null,null,null,null,null,null,null,null,null,null,null,"",0,"","",0,"","",null,null,"",0,"","",0,"","",null,null,"",0,"","",0,"","",null,null,"",""]
[null,"",null,null,"","","",null,0,"","","","","",null,null,null,null,null,null,null,null,null,null,null,null,null,null,null,null,null,null,"",0,"","",0,"","",null,null,"",0,"","",0,"","",null,null,"",0,"","",0,"","",null,null,"",""]
[null,"",null,null,"","","",null,0,"","","","","",null,null,null,null,null,null,null,null,null,null,null,null,null,null,null,null,null,null,"",0,"","",0,"","",null,null,"",0,"","",0,"","",null,null,"",0,"","",0,"","",null,null,"",""]
[null,"",null,null,"","","",null,0,"","","","","",null,null,null,null,null,null,null,null,null,null,null,null,null,null,null,null,null,null,"",0,"","",0,"","",null,null,"",0,"","",0,"","",null,null,"",0,"","",0,"","",null,null,"",""]
[null,"",null,null,"","","",null,0,"","","","","",null,null,null,null,null,null,null,null,null,null,null,null,null,null,null,null,null,null,"",0,"","",0,"","",null,null,"",0,"","",0,"","",null,null,"",0,"","",0,"","",null,null,"",""]
[null,"",null,null,"","","",null,0,"","","","","",null,null,null,null,null,null,null,null,null,null,null,null,null,null,null,null,null,null,"",0,"","",0,"","",null,null,"",0,"","",0,"","",null,null,"",0,"","",0,"","",null,null,"",""]
[null,"",null,null,"","","",null,0,"","","","","",null,null,null,null,null,null,null,null,null,null,null,null,null,null,null,null,null,null,"",0,"","",0,"","",null,null,"",0,"","",0,"","",null,null,"",0,"","",0,"","",null,null,"",""]
[null,"",null,null,"","","",null,0,"","","","","",null,null,null,null,null,null,null,null,null,null,null,null,null,null,null,null,null,null,"",0,"","",0,"","",null,null,"",0,"","",0,"","",null,null,"",0,"","",0,"","",null,null,"",""]
[null,"",null,null,"","","",null,0,"","","","","",null,null,null,null,null,null,null,null,null,null,null,null,null,null,null,null,null,null,"",0,"","",0,"","",null,null,"",0,"","",0,"","",null,null,"",0,"","",0,"","",null,null,"",""]
[null,"",null,null,"","","",null,0,"","","","","",null,null,null,null,null,null,null,null,null,null,null,null,null,null,null,null,null,null,"",0,"","",0,"","",null,null,"",0,"","",0,"","",null,null,"",0,"","",0,"","",null,null,"",""]
[null,"",null,null,"",{"$f":"IF(D654=\"\",\"\",$F$8+(3*(SQRT($F$8/D654))))","v":""},{"$f":"IF(D654=\"\",\"\",IF($F$8-(3*(SQRT($F$8/D654)))<0,0,$F$8-(3*(SQRT($F$8/D654)))))","v":""},null,0,{"$f":"IF(G654=\"\",\"\",$F$8)","v":""},{"$f":"IF(D654=\"\",\"\",IF($F$8-(1*(SQRT($F$8/D654)))<0,0,$F$8-(1*(SQRT($F$8/D654)))))","v":""},{"$f":"IF(D654=\"\",\"\",IF($F$8-(2*(SQRT($F$8/D654)))<0,0,$F$8-(2*(SQRT($F$8/D654)))))","v":""},{"$f":"IF(D654=\"\",\"\",$F$8+(1*(SQRT($F$8/D654))))","v":""},{"$f":"IF(D654=\"\",\"\",$F$8+(2*(SQRT($F$8/D654))))","v":""},null,null,null,null,null,null,null,null,null,null,null,null,null,null,null,null,null,null,"",0,"","",0,"","",null,null,"",0,"","",0,"",{"$f":"IF(AND(AR654<>\"\",AU654=\"\"),AR654,IF(AND(AR654=\"\",AU654<>\"\"),AU654,IF(AND(AR654<>\"\",AU654<>\"\"),AR654,\"\")))","v":""},null,null,"",0,"","",0,"","",null,null,"",{"$f":"IF(BH654=1,CONCATENATE(\"Data Point \",B654),\"\")","v":""}]
[null,"",null,null,"","","",null,{"$f":"IF(B655>$F$9,0,1)","v":0},"","","","","",null,null,null,null,null,null,null,null,null,null,null,null,null,null,null,null,null,null,{"$f":"IF(E655=\"\",\"\",IF(AND(E655>=N655,E655<F655),1,0))","v":""},{"$f":"SUM(AG655:AG657)","v":0},{"$f":"IF(AH656=2,\"\",IF(AH655>=2,CONCATENATE(\"Data Point \",B655,\" to \",\"Data Point \",(B655+2)),\"\"))","v":""},{"$f":"IF(E655=\"\",\"\",IF(AND(E655<=L655,E655>G655),1,0))","v":""},{"$f":"SUM(AJ655:AJ657)","v":0},{"$f":"IF(AK656=2,\"\",IF(AK655>=2,CONCATENATE(\"Data Point \",B655,\" to \",\"Data Point \",(B655+2)),\"\"))","v":""},{"$f":"IF(AND(AI655<>\"\",AL655=\"\"),AI655,IF(AND(AI655=\"\",AL655<>\"\"),AL655,IF(AND(AI655<>\"\",AL655<>\"\"),AI655,\"\")))","v":""},null,null,{"$f":"IF(E655=\"\",\"\",IF(AND(E655>=M655,E655<F655),1,0))","v":""},{"$f":"SUM(AP655:AP659)","v":0},{"$f":"IF(AQ656=4,\"\",IF(AQ655>=4,CONCATENATE(\"Data Point \",B655,\" to \",\"Data Point \",(B655+4)),\"\"))","v":""},{"$f":"IF(E655=\"\",\"\",IF(AND(E655<=K655,E655>G655),1,0))","v":""},{"$f":"SUM(AS655:AS659)","v":0},{"$f":"IF(AT656=4,\"\",IF(AT655>=4,CONCATENATE(\"Data Point \",B655,\" to \",\"Data Point \",(B655+4)),\"\"))","v":""},"",null,null,{"$f":"IF(E655=\"\",\"\",IF(AND(E655>=J655,E655<F655),1,0))","v":""},{"$f":"SUM(AY655:AY662)","v":0},{"$f":"IF(AZ656=8, \"\", IF(AZ655=8,CONCATENATE(\"Data Point \",B655,\" to \",\"Data Point \",(B655+8)),\"\"))","v":""},{"$f":"IF(E655=\"\",\"\",IF(AND(E655<=J655,E655>G655),1,0))","v":""},{"$f":"SUM(BB655:BB662)","v":0},{"$f":"IF(BC656=8, \"\", IF(BC655=8,CONCATENATE(\"Data Point \",B655,\" to \",\"Data Point \",(B655+8)),\"\"))","v":""},{"$f":"IF(AND(BA655<>\"\",BD655=\"\"),BA655,IF(AND(BA655=\"\",BD655<>\"\"),BD655,IF(AND(BA655<>\"\",BD655<>\"\"),BA655,\"\")))","v":""},null,null,{"$f":"IF(E655=\"\",\"\",IF(OR(E655>F655,E655<G655),1,0))","v":""},""]
[null,{"$f":"IF(C656=\"\",\"\",B655+1)","v":""},null,null,"","","",null,0,"","","","","",null,null,null,null,null,null,null,null,null,null,null,null,null,null,null,null,null,null,"",0,"","",0,"","",null,null,"",0,"","",0,"","",null,null,"",0,"","",0,"","",null,null,"",""]
[null,"",null,null,"","","",null,0,"","","","","",null,null,null,null,null,null,null,null,null,null,null,null,null,null,null,null,null,null,"",0,"","",0,"","",null,null,"",0,"","",0,"","",null,null,"",0,"","",0,"","",null,null,"",""]
[null,"",null,null,"","","",null,0,"","","","","",null,null,null,null,null,null,null,null,null,null,null,null,null,null,null,null,null,null,"",0,"","",0,"","",null,null,"",0,"","",0,"","",null,null,"",0,"","",0,"","",null,null,"",""]
[null,"",null,null,"","","",null,0,"","","","","",null,null,null,null,null,null,null,null,null,null,null,null,null,null,null,null,null,null,"",0,"","",0,"","",null,null,"",0,"","",0,"","",null,null,"",0,"","",0,"","",null,null,"",""]
[null,"",null,null,"","","",null,0,"","","","","",null,null,null,null,null,null,null,null,null,null,null,null,null,null,null,null,null,null,"",0,"","",0,"","",null,null,"",0,"","",0,"","",null,null,"",0,"","",0,"","",null,null,"",""]
[null,"",null,null,"","","",null,0,"","","","","",null,null,null,null,null,null,null,null,null,null,null,null,null,null,null,null,null,null,"",0,"","",0,"","",null,null,"",0,"","",0,"","",null,null,"",0,"","",0,"","",null,null,"",""]
[null,"",null,null,"","","",null,0,"","","","","",null,null,null,null,null,null,null,null,null,null,null,null,null,null,null,null,null,null,"",0,"","",0,"","",null,null,"",0,"","",0,"","",null,null,"",0,"","",0,"","",null,null,"",""]
[null,"",null,null,"","","",null,0,"","","","","",null,null,null,null,null,null,null,null,null,null,null,null,null,null,null,null,null,null,"",0,"","",0,"","",null,null,"",0,"","",0,"","",null,null,"",0,"","",0,"","",null,null,"",""]
[null,"",null,null,"","","",null,0,"","","","","",null,null,null,null,null,null,null,null,null,null,null,null,null,null,null,null,null,null,"",0,"","",0,"","",null,null,"",0,"","",0,"","",null,null,"",0,"","",0,"","",null,null,"",""]
[null,"",null,null,"","","",null,0,"","","","","",null,null,null,null,null,null,null,null,null,null,null,null,null,null,null,null,null,null,"",0,"","",0,"","",null,null,"",0,"","",0,"","",null,null,"",0,"","",0,"","",null,null,"",""]
[null,"",null,null,"","","",null,0,"","","","","",null,null,null,null,null,null,null,null,null,null,null,null,null,null,null,null,null,null,"",0,"","",0,"","",null,null,"",0,"","",0,"","",null,null,"",0,"","",0,"","",null,null,"",""]
[null,"",null,null,"","","",null,0,"","","","","",null,null,null,null,null,null,null,null,null,null,null,null,null,null,null,null,null,null,"",0,"","",0,"","",null,null,"",0,"","",0,"","",null,null,"",0,"","",0,"","",null,null,"",""]
[null,"",null,null,"","","",null,0,"","","","","",null,null,null,null,null,null,null,null,null,null,null,null,null,null,null,null,null,null,"",0,"","",0,"","",null,null,"",0,"","",0,"","",null,null,"",0,"","",0,"","",null,null,"",""]
[null,"",null,null,"","","",null,0,"","","","","",null,null,null,null,null,null,null,null,null,null,null,null,null,null,null,null,null,null,"",0,"","",0,"","",null,null,"",0,"","",0,"","",null,null,"",0,"","",0,"","",null,null,"",""]
[null,"",null,null,"","","",null,0,"","","","","",null,null,null,null,null,null,null,null,null,null,null,null,null,null,null,null,null,null,"",0,"","",0,"","",null,null,"",0,"","",0,"","",null,null,"",0,"","",0,"","",null,null,"",""]
[null,"",null,null,"","","",null,0,"","","","","",null,null,null,null,null,null,null,null,null,null,null,null,null,null,null,null,null,null,"",0,"","",0,"","",null,null,"",0,"","",0,"","",null,null,"",0,"","",0,"","",null,null,"",""]
[null,"",null,null,"","","",null,0,"","","","","",null,null,null,null,null,null,null,null,null,null,null,null,null,null,null,null,null,null,"",0,"","",0,"","",null,null,"",0,"","",0,"","",null,null,"",0,"","",0,"","",null,null,"",""]
[null,"",null,null,"","","",null,0,"","","","","",null,null,null,null,null,null,null,null,null,null,null,null,null,null,null,null,null,null,"",0,"","",0,"","",null,null,"",0,"","",0,"","",null,null,"",0,"","",0,"","",null,null,"",""]
[null,"",null,null,"","","",null,0,"","","","","",null,null,null,null,null,null,null,null,null,null,null,null,null,null,null,null,null,null,"",0,"","",0,"","",null,null,"",0,"","",0,"","",null,null,"",0,"","",0,"","",null,null,"",""]
[null,"",null,null,"","","",null,0,"","","","","",null,null,null,null,null,null,null,null,null,null,null,null,null,null,null,null,null,null,"",0,"","",0,"","",null,null,"",0,"","",0,"","",null,null,"",0,"","",0,"","",null,null,"",""]
[null,"",null,null,"","","",null,0,"","","","","",null,null,null,null,null,null,null,null,null,null,null,null,null,null,null,null,null,null,"",0,"","",0,"","",null,null,"",0,"","",0,"","",null,null,"",0,"","",0,"","",null,null,"",""]
[null,"",null,null,"","","",null,0,"","","","","",null,null,null,null,null,null,null,null,null,null,null,null,null,null,null,null,null,null,"",0,"","",0,"","",null,null,"",0,"","",0,"","",null,null,"",0,"","",0,"","",null,null,"",""]
[null,"",null,null,"","","",null,0,"","","","","",null,null,null,null,null,null,null,null,null,null,null,null,null,null,null,null,null,null,"",0,"","",0,"","",null,null,"",0,"","",0,"","",null,null,"",0,"","",0,"","",null,null,"",""]
[null,"",null,null,"","","",null,0,"","","","","",null,null,null,null,null,null,null,null,null,null,null,null,null,null,null,null,null,null,"",0,"","",0,"","",null,null,"",0,"","",0,"","",null,null,"",0,"","",0,"","",null,null,"",""]
[null,"",null,null,"","","",null,0,"","","","","",null,null,null,null,null,null,null,null,null,null,null,null,null,null,null,null,null,null,"",0,"","",0,"","",null,null,"",0,"","",0,"","",null,null,"",0,"","",0,"","",null,null,"",""]
[null,"",null,null,"","","",null,0,"","","","","",null,null,null,null,null,null,null,null,null,null,null,null,null,null,null,null,null,null,"",0,"","",0,"","",null,null,"",0,"","",0,"","",null,null,"",0,"","",0,"","",null,null,"",""]
[null,"",null,null,"","","",null,0,"","","","","",null,null,null,null,null,null,null,null,null,null,null,null,null,null,null,null,null,null,"",0,"","",0,"","",null,null,"",0,"","",0,"","",null,null,"",0,"","",0,"","",null,null,"",""]
[null,"",null,null,"","","",null,0,"","","","","",null,null,null,null,null,null,null,null,null,null,null,null,null,null,null,null,null,null,"",0,"","",0,"","",null,null,"",0,"","",0,"","",null,null,"",0,"","",0,"","",null,null,"",""]
[null,"",null,null,"","","",null,0,"","","","","",null,null,null,null,null,null,null,null,null,null,null,null,null,null,null,null,null,null,"",0,"","",0,"","",null,null,"",0,"","",0,"","",null,null,"",0,"","",0,"","",null,null,"",""]
[null,"",null,null,"","","",null,0,"","","","","",null,null,null,null,null,null,null,null,null,null,null,null,null,null,null,null,null,null,"",0,"","",0,"","",null,null,"",0,"","",0,"","",null,null,"",0,"","",0,"","",null,null,"",""]
[null,"",null,null,"","","",null,0,"","","","","",null,null,null,null,null,null,null,null,null,null,null,null,null,null,null,null,null,null,"",0,"","",0,"","",null,null,"",0,"","",0,"","",null,null,"",0,"","",0,"","",null,null,"",""]
[null,"",null,null,"","","",null,0,"","","","","",null,null,null,null,null,null,null,null,null,null,null,null,null,null,null,null,null,null,"",0,"","",0,"","",null,null,"",0,"","",0,"","",null,null,"",0,"","",0,"","",null,null,"",""]
[null,"",null,null,"","","",null,0,"","","","","",null,null,null,null,null,null,null,null,null,null,null,null,null,null,null,null,null,null,"",0,"","",0,"","",null,null,"",0,"","",0,"","",null,null,"",0,"","",0,"","",null,null,"",""]
[null,"",null,null,"","","",null,0,"","","","","",null,null,null,null,null,null,null,null,null,null,null,null,null,null,null,null,null,null,"",0,"","",0,"","",null,null,"",0,"","",0,"","",null,null,"",0,"","",0,"","",null,null,"",""]
[null,"",null,null,"","","",null,0,"","","","","",null,null,null,null,null,null,null,null,null,null,null,null,null,null,null,null,null,null,"",0,"","",0,"","",null,null,"",0,"","",0,"","",null,null,"",0,"","",0,"","",null,null,"",""]
[null,"",null,null,"","","",null,0,"","","","","",null,null,null,null,null,null,null,null,null,null,null,null,null,null,null,null,null,null,"",0,"","",0,"","",null,null,"",0,"","",0,"","",null,null,"",0,"","",0,"","",null,null,"",""]
[null,"",null,null,"","","",null,0,"","","","","",null,null,null,null,null,null,null,null,null,null,null,null,null,null,null,null,null,null,"",0,"","",0,"","",null,null,"",0,"","",0,"","",null,null,"",0,"","",0,"","",null,null,"",""]
[null,"",null,null,"","","",null,0,"","","","","",null,null,null,null,null,null,null,null,null,null,null,null,null,null,null,null,null,null,"",0,"","",0,"","",null,null,"",0,"","",0,"","",null,null,"",0,"","",0,"","",null,null,"",""]
[null,"",null,null,"","","",null,0,"","","","","",null,null,null,null,null,null,null,null,null,null,null,null,null,null,null,null,null,null,"",0,"","",0,"","",null,null,"",0,"","",0,"","",null,null,"",0,"","",0,"","",null,null,"",""]
[null,"",null,null,"","","",null,0,"","","","","",null,null,null,null,null,null,null,null,null,null,null,null,null,null,null,null,null,null,"",0,"","",0,"","",null,null,"",0,"","",0,"","",null,null,"",0,"","",0,"","",null,null,"",""]
[null,"",null,null,"","","",null,0,"","","","","",null,null,null,null,null,null,null,null,null,null,null,null,null,null,null,null,null,null,"",0,"","",0,"","",null,null,"",0,"","",0,"","",null,null,"",0,"","",0,"","",null,null,"",""]
[null,"",null,null,"","","",null,0,"","","","","",null,null,null,null,null,null,null,null,null,null,null,null,null,null,null,null,null,null,"",0,"","",0,"","",null,null,"",0,"","",0,"","",null,null,"",0,"","",0,"","",null,null,"",""]
[null,"",null,null,"","","",null,0,"","","","","",null,null,null,null,null,null,null,null,null,null,null,null,null,null,null,null,null,null,"",0,"","",0,"","",null,null,"",0,"","",0,"","",null,null,"",0,"","",0,"","",null,null,"",""]
[null,"",null,null,"","","",null,0,"","","","","",null,null,null,null,null,null,null,null,null,null,null,null,null,null,null,null,null,null,"",0,"","",0,"","",null,null,"",0,"","",0,"","",null,null,"",0,"","",0,"","",null,null,"",""]
[null,"",null,null,"","","",null,0,"","","","","",null,null,null,null,null,null,null,null,null,null,null,null,null,null,null,null,null,null,"",0,"","",0,"","",null,null,"",0,"","",0,"","",null,null,"",0,"","",0,"","",null,null,"",""]
[null,"",null,null,"","","",null,0,"","","","","",null,null,null,null,null,null,null,null,null,null,null,null,null,null,null,null,null,null,"",0,"","",0,"","",null,null,"",0,"","",0,"","",null,null,"",0,"","",0,"","",null,null,"",""]
[null,"",null,null,"","","",null,0,"","","","","",null,null,null,null,null,null,null,null,null,null,null,null,null,null,null,null,null,null,"",0,"","",0,"","",null,null,"",0,"","",0,"","",null,null,"",0,"","",0,"","",null,null,"",""]
[null,"",null,null,"","","",null,0,"","","","","",null,null,null,null,null,null,null,null,null,null,null,null,null,null,null,null,null,null,"",0,"","",0,"","",null,null,"",0,"","",0,"","",null,null,"",0,"","",0,"","",null,null,"",""]
[null,"",null,null,"","","",null,0,"","","","","",null,null,null,null,null,null,null,null,null,null,null,null,null,null,null,null,null,null,"",0,"","",0,"","",null,null,"",0,"","",0,"","",null,null,"",0,"","",0,"","",null,null,"",""]
[null,"",null,null,"","","",null,0,"","","","","",null,null,null,null,null,null,null,null,null,null,null,null,null,null,null,null,null,null,"",0,"","",0,"","",null,null,"",0,"","",0,"","",null,null,"",0,"","",0,"","",null,null,"",""]
[null,"",null,null,"","","",null,0,"","","","","",null,null,null,null,null,null,null,null,null,null,null,null,null,null,null,null,null,null,"",0,"","",0,"","",null,null,"",0,"","",0,"","",null,null,"",0,"","",0,"","",null,null,"",""]
[null,"",null,null,"","","",null,0,"","","","","",null,null,null,null,null,null,null,null,null,null,null,null,null,null,null,null,null,null,"",0,"","",0,"","",null,null,"",0,"","",0,"","",null,null,"",0,"","",0,"","",null,null,"",""]
[null,"",null,null,{"$f":"IF(D708=\"\",\"\",C708/D708)","v":""},"","",null,0,"","","","","",null,null,null,null,null,null,null,null,null,null,null,null,null,null,null,null,null,null,"",0,"","",0,"","",null,null,"",0,"","",0,"","",null,null,"",0,"","",0,"","",null,null,"",""]
[null,"",null,null,{"$f":"IF(D709=\"\",\"\",C709/D709)","v":""},"","",null,0,"","","","","",null,null,null,null,null,null,null,null,null,null,null,null,null,null,null,null,null,null,"",0,"","",0,"","",null,null,"",0,"","",0,"","",null,null,"",0,"","",0,"","",null,null,"",""]
[null,"",null,null,{"$f":"IF(D710=\"\",\"\",C710/D710)","v":""},"","",null,0,"","","","","",null,null,null,null,null,null,null,null,null,null,null,null,null,null,null,null,null,null,"",0,"","",0,"","",null,null,"",0,"","",0,"","",null,null,"",0,"","",0,"","",null,null,"",""]
[null,"",null,null,{"$f":"IF(D711=\"\",\"\",C711/D711)","v":""},"","",null,0,"","","","",""]

{"sheet":"P_Chart","index":6,"n_rows":711,"n_cols":61,"rows_kept":711,"cut":false,"hidden":false,"merged":[[9,4,10,4],[9,6,10,6],[5,0,5,1],[6,0,6,1],[7,0,7,1],[8,0,8,1],[10,0,10,1],[9,0,9,1],[5,2,5,3],[6,2,6,3],[7,2,7,3],[8,2,8,3],[9,2,9,3],[10,2,10,3],[7,7,7,8],[1,0,1,25],[4,7,4,8],[4,4,4,6],[3,16,3,19],[3,0,3,8],[4,0,4,1],[4,2,4,3]]}
[]
["       P Chart (with subgroup size remains constant)",null,null,null,null,null,null,null,null,null,null,null,null,null,null,null,null,null,null,null,null,null,null,null,null,null,null,null,null,null,null,null,null,null,null,null,null,null,null,null,""]
[]
["Control Chart Details:",null,null,null,null,null,null,null,null,null,null,null,null,null,null,null,"Out-Of-Control Process: Sensitization Rules"]
["Chart Type",null,"P Chart",null,"Data Point statistics",null,null,"DEFINE SPECIFICATION LIMIT",null,null,null,null,null,null,null,null,"Rule - 1","Rule - 2","Rule - 3","Rule - 4"]
["Distribution followed","Distribution followed","Binomial",null,"SAMPLE SIZE",null,{"$f":"SUM(D14:D712*J14:J712)","v":28},"Upper Spec. (USL)",1.5,null,null,null,null,null,null,null,"","","",""]
["Data Type","Data Type","Attribute",null,"MEAN (pBar)",null,{"$f":"IF(COUNT(E14:E710)=0,\"-\",AVERAGEIF(J14:J711,\"1\",E14:E711))","v":0.95555555555555549},"Lower Spec. (LSL)",0.8]
["Sample or Subgroup size ","Sample or Subgroup size ","Equal Sized",null,"MEAN (1-p)",null,{"$f":"IF(COUNT(F14:F711)=0,\"-\",AVERAGEIF(J14:J711,\"1\",F14:F711))","v":4.4444444444444432E-2},"PROCESS CAPABILITY (Select this cell to view HELP)",null,null,null,null,null,null,null,{"$f":"ROUND(((I6-I7)/(6*(STDEV($P$14:$P$711)))),3)","v":1.323}]
["Sub Process Identified","Sub Process Identified",null,null,"Intial Data Points\n(for Freezing Baselines)",null,9,{"$f":"IF(COUNTBLANK(I6:I7)>0,\"Cp = need spec. limit\",\"Cp\"&\" = \"&ROUND(((I6-I7)/(6*(STDEV($P$14:$P$711)))), 3))","v":"Cp = 1.323"},{"$f":"IF(COUNTBLANK(I6)>0,\"need spec. limit\",\"Cpu\"&\" = \"&ROUND(((I6-$G$7)/(3*(STDEV($P$14:$P$711)))), 3))","v":"Cpu = 2.058"},null,null,null,null,null,null,{"$f":"IF(COUNTBLANK(I6)>0,\"need spec. limit\",ROUND(((I6-$G$7)/(3*(STDEV($P$14:$P$711)))), 3))","v":2.0579999999999998}]
["Basis of Sub Process selection",null,"Derived from PPM (Sensitivity Analysis)",null,"Revise Contril Limit",null,"Please use separate sheet for revise control limit",{"$f":"\"Cpk\"&\" = \"&MIN(P9:P10)","v":"Cpk = 0.588"},{"$f":"IF(COUNTBLANK(I7)>0,\"need spec. limit\",\"Cpl\"&\" = \"&ROUND(((G7-I7)/(3*(STDEV($P$14:$P$711)))), 3))","v":"Cpl = 0.588"},null,null,null,null,null,null,{"$f":"IF(COUNTBLANK(I7)>0,\"need spec. limit\",ROUND(((G7-I7)/(3*(STDEV($P$14:$P$711)))), 3))","v":0.58799999999999997},null,null,null,null,null,null,null,null,null,null,null,null,null,null,null,null,"Rule 2",null,null,null,null,null,null,null,null,"Rule 3",null,null,null,null,null,null,null,null,"Rule 4",null,null,null,null,null,null,null,null,"Rule 1"]
["Metrics Used",null,null,null,null,null,null,null,null,null,null,null,null,null,null,null,null,null,null,null,null,null,null,null,null,null,null,null,null,null,null,null,null,null,null,null,null,null,"Rule 1",null,null,null,null,null,null,null,null,"Rule 1",null,null,null,null,null,null,null,null,"Rule 1"]
[null,null,null,null,null,null,null,null,null,null,null,null,null,null,null,null,null,null,null,null,null,null,null,null,null,null,null,null,null,null,null,null,null,null,null,null,null,null,"Rule 1",null,null,null,null,null,null,null,null,"Rule 1",null,null,null,null,null,null,null,null,"Rule 1"]
["Date of Reporting","S. No.","PROBLEM MEETING SLA","TOTAL NO. OF PROBLEM","PROPORTIONAL","1-p","UCL","LCL","RCA for Out of Control Points",null,null,"pLCL","ppLCL","pUCL","ppUCL","App. STDEV",null,null,null,null,null,null,null,null,null,null,null,null,null,null,null,null,"Between +2 to +3",null,null,"Between -2 to -3",null,null,"Rule 2",null,null,"Between +1 to +3",null,null,"Between -1 to -3",null,null,"Rule 3",null,null,"Between CL to +3",null,null,"Between CL to -3",null,null,"Rule 3",null,null,"Between -3 to +3","Rule 1"]
["2011-02-01",{"$f":"IF(C14=\"\",\"\",1)","v":1},3,3,{"$f":"IF(D14=\"\",\"\",C14/D14)","v":1},{"$f":"IF(Table13[[#This Row],[PROPORTIONAL]]=\"\", \"\", (ABS(1-Table13[[#This Row],[PROPORTIONAL]])))","v":0},{"$f":"IF(D14=\"\",\"\",$G$7+3*(SQRT(($G$7*(ABS(1-$G$7)))/D14)))","v":1.3124972978713116},{"$f":"IF(D14=\"\",\"\",IF($G$7-3*(SQRT(($G$7*(ABS(1-$G$7)))/D14))<0,0,$G$7-3*(SQRT(($G$7*(ABS(1-$G$7)))/D14))))","v":0.59861381323979945},null,{"$f":"IF(B14>$G$9,0,1)","v":1},{"$f":"IF(H14=\"\",\"\",$G$7)","v":0.95555555555555549},{"$f":"IF(D14=\"\",\"\",IF($G$7-1*(SQRT(($G$7*(ABS(1-$G$7)))/D14))<0,0,$G$7-1*(SQRT(($G$7*(ABS(1-$G$7)))/D14))))","v":0.83657497478363685},{"$f":"IF(D14=\"\",\"\",IF($G$7-2*(SQRT(($G$7*(ABS(1-$G$7)))/D14))<0,0,$G$7-2*(SQRT(($G$7*(ABS(1-$G$7)))/D14))))","v":0.71759439401171821},{"$f":"IF(D14=\"\",\"\",$G$7+1*(SQRT(($G$7*(ABS(1-$G$7)))/D14)))","v":1.0745361363274741},{"$f":"IF(D14=\"\",\"\",$G$7+2*(SQRT(($G$7*(ABS(1-$G$7)))/D14)))","v":1.1935167170993928},{"$f":"IF(J14=1, E14, \"\")","v":1},null,null,null,null,null,null,null,null,null,null,null,null,null,null,null,null,{"$f":"IF(E14=\"\",\"\",IF(AND(E14>=O14,E14<G14),1,0))","v":0},{"$f":"SUM(AG14:AG16)","v":0},{"$f":"IF(AH15=2,\"\",IF(AH14>=2,CONCATENATE(\"Data Point \",B14,\" to \",\"Data Point \",(B14+2)),\"\"))","v":""},{"$f":"IF(E14=\"\",\"\",IF(AND(E14<=M14,E14>H14),1,0))","v":0},{"$f":"SUM(AJ14:AJ16)","v":0},{"$f":"IF(AK15=2,\"\",IF(AK14>=2,CONCATENATE(\"Data Point \",B14,\" to \",\"Data Point \",(B14+2)),\"\"))","v":""},{"$f":"IF(AND(AI14<>\"\",AL14=\"\"),AI14,IF(AND(AI14=\"\",AL14<>\"\"),AL14,IF(AND(AI14<>\"\",AL14<>\"\"),AI14,\"\")))","v":""},null,null,{"$f":"IF(E14=\"\",\"\",IF(AND(E14>=N14,E14<G14),1,0))","v":0},{"$f":"SUM(AP14:AP18)","v":0},{"$f":"IF(AQ15=4,\"\",IF(AQ14>=4,CONCATENATE(\"Data Point \",B14,\" to \",\"Data Point \",(B14+4)),\"\"))","v":""},{"$f":"IF(E14=\"\",\"\",IF(AND(E14<=L14,E14>H14),1,0))","v":0},{"$f":"SUM(AS14:AS18)","v":1},{"$f":"IF(AT15=4,\"\",IF(AT14>=4,CONCATENATE(\"Data Point \",B14,\" to \",\"Data Point \",(B14+4)),\"\"))","v":""},{"$f":"IF(AND(AR14<>\"\",AU14=\"\"),AR14,IF(AND(AR14=\"\",AU14<>\"\"),AU14,IF(AND(AR14<>\"\",AU14<>\"\"),AR14,\"\")))","v":""},null,null,{"$f":"IF(E14=\"\",\"\",IF(AND(E14>=K14,E14<G14),1,0))","v":1},{"$f":"SUM(AY14:AY21)","v":6},{"$f":"IF(AZ15=8, \"\", IF(AZ14=8,CONCATENATE(\"Data Point \",B14,\" to \",\"Data Point \",(B14+8)),\"\"))","v":""},{"$f":"IF(E14=\"\",\"\",IF(AND(E14<=K14,E14>H14),1,0))","v":0},{"$f":"SUM(BB14:BB21)","v":2},{"$f":"IF(BC15=8, \"\", IF(BC14=8,CONCATENATE(\"Data Point \",B14,\" to \",\"Data Point \",(B14+8)),\"\"))","v":""},{"$f":"IF(AND(BA14<>\"\",BD14=\"\"),BA14,IF(AND(BA14=\"\",BD14<>\"\"),BD14,IF(AND(BA14<>\"\",BD14<>\"\"),BA14,\"\")))","v":""},null,null,{"$f":"IF(E14=\"\",\"\",IF(OR(E14>G14,E14<H14),1,0))","v":0},{"$f":"IF(BH14=1,CONCATENATE(\"Data Point \",B14),\"\")","v":""}]
["2011-02-10",{"$f":"IF(C15=\"\",\"\",B14+1)","v":2},4,5,{"$f":"IF(D15=\"\",\"\",C15/D15)","v":0.8},{"$f":"IF(Table13[[#This Row],[PROPORTIONAL]]=\"\", \"\", (ABS(1-Table13[[#This Row],[PROPORTIONAL]])))","v":0.19999999999999996},1.232041440266592,0.67906967084451897,null,{"$f":"IF(B15>$G$9,0,1)","v":1},0.95555555555555549,0.86339359398520998,0.77123163241486448,1.047717517125901,1.1398794786962465,{"$f":"IF(J15=1, E15, \"\")","v":0.8},null,null,null,null,null,null,null,null,null,null,null,null,null,null,null,null,{"$f":"IF(E15=\"\",\"\",IF(AND(E15>=O15,E15<G15),1,0))","v":0},{"$f":"SUM(AG15:AG17)","v":0},{"$f":"IF(AH16=2,\"\",IF(AH15>=2,CONCATENATE(\"Data Point \",B15,\" to \",\"Data Point \",(B15+2)),\"\"))","v":""},{"$f":"IF(E15=\"\",\"\",IF(AND(E15<=M15,E15>H15),1,0))","v":0},{"$f":"SUM(AJ15:AJ17)","v":0},"",{"$f":"IF(AND(AI15<>\"\",AL15=\"\"),AI15,IF(AND(AI15=\"\",AL15<>\"\"),AL15,IF(AND(AI15<>\"\",AL15<>\"\"),AI15,\"\")))","v":""},null,null,{"$f":"IF(E15=\"\",\"\",IF(AND(E15>=N15,E15<G15),1,0))","v":0},{"$f":"SUM(AP15:AP19)","v":0},{"$f":"IF(AQ16=4,\"\",IF(AQ15>=4,CONCATENATE(\"Data Point \",B15,\" to \",\"Data Point \",(B15+4)),\"\"))","v":""},{"$f":"IF(E15=\"\",\"\",IF(AND(E15<=L15,E15>H15),1,0))","v":1},1,"","",null,null,{"$f":"IF(E15=\"\",\"\",IF(AND(E15>=K15,E15<G15),1,0))","v":0},6,{"$f":"IF(AZ16=8, \"\", IF(AZ15=8,CONCATENATE(\"Data Point \",B15,\" to \",\"Data Point \",(B15+8)),\"\"))","v":""},{"$f":"IF(E15=\"\",\"\",IF(AND(E15<=K15,E15>H15),1,0))","v":1},2,{"$f":"IF(BC16=8, \"\", IF(BC15=8,CONCATENATE(\"Data Point \",B15,\" to \",\"Data Point \",(B15+8)),\"\"))","v":""},"",null,null,{"$f":"IF(E15=\"\",\"\",IF(OR(E15>G15,E15<H15),1,0))","v":0},{"$f":"IF(BH15=1,CONCATENATE(\"Data Point \",B15),\"\")","v":""}]
["2011-03-01",{"$f":"IF(C16=\"\",\"\",B15+1)","v":3},2,2,1,{"$f":"IF(Table13[[#This Row],[PROPORTIONAL]]=\"\", \"\", (ABS(1-Table13[[#This Row],[PROPORTIONAL]])))","v":0},1.3927181238423558,0.51839298726875516,null,1,0.95555555555555549,0.80983469945995534,0.66411384336435519,1.1012764116511555,1.2469972677467558,1,null,null,null,null,null,null,null,null,null,null,null,null,null,null,null,null,0,0,"",0,0,"","",null,null,0,0,"",0,1,"","",null,null,1,6,"",0,1,"","",null,null,0,""]
["2011-03-10",4,3,3,1,{"$f":"IF(Table13[[#This Row],[PROPORTIONAL]]=\"\", \"\", (ABS(1-Table13[[#This Row],[PROPORTIONAL]])))","v":0},1.3124972978713116,0.59861381323979945,null,1,0.95555555555555549,0.83657497478363685,0.71759439401171821,1.0745361363274741,1.1935167170993928,1,null,null,null,null,null,null,null,null,null,null,null,null,null,null,null,null,0,0,"",0,0,"","",null,null,0,0,"",0,1,"","",null,null,1,5,"",0,1,"","",null,null,0,""]
["2011-04-01",5,2,2,1,{"$f":"IF(Table13[[#This Row],[PROPORTIONAL]]=\"\", \"\", (ABS(1-Table13[[#This Row],[PROPORTIONAL]])))","v":0},1.3927181238423558,0.51839298726875516,null,1,0.95555555555555549,0.80983469945995534,0.66411384336435519,1.1012764116511555,1.2469972677467558,1,null,null,null,null,null,null,null,null,null,null,null,null,null,null,null,null,0,0,"",0,0,"","",null,null,0,0,"",0,1,"","",null,null,1,4,"",0,1,"","",null,null,0,""]
["2011-04-10",6,2,2,1,{"$f":"IF(Table13[[#This Row],[PROPORTIONAL]]=\"\", \"\", (ABS(1-Table13[[#This Row],[PROPORTIONAL]])))","v":0},1.3927181238423558,0.51839298726875516,null,1,0.95555555555555549,0.80983469945995534,0.66411384336435519,1.1012764116511555,1.2469972677467558,1,null,null,null,null,null,null,null,null,null,null,null,null,null,null,null,null,0,0,"",0,0,"","",null,null,0,0,"",0,1,"","",null,null,1,3,"",0,1,"","",null,null,0,""]
["2011-05-10",7,4,5,0.8,{"$f":"IF(Table13[[#This Row],[PROPORTIONAL]]=\"\", \"\", (ABS(1-Table13[[#This Row],[PROPORTIONAL]])))","v":0.19999999999999996},1.232041440266592,0.67906967084451897,null,1,0.95555555555555549,0.86339359398520998,0.77123163241486448,1.047717517125901,1.1398794786962465,0.8,null,null,null,null,null,null,null,null,null,null,null,null,null,null,null,null,0,0,"",0,0,"","",null,null,0,0,"",1,1,"","",null,null,0,2,"",1,1,"","",null,null,0,""]
["2011-06-10",8,3,3,1,{"$f":"IF(Table13[[#This Row],[PROPORTIONAL]]=\"\", \"\", (ABS(1-Table13[[#This Row],[PROPORTIONAL]])))","v":0},1.3124972978713116,0.59861381323979945,null,1,0.95555555555555549,0.83657497478363685,0.71759439401171821,1.0745361363274741,1.1935167170993928,1,null,null,null,null,null,null,null,null,null,null,null,null,null,null,null,null,0,0,"",0,0,"","",null,null,0,0,"",0,0,"","",null,null,1,2,"",0,0,"","",null,null,0,""]
["2011-07-10",9,3,3,1,{"$f":"IF(Table13[[#This Row],[PROPORTIONAL]]=\"\", \"\", (ABS(1-Table13[[#This Row],[PROPORTIONAL]])))","v":0},1.3124972978713116,0.59861381323979945,null,1,0.95555555555555549,0.83657497478363685,0.71759439401171821,1.0745361363274741,1.1935167170993928,1,null,null,null,null,null,null,null,null,null,null,null,null,null,null,null,null,0,0,"",0,0,"","",null,null,0,0,"",0,0,"","",null,null,1,1,"",0,0,"","",null,null,0,""]
[null,"",null,null,"",{"$f":"IF(Table13[[#This Row],[PROPORTIONAL]]=\"\", \"\", (ABS(1-Table13[[#This Row],[PROPORTIONAL]])))","v":""},"","",null,0,"","","","","","",null,null,null,null,null,null,null,null,null,null,null,null,null,null,null,null,"",0,"","",0,"","",null,null,"",0,"","",0,"","",null,null,"",0,"","",0,"","",null,null,"",""]
[null,"",null,null,"",{"$f":"IF(Table13[[#This Row],[PROPORTIONAL]]=\"\", \"\", (ABS(1-Table13[[#This Row],[PROPORTIONAL]])))","v":""},"","",null,0,"","","","","","",null,null,null,null,null,null,null,null,null,null,null,null,null,null,null,null,"",{"$f":"SUM(AG24:AG26)","v":0},"","",0,"","",null,null,"",0,"","",0,"","",null,null,"",0,"","",0,"","",null,null,"",""]
[null,"",null,null,"",{"$f":"IF(Table13[[#This Row],[PROPORTIONAL]]=\"\", \"\", (ABS(1-Table13[[#This Row],[PROPORTIONAL]])))","v":""},"","",null,0,"","","","","","",null,null,null,null,null,null,null,null,null,null,null,null,null,null,null,null,"",0,"","",0,"","",null,null,"",0,"","",0,"","",null,null,"",0,"","",0,"","",null,null,"",""]
[null,"",null,null,"",{"$f":"IF(Table13[[#This Row],[PROPORTIONAL]]=\"\", \"\", (ABS(1-Table13[[#This Row],[PROPORTIONAL]])))","v":""},"","",null,0,"","","","","","",null,null,null,null,null,null,null,null,null,null,null,null,null,null,null,null,"",0,"","",0,"","",null,null,"",0,"","",0,"","",null,null,"",0,"","",0,"","",null,null,"",""]
[null,"",null,null,"",{"$f":"IF(Table13[[#This Row],[PROPORTIONAL]]=\"\", \"\", (ABS(1-Table13[[#This Row],[PROPORTIONAL]])))","v":""},"","",null,0,"","","","","","",null,null,null,null,null,null,null,null,null,null,null,null,null,null,null,null,"",0,"","",0,"","",null,null,"",0,"","",0,"","",null,null,"",0,"","",0,"","",null,null,"",""]
[null,"",null,null,"",{"$f":"IF(Table13[[#This Row],[PROPORTIONAL]]=\"\", \"\", (ABS(1-Table13[[#This Row],[PROPORTIONAL]])))","v":""},"","",null,0,"","","","","","",null,null,null,null,null,null,null,null,null,null,null,null,null,null,null,null,"",0,"","",0,"","",null,null,"",0,"","",0,"","",null,null,"",0,"","",0,"","",null,null,"",""]
[null,"",null,null,"",{"$f":"IF(Table13[[#This Row],[PROPORTIONAL]]=\"\", \"\", (ABS(1-Table13[[#This Row],[PROPORTIONAL]])))","v":""},"","",null,0,"","","","","","",null,null,null,null,null,null,null,null,null,null,null,null,null,null,null,null,"",0,"","",0,"","",null,null,"",0,"","",0,"","",null,null,"",0,"","",0,"","",null,null,"",""]
[null,"",null,null,"",{"$f":"IF(Table13[[#This Row],[PROPORTIONAL]]=\"\", \"\", (ABS(1-Table13[[#This Row],[PROPORTIONAL]])))","v":""},"","",null,0,"","","","","","",null,null,null,null,null,null,null,null,null,null,null,null,null,null,null,null,"",0,"","",0,"","",null,null,"",0,"","",0,"","",null,null,"",0,"","",0,"","",null,null,"",""]
[null,"",null,null,"",{"$f":"IF(Table13[[#This Row],[PROPORTIONAL]]=\"\", \"\", (ABS(1-Table13[[#This Row],[PROPORTIONAL]])))","v":""},"","",null,0,"","","","","","",null,null,null,null,null,null,null,null,null,null,null,null,null,null,null,null,"",0,"","",0,"","",null,null,"",0,"","",0,"","",null,null,"",0,"","",0,"","",null,null,"",""]
[null,"",null,null,"",{"$f":"IF(Table13[[#This Row],[PROPORTIONAL]]=\"\", \"\", (ABS(1-Table13[[#This Row],[PROPORTIONAL]])))","v":""},"","",null,0,"","","","","","",null,null,null,null,null,null,null,null,null,null,null,null,null,null,null,null,"",0,"","",0,"","",null,null,"",0,"","",0,"","",null,null,"",0,"","",0,"","",null,null,"",""]
[null,"",null,null,"",{"$f":"IF(Table13[[#This Row],[PROPORTIONAL]]=\"\", \"\", (ABS(1-Table13[[#This Row],[PROPORTIONAL]])))","v":""},"","",null,0,"","","","","","",null,null,null,null,null,null,null,null,null,null,null,null,null,null,null,null,"",0,"","",0,"","",null,null,"",0,"","",0,"","",null,null,"",0,"","",0,"","",null,null,"",""]
[null,"",null,null,"",{"$f":"IF(Table13[[#This Row],[PROPORTIONAL]]=\"\", \"\", (ABS(1-Table13[[#This Row],[PROPORTIONAL]])))","v":""},"","",null,0,"","","","","","",null,null,null,null,null,null,null,null,null,null,null,null,null,null,null,null,"",0,"","",0,"","",null,null,"",0,"","",0,"","",null,null,"",0,"","",0,"","",null,null,"",""]
[null,"",null,null,"",{"$f":"IF(Table13[[#This Row],[PROPORTIONAL]]=\"\", \"\", (ABS(1-Table13[[#This Row],[PROPORTIONAL]])))","v":""},"","",null,0,"","","","","","",null,null,null,null,null,null,null,null,null,null,null,null,null,null,null,null,"",0,"","",0,"","",null,null,"",0,"","",0,"","",null,null,"",0,"","",0,"","",null,null,"",""]
[null,"",null,null,"",{"$f":"IF(Table13[[#This Row],[PROPORTIONAL]]=\"\", \"\", (ABS(1-Table13[[#This Row],[PROPORTIONAL]])))","v":""},"","",null,0,"","","","","","",null,null,null,null,null,null,null,null,null,null,null,null,null,null,null,null,"",0,"","",0,"","",null,null,"",0,"","",0,"","",null,null,"",0,"","",0,"","",null,null,"",""]
[null,"",null,null,"",{"$f":"IF(Table13[[#This Row],[PROPORTIONAL]]=\"\", \"\", (ABS(1-Table13[[#This Row],[PROPORTIONAL]])))","v":""},"","",null,0,"","","","","","",null,null,null,null,null,null,null,null,null,null,null,null,null,null,null,null,"",0,"","",0,"","",null,null,"",0,"","",0,"","",null,null,"",0,"","",0,"","",null,null,"",""]
[null,"",null,null,"",{"$f":"IF(Table13[[#This Row],[PROPORTIONAL]]=\"\", \"\", (ABS(1-Table13[[#This Row],[PROPORTIONAL]])))","v":""},"","",null,0,"","","","","","",null,null,null,null,null,null,null,null,null,null,null,null,null,null,null,null,"",0,"","",0,"","",null,null,"",0,"","",0,"","",null,null,"",0,"","",0,"","",null,null,"",""]
[null,"",null,null,"",{"$f":"IF(Table13[[#This Row],[PROPORTIONAL]]=\"\", \"\", (ABS(1-Table13[[#This Row],[PROPORTIONAL]])))","v":""},"","",null,0,"","","","","","",null,null,null,null,null,null,null,null,null,null,null,null,null,null,null,null,"",0,"","",0,"","",null,null,"",0,"","",0,"","",null,null,"",0,"","",0,"","",null,null,"",""]
[null,"",null,null,"",{"$f":"IF(Table13[[#This Row],[PROPORTIONAL]]=\"\", \"\", (ABS(1-Table13[[#This Row],[PROPORTIONAL]])))","v":""},"","",null,0,"","","","","","",null,null,null,null,null,null,null,null,null,null,null,null,null,null,null,null,"",0,"","",0,"","",null,null,"",0,"","",0,"","",null,null,"",0,"","",0,"","",null,null,"",""]
[null,"",null,null,"",{"$f":"IF(Table13[[#This Row],[PROPORTIONAL]]=\"\", \"\", (ABS(1-Table13[[#This Row],[PROPORTIONAL]])))","v":""},"","",null,0,"","","","","","",null,null,null,null,null,null,null,null,null,null,null,null,null,null,null,null,"",0,"","",0,"","",null,null,"",0,"","",0,"","",null,null,"",0,"","",0,"","",null,null,"",""]
[null,"",null,null,"",{"$f":"IF(Table13[[#This Row],[PROPORTIONAL]]=\"\", \"\", (ABS(1-Table13[[#This Row],[PROPORTIONAL]])))","v":""},"","",null,0,"","","","","","",null,null,null,null,null,null,null,null,null,null,null,null,null,null,null,null,"",0,"","",0,"","",null,null,"",0,"","",0,"","",null,null,"",0,"","",0,"","",null,null,"",""]
[null,"",null,null,"",{"$f":"IF(Table13[[#This Row],[PROPORTIONAL]]=\"\", \"\", (ABS(1-Table13[[#This Row],[PROPORTIONAL]])))","v":""},"","",null,0,"","","","","","",null,null,null,null,null,null,null,null,null,null,null,null,null,null,null,null,"",0,"","",0,"","",null,null,"",0,"","",0,"","",null,null,"",0,"","",0,"","",null,null,"",""]
[null,"",null,null,"",{"$f":"IF(Table13[[#This Row],[PROPORTIONAL]]=\"\", \"\", (ABS(1-Table13[[#This Row],[PROPORTIONAL]])))","v":""},"","",null,0,"","","","","","",null,null,null,null,null,null,null,null,null,null,null,null,null,null,null,null,"",0,"","",0,"","",null,null,"",0,"","",0,"","",null,null,"",0,"","",0,"","",null,null,"",""]
[null,"",null,null,"",{"$f":"IF(Table13[[#This Row],[PROPORTIONAL]]=\"\", \"\", (ABS(1-Table13[[#This Row],[PROPORTIONAL]])))","v":""},"","",null,0,"","","","","","",null,null,null,null,null,null,null,null,null,null,null,null,null,null,null,null,"",0,"","",0,"","",null,null,"",0,"","",0,"","",null,null,"",0,"","",0,"","",null,null,"",""]
[null,"",null,null,"",{"$f":"IF(Table13[[#This Row],[PROPORTIONAL]]=\"\", \"\", (ABS(1-Table13[[#This Row],[PROPORTIONAL]])))","v":""},"","",null,0,"","","","","","",null,null,null,null,null,null,null,null,null,null,null,null,null,null,null,null,"",0,"","",0,"","",null,null,"",0,"","",0,"","",null,null,"",0,"","",0,"","",null,null,"",""]
[null,"",null,null,"",{"$f":"IF(Table13[[#This Row],[PROPORTIONAL]]=\"\", \"\", (ABS(1-Table13[[#This Row],[PROPORTIONAL]])))","v":""},"","",null,0,"","","","","","",null,null,null,null,null,null,null,null,null,null,null,null,null,null,null,null,"",0,"","",0,"","",null,null,"",0,"","",0,"","",null,null,"",0,"","",0,"","",null,null,"",""]
[null,"",null,null,"",{"$f":"IF(Table13[[#This Row],[PROPORTIONAL]]=\"\", \"\", (ABS(1-Table13[[#This Row],[PROPORTIONAL]])))","v":""},"","",null,0,"","","","","","",null,null,null,null,null,null,null,null,null,null,null,null,null,null,null,null,"",0,"","",0,"","",null,null,"",0,"","",0,"","",null,null,"",0,"","",0,"","",null,null,"",""]
[null,"",null,null,"",{"$f":"IF(Table13[[#This Row],[PROPORTIONAL]]=\"\", \"\", (ABS(1-Table13[[#This Row],[PROPORTIONAL]])))","v":""},"","",null,0,"","","","","","",null,null,null,null,null,null,null,null,null,null,null,null,null,null,null,null,"",0,"","",0,"","",null,null,"",0,"","",0,"","",null,null,"",0,"","",0,"","",null,null,"",""]
[null,"",null,null,"",{"$f":"IF(Table13[[#This Row],[PROPORTIONAL]]=\"\", \"\", (ABS(1-Table13[[#This Row],[PROPORTIONAL]])))","v":""},"","",null,0,"","","","","","",null,null,null,null,null,null,null,null,null,null,null,null,null,null,null,null,"",0,"","",0,"","",null,null,"",0,"","",0,"","",null,null,"",0,"","",0,"","",null,null,"",""]
[null,"",null,null,"",{"$f":"IF(Table13[[#This Row],[PROPORTIONAL]]=\"\", \"\", (ABS(1-Table13[[#This Row],[PROPORTIONAL]])))","v":""},"","",null,0,"","","","","","",null,null,null,null,null,null,null,null,null,null,null,null,null,null,null,null,"",0,"","",0,"","",null,null,"",0,"","",0,"","",null,null,"",0,"","",0,"","",null,null,"",""]
[null,"",null,null,"",{"$f":"IF(Table13[[#This Row],[PROPORTIONAL]]=\"\", \"\", (ABS(1-Table13[[#This Row],[PROPORTIONAL]])))","v":""},"","",null,0,"","","","","","",null,null,null,null,null,null,null,null,null,null,null,null,null,null,null,null,"",0,"","",0,"","",null,null,"",0,"","",0,"","",null,null,"",0,"","",0,"","",null,null,"",""]
[null,"",null,null,"",{"$f":"IF(Table13[[#This Row],[PROPORTIONAL]]=\"\", \"\", (ABS(1-Table13[[#This Row],[PROPORTIONAL]])))","v":""},"","",null,0,"","","","","","",null,null,null,null,null,null,null,null,null,null,null,null,null,null,null,null,"",0,"","",0,"","",null,null,"",0,"","",0,"","",null,null,"",0,"","",0,"","",null,null,"",""]
[null,"",null,null,"",{"$f":"IF(Table13[[#This Row],[PROPORTIONAL]]=\"\", \"\", (ABS(1-Table13[[#This Row],[PROPORTIONAL]])))","v":""},"","",null,0,"","","","","","",null,null,null,null,null,null,null,null,null,null,null,null,null,null,null,null,"",0,"","",0,"","",null,null,"",0,"","",0,"","",null,null,"",0,"","",0,"","",null,null,"",""]
[null,"",null,null,"",{"$f":"IF(Table13[[#This Row],[PROPORTIONAL]]=\"\", \"\", (ABS(1-Table13[[#This Row],[PROPORTIONAL]])))","v":""},"","",null,0,"","","","","","",null,null,null,null,null,null,null,null,null,null,null,null,null,null,null,null,"",0,"","",0,"","",null,null,"",0,"","",0,"","",null,null,"",0,"","",0,"","",null,null,"",""]
[null,"",null,null,"",{"$f":"IF(Table13[[#This Row],[PROPORTIONAL]]=\"\", \"\", (ABS(1-Table13[[#This Row],[PROPORTIONAL]])))","v":""},"","",null,0,"","","","","","",null,null,null,null,null,null,null,null,null,null,null,null,null,null,null,null,"",0,"","",0,"","",null,null,"",0,"","",0,"","",null,null,"",0,"","",0,"","",null,null,"",""]
[null,"",null,null,"",{"$f":"IF(Table13[[#This Row],[PROPORTIONAL]]=\"\", \"\", (ABS(1-Table13[[#This Row],[PROPORTIONAL]])))","v":""},"","",null,0,"","","","","","",null,null,null,null,null,null,null,null,null,null,null,null,null,null,null,null,"",0,"","",0,"","",null,null,"",0,"","",0,"","",null,null,"",0,"","",0,"","",null,null,"",""]
[null,"",null,null,"",{"$f":"IF(Table13[[#This Row],[PROPORTIONAL]]=\"\", \"\", (ABS(1-Table13[[#This Row],[PROPORTIONAL]])))","v":""},"","",null,0,"","","","","","",null,null,null,null,null,null,null,null,null,null,null,null,null,null,null,null,"",0,"","",0,"","",null,null,"",0,"","",0,"","",null,null,"",0,"","",0,"","",null,null,"",""]
[null,"",null,null,"",{"$f":"IF(Table13[[#This Row],[PROPORTIONAL]]=\"\", \"\", (ABS(1-Table13[[#This Row],[PROPORTIONAL]])))","v":""},"","",null,0,"","","","","","",null,null,null,null,null,null,null,null,null,null,null,null,null,null,null,null,"",0,"","",0,"","",null,null,"",0,"","",0,"","",null,null,"",0,"","",0,"","",null,null,"",""]
[null,"",null,null,"",{"$f":"IF(Table13[[#This Row],[PROPORTIONAL]]=\"\", \"\", (ABS(1-Table13[[#This Row],[PROPORTIONAL]])))","v":""},"","",null,0,"","","","","","",null,null,null,null,null,null,null,null,null,null,null,null,null,null,null,null,"",0,"","",0,"","",null,null,"",0,"","",0,"","",null,null,"",0,"","",0,"","",null,null,"",""]
[null,"",null,null,"",{"$f":"IF(Table13[[#This Row],[PROPORTIONAL]]=\"\", \"\", (ABS(1-Table13[[#This Row],[PROPORTIONAL]])))","v":""},"","",null,0,"","","","","","",null,null,null,null,null,null,null,null,null,null,null,null,null,null,null,null,"",0,"","",0,"","",null,null,"",0,"","",0,"","",null,null,"",0,"","",0,"","",null,null,"",""]
[null,"",null,null,"",{"$f":"IF(Table13[[#This Row],[PROPORTIONAL]]=\"\", \"\", (ABS(1-Table13[[#This Row],[PROPORTIONAL]])))","v":""},"","",null,0,"","","","","","",null,null,null,null,null,null,null,null,null,null,null,null,null,null,null,null,"",0,"","",0,"","",null,null,"",0,"","",0,"","",null,null,"",0,"","",0,"","",null,null,"",""]
[null,"",null,null,"",{"$f":"IF(Table13[[#This Row],[PROPORTIONAL]]=\"\", \"\", (ABS(1-Table13[[#This Row],[PROPORTIONAL]])))","v":""},"","",null,0,"","","","","","",null,null,null,null,null,null,null,null,null,null,null,null,null,null,null,null,"",0,"","",0,"","",null,null,"",0,"","",0,"","",null,null,"",0,"","",0,"","",null,null,"",""]
[null,"",null,null,"",{"$f":"IF(Table13[[#This Row],[PROPORTIONAL]]=\"\", \"\", (ABS(1-Table13[[#This Row],[PROPORTIONAL]])))","v":""},"","",null,0,"","","","","","",null,null,null,null,null,null,null,null,null,null,null,null,null,null,null,null,"",0,"","",0,"","",null,null,"",0,"","",0,"","",null,null,"",0,"","",0,"","",null,null,"",""]
[null,"",null,null,"",{"$f":"IF(Table13[[#This Row],[PROPORTIONAL]]=\"\", \"\", (ABS(1-Table13[[#This Row],[PROPORTIONAL]])))","v":""},"","",null,0,"","","","","","",null,null,null,null,null,null,null,null,null,null,null,null,null,null,null,null,"",0,"","",0,"","",null,null,"",0,"","",0,"","",null,null,"",0,"","",0,"","",null,null,"",""]
[null,"",null,null,"",{"$f":"IF(Table13[[#This Row],[PROPORTIONAL]]=\"\", \"\", (ABS(1-Table13[[#This Row],[PROPORTIONAL]])))","v":""},"","",null,0,"","","","","","",null,null,null,null,null,null,null,null,null,null,null,null,null,null,null,null,"",0,"","",0,"","",null,null,"",0,"","",0,"","",null,null,"",0,"","",0,"","",null,null,"",""]
[null,"",null,null,"",{"$f":"IF(Table13[[#This Row],[PROPORTIONAL]]=\"\", \"\", (ABS(1-Table13[[#This Row],[PROPORTIONAL]])))","v":""},"","",null,0,"","","","","","",null,null,null,null,null,null,null,null,null,null,null,null,null,null,null,null,"",0,"","",0,"","",null,null,"",0,"","",0,"","",null,null,"",0,"","",0,"","",null,null,"",""]
[null,"",null,null,"",{"$f":"IF(Table13[[#This Row],[PROPORTIONAL]]=\"\", \"\", (ABS(1-Table13[[#This Row],[PROPORTIONAL]])))","v":""},"","",null,0,"","","","","","",null,null,null,null,null,null,null,null,null,null,null,null,null,null,null,null,"",0,"","",0,"","",null,null,"",0,"","",0,"","",null,null,"",0,"","",0,"","",null,null,"",""]
[null,"",null,null,"",{"$f":"IF(Table13[[#This Row],[PROPORTIONAL]]=\"\", \"\", (ABS(1-Table13[[#This Row],[PROPORTIONAL]])))","v":""},"","",null,0,"","","","","","",null,null,null,null,null,null,null,null,null,null,null,null,null,null,null,null,"",0,"","",0,"","",null,null,"",0,"","",0,"","",null,null,"",0,"","",0,"","",null,null,"",""]
[null,"",null,null,"",{"$f":"IF(Table13[[#This Row],[PROPORTIONAL]]=\"\", \"\", (ABS(1-Table13[[#This Row],[PROPORTIONAL]])))","v":""},"","",null,0,"","","","","","",null,null,null,null,null,null,null,null,null,null,null,null,null,null,null,null,"",0,"","",0,"","",null,null,"",0,"","",0,"","",null,null,"",0,"","",0,"","",null,null,"",""]
[null,"",null,null,"",{"$f":"IF(Table13[[#This Row],[PROPORTIONAL]]=\"\", \"\", (ABS(1-Table13[[#This Row],[PROPORTIONAL]])))","v":""},"","",null,0,"","","","","","",null,null,null,null,null,null,null,null,null,null,null,null,null,null,null,null,"",0,"","",0,"","",null,null,"",0,"","",0,"","",null,null,"",0,"","",0,"","",null,null,"",""]
[null,"",null,null,"",{"$f":"IF(Table13[[#This Row],[PROPORTIONAL]]=\"\", \"\", (ABS(1-Table13[[#This Row],[PROPORTIONAL]])))","v":""},"","",null,0,"","","","","","",null,null,null,null,null,null,null,null,null,null,null,null,null,null,null,null,"",0,"","",0,"","",null,null,"",0,"","",0,"","",null,null,"",0,"","",0,"","",null,null,"",""]
[null,"",null,null,"",{"$f":"IF(Table13[[#This Row],[PROPORTIONAL]]=\"\", \"\", (ABS(1-Table13[[#This Row],[PROPORTIONAL]])))","v":""},"","",null,0,"","","","","","",null,null,null,null,null,null,null,null,null,null,null,null,null,null,null,null,"",0,"","",0,"","",null,null,"",0,"","",0,"","",null,null,"",0,"","",0,"","",null,null,"",""]
[null,"",null,null,"",{"$f":"IF(Table13[[#This Row],[PROPORTIONAL]]=\"\", \"\", (ABS(1-Table13[[#This Row],[PROPORTIONAL]])))","v":""},"","",null,0,"","","","","","",null,null,null,null,null,null,null,null,null,null,null,null,null,null,null,null,"",0,"","",0,"","",null,null,"",0,"","",0,"","",null,null,"",0,"","",0,"","",null,null,"",""]
[null,"",null,null,"",{"$f":"IF(Table13[[#This Row],[PROPORTIONAL]]=\"\", \"\", (ABS(1-Table13[[#This Row],[PROPORTIONAL]])))","v":""},"","",null,0,"","","","","","",null,null,null,null,null,null,null,null,null,null,null,null,null,null,null,null,"",0,"","",0,"","",null,null,"",0,"","",0,"","",null,null,"",0,"","",0,"","",null,null,"",""]
[null,"",null,null,"",{"$f":"IF(Table13[[#This Row],[PROPORTIONAL]]=\"\", \"\", (ABS(1-Table13[[#This Row],[PROPORTIONAL]])))","v":""},"","",null,0,"","","","","","",null,null,null,null,null,null,null,null,null,null,null,null,null,null,null,null,"",0,"","",0,"","",null,null,"",0,"","",0,"","",null,null,"",0,"","",0,"","",null,null,"",""]
[null,"",null,null,"",{"$f":"IF(Table13[[#This Row],[PROPORTIONAL]]=\"\", \"\", (ABS(1-Table13[[#This Row],[PROPORTIONAL]])))","v":""},"","",null,0,"","","","","","",null,null,null,null,null,null,null,null,null,null,null,null,null,null,null,null,"",0,"","",0,"","",null,null,"",0,"","",0,"","",null,null,"",0,"","",0,"","",null,null,"",""]
[null,"",null,null,"",{"$f":"IF(Table13[[#This Row],[PROPORTIONAL]]=\"\", \"\", (ABS(1-Table13[[#This Row],[PROPORTIONAL]])))","v":""},{"$f":"IF(D78=\"\",\"\",$G$7+3*(SQRT(($G$7*(ABS(1-$G$7)))/D78)))","v":""},{"$f":"IF(D78=\"\",\"\",IF($G$7-3*(SQRT(($G$7*(ABS(1-$G$7)))/D78))<0,0,$G$7-3*(SQRT(($G$7*(ABS(1-$G$7)))/D78))))","v":""},null,0,{"$f":"IF(H78=\"\",\"\",$G$7)","v":""},{"$f":"IF(D78=\"\",\"\",IF($G$7-1*(SQRT(($G$7*(ABS(1-$G$7)))/D78))<0,0,$G$7-1*(SQRT(($G$7*(ABS(1-$G$7)))/D78))))","v":""},{"$f":"IF(D78=\"\",\"\",IF($G$7-2*(SQRT(($G$7*(ABS(1-$G$7)))/D78))<0,0,$G$7-2*(SQRT(($G$7*(ABS(1-$G$7)))/D78))))","v":""},{"$f":"IF(D78=\"\",\"\",$G$7+1*(SQRT(($G$7*(ABS(1-$G$7)))/D78)))","v":""},{"$f":"IF(D78=\"\",\"\",$G$7+2*(SQRT(($G$7*(ABS(1-$G$7)))/D78)))","v":""},"",null,null,null,null,null,null,null,null,null,null,null,null,null,null,null,null,"",0,"","",0,{"$f":"IF(AK79=2,\"\",IF(AK78>=2,CONCATENATE(\"Data Point \",B78,\" to \",\"Data Point \",(B78+2)),\"\"))","v":""},"",null,null,"",0,"","",{"$f":"SUM(AS78:AS82)","v":0},{"$f":"IF(AT79=4,\"\",IF(AT78>=4,CONCATENATE(\"Data Point \",B78,\" to \",\"Data Point \",(B78+4)),\"\"))","v":""},{"$f":"IF(AND(AR78<>\"\",AU78=\"\"),AR78,IF(AND(AR78=\"\",AU78<>\"\"),AU78,IF(AND(AR78<>\"\",AU78<>\"\"),AR78,\"\")))","v":""},null,null,"",{"$f":"SUM(AY78:AY85)","v":0},"","",{"$f":"SUM(BB78:BB85)","v":0},"",{"$f":"IF(AND(BA78<>\"\",BD78=\"\"),BA78,IF(AND(BA78=\"\",BD78<>\"\"),BD78,IF(AND(BA78<>\"\",BD78<>\"\"),BA78,\"\")))","v":""},null,null,"",""]
[null,"",null,null,{"$f":"IF(D79=\"\",\"\",C79/D79)","v":""},{"$f":"IF(Table13[[#This Row],[PROPORTIONAL]]=\"\", \"\", (ABS(1-Table13[[#This Row],[PROPORTIONAL]])))","v":""},"","",null,{"$f":"IF(B79>$G$9,0,1)","v":0},"","","","","",{"$f":"IF(J79=1, E79, \"\")","v":""},null,null,null,null,null,null,null,null,null,null,null,null,null,null,null,null,{"$f":"IF(E79=\"\",\"\",IF(AND(E79>=O79,E79<G79),1,0))","v":""},{"$f":"SUM(AG79:AG81)","v":0},{"$f":"IF(AH80=2,\"\",IF(AH79>=2,CONCATENATE(\"Data Point \",B79,\" to \",\"Data Point \",(B79+2)),\"\"))","v":""},{"$f":"IF(E79=\"\",\"\",IF(AND(E79<=M79,E79>H79),1,0))","v":""},{"$f":"SUM(AJ79:AJ81)","v":0},"",{"$f":"IF(AND(AI79<>\"\",AL79=\"\"),AI79,IF(AND(AI79=\"\",AL79<>\"\"),AL79,IF(AND(AI79<>\"\",AL79<>\"\"),AI79,\"\")))","v":""},null,null,{"$f":"IF(E79=\"\",\"\",IF(AND(E79>=N79,E79<G79),1,0))","v":""},{"$f":"SUM(AP79:AP83)","v":0},{"$f":"IF(AQ80=4,\"\",IF(AQ79>=4,CONCATENATE(\"Data Point \",B79,\" to \",\"Data Point \",(B79+4)),\"\"))","v":""},{"$f":"IF(E79=\"\",\"\",IF(AND(E79<=L79,E79>H79),1,0))","v":""},0,"","",null,null,{"$f":"IF(E79=\"\",\"\",IF(AND(E79>=K79,E79<G79),1,0))","v":""},0,{"$f":"IF(AZ80=8, \"\", IF(AZ79=8,CONCATENATE(\"Data Point \",B79,\" to \",\"Data Point \",(B79+8)),\"\"))","v":""},{"$f":"IF(E79=\"\",\"\",IF(AND(E79<=K79,E79>H79),1,0))","v":""},0,{"$f":"IF(BC80=8, \"\", IF(BC79=8,CONCATENATE(\"Data Point \",B79,\" to \",\"Data Point \",(B79+8)),\"\"))","v":""},"",null,null,{"$f":"IF(E79=\"\",\"\",IF(OR(E79>G79,E79<H79),1,0))","v":""},{"$f":"IF(BH79=1,CONCATENATE(\"Data Point \",B79),\"\")","v":""}]
[null,{"$f":"IF(C80=\"\",\"\",B79+1)","v":""},null,null,"",{"$f":"IF(Table13[[#This Row],[PROPORTIONAL]]=\"\", \"\", (ABS(1-Table13[[#This Row],[PROPORTIONAL]])))","v":""},"","",null,0,"","","","","","",null,null,null,null,null,null,null,null,null,null,null,null,null,null,null,null,"",0,"","",0,"","",null,null,"",0,"","",0,"","",null,null,"",0,"","",0,"","",null,null,"",""]
[null,"",null,null,"",{"$f":"IF(Table13[[#This Row],[PROPORTIONAL]]=\"\", \"\", (ABS(1-Table13[[#This Row],[PROPORTIONAL]])))","v":""},"","",null,0,"","","","","","",null,null,null,null,null,null,null,null,null,null,null,null,null,null,null,null,"",0,"","",0,"","",null,null,"",0,"","",0,"","",null,null,"",0,"","",0,"","",null,null,"",""]
[null,"",null,null,"",{"$f":"IF(Table13[[#This Row],[PROPORTIONAL]]=\"\", \"\", (ABS(1-Table13[[#This Row],[PROPORTIONAL]])))","v":""},"","",null,0,"","","","","","",null,null,null,null,null,null,null,null,null,null,null,null,null,null,null,null,"",0,"","",0,"","",null,null,"",0,"","",0,"","",null,null,"",0,"","",0,"","",null,null,"",""]
[null,"",null,null,"",{"$f":"IF(Table13[[#This Row],[PROPORTIONAL]]=\"\", \"\", (ABS(1-Table13[[#This Row],[PROPORTIONAL]])))","v":""},"","",null,0,"","","","","","",null,null,null,null,null,null,null,null,null,null,null,null,null,null,null,null,"",0,"","",0,"","",null,null,"",0,"","",0,"","",null,null,"",0,"","",0,"","",null,null,"",""]
[null,"",null,null,"",{"$f":"IF(Table13[[#This Row],[PROPORTIONAL]]=\"\", \"\", (ABS(1-Table13[[#This Row],[PROPORTIONAL]])))","v":""},"","",null,0,"","","","","","",null,null,null,null,null,null,null,null,null,null,null,null,null,null,null,null,"",0,"","",0,"","",null,null,"",0,"","",0,"","",null,null,"",0,"","",0,"","",null,null,"",""]
[null,"",null,null,"",{"$f":"IF(Table13[[#This Row],[PROPORTIONAL]]=\"\", \"\", (ABS(1-Table13[[#This Row],[PROPORTIONAL]])))","v":""},"","",null,0,"","","","","","",null,null,null,null,null,null,null,null,null,null,null,null,null,null,null,null,"",0,"","",0,"","",null,null,"",0,"","",0,"","",null,null,"",0,"","",0,"","",null,null,"",""]
[null,"",null,null,"",{"$f":"IF(Table13[[#This Row],[PROPORTIONAL]]=\"\", \"\", (ABS(1-Table13[[#This Row],[PROPORTIONAL]])))","v":""},"","",null,0,"","","","","","",null,null,null,null,null,null,null,null,null,null,null,null,null,null,null,null,"",0,"","",0,"","",null,null,"",0,"","",0,"","",null,null,"",0,"","",0,"","",null,null,"",""]
[null,"",null,null,"",{"$f":"IF(Table13[[#This Row],[PROPORTIONAL]]=\"\", \"\", (ABS(1-Table13[[#This Row],[PROPORTIONAL]])))","v":""},"","",null,0,"","","","","","",null,null,null,null,null,null,null,null,null,null,null,null,null,null,null,null,"",0,"","",0,"","",null,null,"",0,"","",0,"","",null,null,"",0,"","",0,"","",null,null,"",""]
[null,"",null,null,"",{"$f":"IF(Table13[[#This Row],[PROPORTIONAL]]=\"\", \"\", (ABS(1-Table13[[#This Row],[PROPORTIONAL]])))","v":""},"","",null,0,"","","","","","",null,null,null,null,null,null,null,null,null,null,null,null,null,null,null,null,"",0,"","",0,"","",null,null,"",0,"","",0,"","",null,null,"",0,"","",0,"","",null,null,"",""]
[null,"",null,null,"",{"$f":"IF(Table13[[#This Row],[PROPORTIONAL]]=\"\", \"\", (ABS(1-Table13[[#This Row],[PROPORTIONAL]])))","v":""},"","",null,0,"","","","","","",null,null,null,null,null,null,null,null,null,null,null,null,null,null,null,null,"",0,"","",0,"","",null,null,"",0,"","",0,"","",null,null,"",0,"","",0,"","",null,null,"",""]
[null,"",null,null,"",{"$f":"IF(Table13[[#This Row],[PROPORTIONAL]]=\"\", \"\", (ABS(1-Table13[[#This Row],[PROPORTIONAL]])))","v":""},"","",null,0,"","","","","","",null,null,null,null,null,null,null,null,null,null,null,null,null,null,null,null,"",0,"","",0,"","",null,null,"",0,"","",0,"","",null,null,"",0,"","",0,"","",null,null,"",""]
[null,"",null,null,"",{"$f":"IF(Table13[[#This Row],[PROPORTIONAL]]=\"\", \"\", (ABS(1-Table13[[#This Row],[PROPORTIONAL]])))","v":""},"","",null,0,"","","","","","",null,null,null,null,null,null,null,null,null,null,null,null,null,null,null,null,"",0,"","",0,"","",null,null,"",0,"","",0,"","",null,null,"",0,"","",0,"","",null,null,"",""]
[null,"",null,null,"",{"$f":"IF(Table13[[#This Row],[PROPORTIONAL]]=\"\", \"\", (ABS(1-Table13[[#This Row],[PROPORTIONAL]])))","v":""},"","",null,0,"","","","","","",null,null,null,null,null,null,null,null,null,null,null,null,null,null,null,null,"",0,"","",0,"","",null,null,"",0,"","",0,"","",null,null,"",0,"","",0,"","",null,null,"",""]
[null,"",null,null,"",{"$f":"IF(Table13[[#This Row],[PROPORTIONAL]]=\"\", \"\", (ABS(1-Table13[[#This Row],[PROPORTIONAL]])))","v":""},"","",null,0,"","","","","","",null,null,null,null,null,null,null,null,null,null,null,null,null,null,null,null,"",0,"","",0,"","",null,null,"",0,"","",0,"","",null,null,"",0,"","",0,"","",null,null,"",""]
[null,"",null,null,"",{"$f":"IF(Table13[[#This Row],[PROPORTIONAL]]=\"\", \"\", (ABS(1-Table13[[#This Row],[PROPORTIONAL]])))","v":""},"","",null,0,"","","","","","",null,null,null,null,null,null,null,null,null,null,null,null,null,null,null,null,"",0,"","",0,"","",null,null,"",0,"","",0,"","",null,null,"",0,"","",0,"","",null,null,"",""]
[null,"",null,null,"",{"$f":"IF(Table13[[#This Row],[PROPORTIONAL]]=\"\", \"\", (ABS(1-Table13[[#This Row],[PROPORTIONAL]])))","v":""},"","",null,0,"","","","","","",null,null,null,null,null,null,null,null,null,null,null,null,null,null,null,null,"",0,"","",0,"","",null,null,"",0,"","",0,"","",null,null,"",0,"","",0,"","",null,null,"",""]
[null,"",null,null,"",{"$f":"IF(Table13[[#This Row],[PROPORTIONAL]]=\"\", \"\", (ABS(1-Table13[[#This Row],[PROPORTIONAL]])))","v":""},"","",null,0,"","","","","","",null,null,null,null,null,null,null,null,null,null,null,null,null,null,null,null,"",0,"","",0,"","",null,null,"",0,"","",0,"","",null,null,"",0,"","",0,"","",null,null,"",""]
[null,"",null,null,"",{"$f":"IF(Table13[[#This Row],[PROPORTIONAL]]=\"\", \"\", (ABS(1-Table13[[#This Row],[PROPORTIONAL]])))","v":""},"","",null,0,"","","","","","",null,null,null,null,null,null,null,null,null,null,null,null,null,null,null,null,"",0,"","",0,"","",null,null,"",0,"","",0,"","",null,null,"",0,"","",0,"","",null,null,"",""]
[null,"",null,null,"",{"$f":"IF(Table13[[#This Row],[PROPORTIONAL]]=\"\", \"\", (ABS(1-Table13[[#This Row],[PROPORTIONAL]])))","v":""},"","",null,0,"","","","","","",null,null,null,null,null,null,null,null,null,null,null,null,null,null,null,null,"",0,"","",0,"","",null,null,"",0,"","",0,"","",null,null,"",0,"","",0,"","",null,null,"",""]
[null,"",null,null,"",{"$f":"IF(Table13[[#This Row],[PROPORTIONAL]]=\"\", \"\", (ABS(1-Table13[[#This Row],[PROPORTIONAL]])))","v":""},"","",null,0,"","","","","","",null,null,null,null,null,null,null,null,null,null,null,null,null,null,null,null,"",0,"","",0,"","",null,null,"",0,"","",0,"","",null,null,"",0,"","",0,"","",null,null,"",""]
[null,"",null,null,"",{"$f":"IF(Table13[[#This Row],[PROPORTIONAL]]=\"\", \"\", (ABS(1-Table13[[#This Row],[PROPORTIONAL]])))","v":""},"","",null,0,"","","","","","",null,null,null,null,null,null,null,null,null,null,null,null,null,null,null,null,"",0,"","",0,"","",null,null,"",0,"","",0,"","",null,null,"",0,"","",0,"","",null,null,"",""]
[null,"",null,null,"",{"$f":"IF(Table13[[#This Row],[PROPORTIONAL]]=\"\", \"\", (ABS(1-Table13[[#This Row],[PROPORTIONAL]])))","v":""},"","",null,0,"","","","","","",null,null,null,null,null,null,null,null,null,null,null,null,null,null,null,null,"",0,"","",0,"","",null,null,"",0,"","",0,"","",null,null,"",0,"","",0,"","",null,null,"",""]
[null,"",null,null,"",{"$f":"IF(Table13[[#This Row],[PROPORTIONAL]]=\"\", \"\", (ABS(1-Table13[[#This Row],[PROPORTIONAL]])))","v":""},"","",null,0,"","","","","","",null,null,null,null,null,null,null,null,null,null,null,null,null,null,null,null,"",0,"","",0,"","",null,null,"",0,"","",0,"","",null,null,"",0,"","",0,"","",null,null,"",""]
[null,"",null,null,"",{"$f":"IF(Table13[[#This Row],[PROPORTIONAL]]=\"\", \"\", (ABS(1-Table13[[#This Row],[PROPORTIONAL]])))","v":""},"","",null,0,"","","","","","",null,null,null,null,null,null,null,null,null,null,null,null,null,null,null,null,"",0,"","",0,"","",null,null,"",0,"","",0,"","",null,null,"",0,"","",0,"","",null,null,"",""]
[null,"",null,null,"",{"$f":"IF(Table13[[#This Row],[PROPORTIONAL]]=\"\", \"\", (ABS(1-Table13[[#This Row],[PROPORTIONAL]])))","v":""},"","",null,0,"","","","","","",null,null,null,null,null,null,null,null,null,null,null,null,null,null,null,null,"",0,"","",0,"","",null,null,"",0,"","",0,"","",null,null,"",0,"","",0,"","",null,null,"",""]
[null,"",null,null,"",{"$f":"IF(Table13[[#This Row],[PROPORTIONAL]]=\"\", \"\", (ABS(1-Table13[[#This Row],[PROPORTIONAL]])))","v":""},"","",null,0,"","","","","","",null,null,null,null,null,null,null,null,null,null,null,null,null,null,null,null,"",0,"","",0,"","",null,null,"",0,"","",0,"","",null,null,"",0,"","",0,"","",null,null,"",""]
[null,"",null,null,"",{"$f":"IF(Table13[[#This Row],[PROPORTIONAL]]=\"\", \"\", (ABS(1-Table13[[#This Row],[PROPORTIONAL]])))","v":""},"","",null,0,"","","","","","",null,null,null,null,null,null,null,null,null,null,null,null,null,null,null,null,"",0,"","",0,"","",null,null,"",0,"","",0,"","",null,null,"",0,"","",0,"","",null,null,"",""]
[null,"",null,null,"",{"$f":"IF(Table13[[#This Row],[PROPORTIONAL]]=\"\", \"\", (ABS(1-Table13[[#This Row],[PROPORTIONAL]])))","v":""},"","",null,0,"","","","","","",null,null,null,null,null,null,null,null,null,null,null,null,null,null,null,null,"",0,"","",0,"","",null,null,"",0,"","",0,"","",null,null,"",0,"","",0,"","",null,null,"",""]
[null,"",null,null,"",{"$f":"IF(Table13[[#This Row],[PROPORTIONAL]]=\"\", \"\", (ABS(1-Table13[[#This Row],[PROPORTIONAL]])))","v":""},"","",null,0,"","","","","","",null,null,null,null,null,null,null,null,null,null,null,null,null,null,null,null,"",0,"","",0,"","",null,null,"",0,"","",0,"","",null,null,"",0,"","",0,"","",null,null,"",""]
[null,"",null,null,"",{"$f":"IF(Table13[[#This Row],[PROPORTIONAL]]=\"\", \"\", (ABS(1-Table13[[#This Row],[PROPORTIONAL]])))","v":""},"","",null,0,"","","","","","",null,null,null,null,null,null,null,null,null,null,null,null,null,null,null,null,"",0,"","",0,"","",null,null,"",0,"","",0,"","",null,null,"",0,"","",0,"","",null,null,"",""]
[null,"",null,null,"",{"$f":"IF(Table13[[#This Row],[PROPORTIONAL]]=\"\", \"\", (ABS(1-Table13[[#This Row],[PROPORTIONAL]])))","v":""},"","",null,0,"","","","","","",null,null,null,null,null,null,null,null,null,null,null,null,null,null,null,null,"",0,"","",0,"","",null,null,"",0,"","",0,"","",null,null,"",0,"","",0,"","",null,null,"",""]
[null,"",null,null,"",{"$f":"IF(Table13[[#This Row],[PROPORTIONAL]]=\"\", \"\", (ABS(1-Table13[[#This Row],[PROPORTIONAL]])))","v":""},"","",null,0,"","","","","","",null,null,null,null,null,null,null,null,null,null,null,null,null,null,null,null,"",0,"","",0,"","",null,null,"",0,"","",0,"","",null,null,"",0,"","",0,"","",null,null,"",""]
[null,"",null,null,"",{"$f":"IF(Table13[[#This Row],[PROPORTIONAL]]=\"\", \"\", (ABS(1-Table13[[#This Row],[PROPORTIONAL]])))","v":""},"","",null,0,"","","","","","",null,null,null,null,null,null,null,null,null,null,null,null,null,null,null,null,"",0,"","",0,"","",null,null,"",0,"","",0,"","",null,null,"",0,"","",0,"","",null,null,"",""]
[null,"",null,null,"",{"$f":"IF(Table13[[#This Row],[PROPORTIONAL]]=\"\", \"\", (ABS(1-Table13[[#This Row],[PROPORTIONAL]])))","v":""},"","",null,0,"","","","","","",null,null,null,null,null,null,null,null,null,null,null,null,null,null,null,null,"",0,"","",0,"","",null,null,"",0,"","",0,"","",null,null,"",0,"","",0,"","",null,null,"",""]
[null,"",null,null,"",{"$f":"IF(Table13[[#This Row],[PROPORTIONAL]]=\"\", \"\", (ABS(1-Table13[[#This Row],[PROPORTIONAL]])))","v":""},"","",null,0,"","","","","","",null,null,null,null,null,null,null,null,null,null,null,null,null,null,null,null,"",0,"","",0,"","",null,null,"",0,"","",0,"","",null,null,"",0,"","",0,"","",null,null,"",""]
[null,"",null,null,"",{"$f":"IF(Table13[[#This Row],[PROPORTIONAL]]=\"\", \"\", (ABS(1-Table13[[#This Row],[PROPORTIONAL]])))","v":""},"","",null,0,"","","","","","",null,null,null,null,null,null,null,null,null,null,null,null,null,null,null,null,"",0,"","",0,"","",null,null,"",0,"","",0,"","",null,null,"",0,"","",0,"","",null,null,"",""]
[null,"",null,null,"",{"$f":"IF(Table13[[#This Row],[PROPORTIONAL]]=\"\", \"\", (ABS(1-Table13[[#This Row],[PROPORTIONAL]])))","v":""},"","",null,0,"","","","","","",null,null,null,null,null,null,null,null,null,null,null,null,null,null,null,null,"",0,"","",0,"","",null,null,"",0,"","",0,"","",null,null,"",0,"","",0,"","",null,null,"",""]
[null,"",null,null,"",{"$f":"IF(Table13[[#This Row],[PROPORTIONAL]]=\"\", \"\", (ABS(1-Table13[[#This Row],[PROPORTIONAL]])))","v":""},"","",null,0,"","","","","","",null,null,null,null,null,null,null,null,null,null,null,null,null,null,null,null,"",0,"","",0,"","",null,null,"",0,"","",0,"","",null,null,"",0,"","",0,"","",null,null,"",""]
[null,"",null,null,"",{"$f":"IF(Table13[[#This Row],[PROPORTIONAL]]=\"\", \"\", (ABS(1-Table13[[#This Row],[PROPORTIONAL]])))","v":""},"","",null,0,"","","","","","",null,null,null,null,null,null,null,null,null,null,null,null,null,null,null,null,"",0,"","",0,"","",null,null,"",0,"","",0,"","",null,null,"",0,"","",0,"","",null,null,"",""]
[null,"",null,null,"",{"$f":"IF(Table13[[#This Row],[PROPORTIONAL]]=\"\", \"\", (ABS(1-Table13[[#This Row],[PROPORTIONAL]])))","v":""},"","",null,0,"","","","","","",null,null,null,null,null,null,null,null,null,null,null,null,null,null,null,null,"",0,"","",0,"","",null,null,"",0,"","",0,"","",null,null,"",0,"","",0,"","",null,null,"",""]
[null,"",null,null,"",{"$f":"IF(Table13[[#This Row],[PROPORTIONAL]]=\"\", \"\", (ABS(1-Table13[[#This Row],[PROPORTIONAL]])))","v":""},"","",null,0,"","","","","","",null,null,null,null,null,null,null,null,null,null,null,null,null,null,null,null,"",0,"","",0,"","",null,null,"",0,"","",0,"","",null,null,"",0,"","",0,"","",null,null,"",""]
[null,"",null,null,"",{"$f":"IF(Table13[[#This Row],[PROPORTIONAL]]=\"\", \"\", (ABS(1-Table13[[#This Row],[PROPORTIONAL]])))","v":""},"","",null,0,"","","","","","",null,null,null,null,null,null,null,null,null,null,null,null,null,null,null,null,"",0,"","",0,"","",null,null,"",0,"","",0,"","",null,null,"",0,"","",0,"","",null,null,"",""]
[null,"",null,null,"",{"$f":"IF(Table13[[#This Row],[PROPORTIONAL]]=\"\", \"\", (ABS(1-Table13[[#This Row],[PROPORTIONAL]])))","v":""},"","",null,0,"","","","","","",null,null,null,null,null,null,null,null,null,null,null,null,null,null,null,null,"",0,"","",0,"","",null,null,"",0,"","",0,"","",null,null,"",0,"","",0,"","",null,null,"",""]
[null,"",null,null,"",{"$f":"IF(Table13[[#This Row],[PROPORTIONAL]]=\"\", \"\", (ABS(1-Table13[[#This Row],[PROPORTIONAL]])))","v":""},"","",null,0,"","","","","","",null,null,null,null,null,null,null,null,null,null,null,null,null,null,null,null,"",0,"","",0,"","",null,null,"",0,"","",0,"","",null,null,"",0,"","",0,"","",null,null,"",""]
[null,"",null,null,"",{"$f":"IF(Table13[[#This Row],[PROPORTIONAL]]=\"\", \"\", (ABS(1-Table13[[#This Row],[PROPORTIONAL]])))","v":""},"","",null,0,"","","","","","",null,null,null,null,null,null,null,null,null,null,null,null,null,null,null,null,"",0,"","",0,"","",null,null,"",0,"","",0,"","",null,null,"",0,"","",0,"","",null,null,"",""]
[null,"",null,null,"",{"$f":"IF(Table13[[#This Row],[PROPORTIONAL]]=\"\", \"\", (ABS(1-Table13[[#This Row],[PROPORTIONAL]])))","v":""},"","",null,0,"","","","","","",null,null,null,null,null,null,null,null,null,null,null,null,null,null,null,null,"",0,"","",0,"","",null,null,"",0,"","",0,"","",null,null,"",0,"","",0,"","",null,null,"",""]
[null,"",null,null,"",{"$f":"IF(Table13[[#This Row],[PROPORTIONAL]]=\"\", \"\", (ABS(1-Table13[[#This Row],[PROPORTIONAL]])))","v":""},"","",null,0,"","","","","","",null,null,null,null,null,null,null,null,null,null,null,null,null,null,null,null,"",0,"","",0,"","",null,null,"",0,"","",0,"","",null,null,"",0,"","",0,"","",null,null,"",""]
[null,"",null,null,"",{"$f":"IF(Table13[[#This Row],[PROPORTIONAL]]=\"\", \"\", (ABS(1-Table13[[#This Row],[PROPORTIONAL]])))","v":""},"","",null,0,"","","","","","",null,null,null,null,null,null,null,null,null,null,null,null,null,null,null,null,"",0,"","",0,"","",null,null,"",0,"","",0,"","",null,null,"",0,"","",0,"","",null,null,"",""]
[null,"",null,null,"",{"$f":"IF(Table13[[#This Row],[PROPORTIONAL]]=\"\", \"\", (ABS(1-Table13[[#This Row],[PROPORTIONAL]])))","v":""},"","",null,0,"","","","","","",null,null,null,null,null,null,null,null,null,null,null,null,null,null,null,null,"",0,"","",0,"","",null,null,"",0,"","",0,"","",null,null,"",0,"","",0,"","",null,null,"",""]
[null,"",null,null,"",{"$f":"IF(Table13[[#This Row],[PROPORTIONAL]]=\"\", \"\", (ABS(1-Table13[[#This Row],[PROPORTIONAL]])))","v":""},"","",null,0,"","","","","","",null,null,null,null,null,null,null,null,null,null,null,null,null,null,null,null,"",0,"","",0,"","",null,null,"",0,"","",0,"","",null,null,"",0,"","",0,"","",null,null,"",""]
[null,"",null,null,"",{"$f":"IF(Table13[[#This Row],[PROPORTIONAL]]=\"\", \"\", (ABS(1-Table13[[#This Row],[PROPORTIONAL]])))","v":""},"","",null,0,"","","","","","",null,null,null,null,null,null,null,null,null,null,null,null,null,null,null,null,"",0,"","",0,"","",null,null,"",0,"","",0,"","",null,null,"",0,"","",0,"","",null,null,"",""]
[null,"",null,null,"",{"$f":"IF(Table13[[#This Row],[PROPORTIONAL]]=\"\", \"\", (ABS(1-Table13[[#This Row],[PROPORTIONAL]])))","v":""},"","",null,0,"","","","","","",null,null,null,null,null,null,null,null,null,null,null,null,null,null,null,null,"",0,"","",0,"","",null,null,"",0,"","",0,"","",null,null,"",0,"","",0,"","",null,null,"",""]
[null,"",null,null,"",{"$f":"IF(Table13[[#This Row],[PROPORTIONAL]]=\"\", \"\", (ABS(1-Table13[[#This Row],[PROPORTIONAL]])))","v":""},"","",null,0,"","","","","","",null,null,null,null,null,null,null,null,null,null,null,null,null,null,null,null,"",0,"","",0,"","",null,null,"",0,"","",0,"","",null,null,"",0,"","",0,"","",null,null,"",""]
[null,"",null,null,"",{"$f":"IF(Table13[[#This Row],[PROPORTIONAL]]=\"\", \"\", (ABS(1-Table13[[#This Row],[PROPORTIONAL]])))","v":""},"","",null,0,"","","","","","",null,null,null,null,null,null,null,null,null,null,null,null,null,null,null,null,"",0,"","",0,"","",null,null,"",0,"","",0,"","",null,null,"",0,"","",0,"","",null,null,"",""]
[null,"",null,null,"",{"$f":"IF(Table13[[#This Row],[PROPORTIONAL]]=\"\", \"\", (ABS(1-Table13[[#This Row],[PROPORTIONAL]])))","v":""},"","",null,0,"","","","","","",null,null,null,null,null,null,null,null,null,null,null,null,null,null,null,null,"",0,"","",0,"","",null,null,"",0,"","",0,"","",null,null,"",0,"","",0,"","",null,null,"",""]
[null,"",null,null,"",{"$f":"IF(Table13[[#This Row],[PROPORTIONAL]]=\"\", \"\", (ABS(1-Table13[[#This Row],[PROPORTIONAL]])))","v":""},"","",null,0,"","","","","","",null,null,null,null,null,null,null,null,null,null,null,null,null,null,null,null,"",0,"","",0,"","",null,null,"",0,"","",0,"","",null,null,"",0,"","",0,"","",null,null,"",""]
[null,"",null,null,"",{"$f":"IF(Table13[[#This Row],[PROPORTIONAL]]=\"\", \"\", (ABS(1-Table13[[#This Row],[PROPORTIONAL]])))","v":""},"","",null,0,"","","","","","",null,null,null,null,null,null,null,null,null,null,null,null,null,null,null,null,"",0,"","",0,"","",null,null,"",0,"","",0,"","",null,null,"",0,"","",0,"","",null,null,"",""]
[null,"",null,null,"",{"$f":"IF(Table13[[#This Row],[PROPORTIONAL]]=\"\", \"\", (ABS(1-Table13[[#This Row],[PROPORTIONAL]])))","v":""},"","",null,0,"","","","","","",null,null,null,null,null,null,null,null,null,null,null,null,null,null,null,null,"",0,"","",0,"","",null,null,"",0,"","",0,"","",null,null,"",0,"","",0,"","",null,null,"",""]
[null,"",null,null,"",{"$f":"IF(Table13[[#This Row],[PROPORTIONAL]]=\"\", \"\", (ABS(1-Table13[[#This Row],[PROPORTIONAL]])))","v":""},"","",null,0,"","","","","","",null,null,null,null,null,null,null,null,null,null,null,null,null,null,null,null,"",0,"","",0,"","",null,null,"",0,"","",0,"","",null,null,"",0,"","",0,"","",null,null,"",""]
[null,"",null,null,"",{"$f":"IF(Table13[[#This Row],[PROPORTIONAL]]=\"\", \"\", (ABS(1-Table13[[#This Row],[PROPORTIONAL]])))","v":""},"","",null,0,"","","","","","",null,null,null,null,null,null,null,null,null,null,null,null,null,null,null,null,"",0,"","",0,"","",null,null,"",0,"","",0,"","",null,null,"",0,"","",0,"","",null,null,"",""]
[null,"",null,null,"",{"$f":"IF(Table13[[#This Row],[PROPORTIONAL]]=\"\", \"\", (ABS(1-Table13[[#This Row],[PROPORTIONAL]])))","v":""},"","",null,0,"","","","","","",null,null,null,null,null,null,null,null,null,null,null,null,null,null,null,null,"",0,"","",0,"","",null,null,"",0,"","",0,"","",null,null,"",0,"","",0,"","",null,null,"",""]
[null,"",null,null,"",{"$f":"IF(Table13[[#This Row],[PROPORTIONAL]]=\"\", \"\", (ABS(1-Table13[[#This Row],[PROPORTIONAL]])))","v":""},"","",null,0,"","","","","","",null,null,null,null,null,null,null,null,null,null,null,null,null,null,null,null,"",0,"","",0,"","",null,null,"",0,"","",0,"","",null,null,"",0,"","",0,"","",null,null,"",""]
[null,"",null,null,"",{"$f":"IF(Table13[[#This Row],[PROPORTIONAL]]=\"\", \"\", (ABS(1-Table13[[#This Row],[PROPORTIONAL]])))","v":""},{"$f":"IF(D142=\"\",\"\",$G$7+3*(SQRT(($G$7*(ABS(1-$G$7)))/D142)))","v":""},{"$f":"IF(D142=\"\",\"\",IF($G$7-3*(SQRT(($G$7*(ABS(1-$G$7)))/D142))<0,0,$G$7-3*(SQRT(($G$7*(ABS(1-$G$7)))/D142))))","v":""},null,0,{"$f":"IF(H142=\"\",\"\",$G$7)","v":""},{"$f":"IF(D142=\"\",\"\",IF($G$7-1*(SQRT(($G$7*(ABS(1-$G$7)))/D142))<0,0,$G$7-1*(SQRT(($G$7*(ABS(1-$G$7)))/D142))))","v":""},{"$f":"IF(D142=\"\",\"\",IF($G$7-2*(SQRT(($G$7*(ABS(1-$G$7)))/D142))<0,0,$G$7-2*(SQRT(($G$7*(ABS(1-$G$7)))/D142))))","v":""},{"$f":"IF(D142=\"\",\"\",$G$7+1*(SQRT(($G$7*(ABS(1-$G$7)))/D142)))","v":""},{"$f":"IF(D142=\"\",\"\",$G$7+2*(SQRT(($G$7*(ABS(1-$G$7)))/D142)))","v":""},"",null,null,null,null,null,null,null,null,null,null,null,null,null,null,null,null,"",0,"","",0,{"$f":"IF(AK143=2,\"\",IF(AK142>=2,CONCATENATE(\"Data Point \",B142,\" to \",\"Data Point \",(B142+2)),\"\"))","v":""},"",null,null,"",0,"","",{"$f":"SUM(AS142:AS146)","v":0},{"$f":"IF(AT143=4,\"\",IF(AT142>=4,CONCATENATE(\"Data Point \",B142,\" to \",\"Data Point \",(B142+4)),\"\"))","v":""},{"$f":"IF(AND(AR142<>\"\",AU142=\"\"),AR142,IF(AND(AR142=\"\",AU142<>\"\"),AU142,IF(AND(AR142<>\"\",AU142<>\"\"),AR142,\"\")))","v":""},null,null,"",{"$f":"SUM(AY142:AY149)","v":0},"","",{"$f":"SUM(BB142:BB149)","v":0},"",{"$f":"IF(AND(BA142<>\"\",BD142=\"\"),BA142,IF(AND(BA142=\"\",BD142<>\"\"),BD142,IF(AND(BA142<>\"\",BD142<>\"\"),BA142,\"\")))","v":""},null,null,"",""]
[null,"",null,null,{"$f":"IF(D143=\"\",\"\",C143/D143)","v":""},{"$f":"IF(Table13[[#This Row],[PROPORTIONAL]]=\"\", \"\", (ABS(1-Table13[[#This Row],[PROPORTIONAL]])))","v":""},"","",null,{"$f":"IF(B143>$G$9,0,1)","v":0},"","","","","",{"$f":"IF(J143=1, E143, \"\")","v":""},null,null,null,null,null,null,null,null,null,null,null,null,null,null,null,null,{"$f":"IF(E143=\"\",\"\",IF(AND(E143>=O143,E143<G143),1,0))","v":""},{"$f":"SUM(AG143:AG145)","v":0},{"$f":"IF(AH144=2,\"\",IF(AH143>=2,CONCATENATE(\"Data Point \",B143,\" to \",\"Data Point \",(B143+2)),\"\"))","v":""},{"$f":"IF(E143=\"\",\"\",IF(AND(E143<=M143,E143>H143),1,0))","v":""},{"$f":"SUM(AJ143:AJ145)","v":0},"",{"$f":"IF(AND(AI143<>\"\",AL143=\"\"),AI143,IF(AND(AI143=\"\",AL143<>\"\"),AL143,IF(AND(AI143<>\"\",AL143<>\"\"),AI143,\"\")))","v":""},null,null,{"$f":"IF(E143=\"\",\"\",IF(AND(E143>=N143,E143<G143),1,0))","v":""},{"$f":"SUM(AP143:AP147)","v":0},{"$f":"IF(AQ144=4,\"\",IF(AQ143>=4,CONCATENATE(\"Data Point \",B143,\" to \",\"Data Point \",(B143+4)),\"\"))","v":""},{"$f":"IF(E143=\"\",\"\",IF(AND(E143<=L143,E143>H143),1,0))","v":""},0,"","",null,null,{"$f":"IF(E143=\"\",\"\",IF(AND(E143>=K143,E143<G143),1,0))","v":""},0,{"$f":"IF(AZ144=8, \"\", IF(AZ143=8,CONCATENATE(\"Data Point \",B143,\" to \",\"Data Point \",(B143+8)),\"\"))","v":""},{"$f":"IF(E143=\"\",\"\",IF(AND(E143<=K143,E143>H143),1,0))","v":""},0,{"$f":"IF(BC144=8, \"\", IF(BC143=8,CONCATENATE(\"Data Point \",B143,\" to \",\"Data Point \",(B143+8)),\"\"))","v":""},"",null,null,{"$f":"IF(E143=\"\",\"\",IF(OR(E143>G143,E143<H143),1,0))","v":""},{"$f":"IF(BH143=1,CONCATENATE(\"Data Point \",B143),\"\")","v":""}]
[null,{"$f":"IF(C144=\"\",\"\",B143+1)","v":""},null,null,"",{"$f":"IF(Table13[[#This Row],[PROPORTIONAL]]=\"\", \"\", (ABS(1-Table13[[#This Row],[PROPORTIONAL]])))","v":""},"","",null,0,"","","","","","",null,null,null,null,null,null,null,null,null,null,null,null,null,null,null,null,"",0,"","",0,"","",null,null,"",0,"","",0,"","",null,null,"",0,"","",0,"","",null,null,"",""]
[null,"",null,null,"",{"$f":"IF(Table13[[#This Row],[PROPORTIONAL]]=\"\", \"\", (ABS(1-Table13[[#This Row],[PROPORTIONAL]])))","v":""},"","",null,0,"","","","","","",null,null,null,null,null,null,null,null,null,null,null,null,null,null,null,null,"",0,"","",0,"","",null,null,"",0,"","",0,"","",null,null,"",0,"","",0,"","",null,null,"",""]
[null,"",null,null,"",{"$f":"IF(Table13[[#This Row],[PROPORTIONAL]]=\"\", \"\", (ABS(1-Table13[[#This Row],[PROPORTIONAL]])))","v":""},"","",null,0,"","","","","","",null,null,null,null,null,null,null,null,null,null,null,null,null,null,null,null,"",0,"","",0,"","",null,null,"",0,"","",0,"","",null,null,"",0,"","",0,"","",null,null,"",""]
[null,"",null,null,"",{"$f":"IF(Table13[[#This Row],[PROPORTIONAL]]=\"\", \"\", (ABS(1-Table13[[#This Row],[PROPORTIONAL]])))","v":""},"","",null,0,"","","","","","",null,null,null,null,null,null,null,null,null,null,null,null,null,null,null,null,"",0,"","",0,"","",null,null,"",0,"","",0,"","",null,null,"",0,"","",0,"","",null,null,"",""]
[null,"",null,null,"",{"$f":"IF(Table13[[#This Row],[PROPORTIONAL]]=\"\", \"\", (ABS(1-Table13[[#This Row],[PROPORTIONAL]])))","v":""},"","",null,0,"","","","","","",null,null,null,null,null,null,null,null,null,null,null,null,null,null,null,null,"",0,"","",0,"","",null,null,"",0,"","",0,"","",null,null,"",0,"","",0,"","",null,null,"",""]
[null,"",null,null,"",{"$f":"IF(Table13[[#This Row],[PROPORTIONAL]]=\"\", \"\", (ABS(1-Table13[[#This Row],[PROPORTIONAL]])))","v":""},"","",null,0,"","","","","","",null,null,null,null,null,null,null,null,null,null,null,null,null,null,null,null,"",0,"","",0,"","",null,null,"",0,"","",0,"","",null,null,"",0,"","",0,"","",null,null,"",""]
[null,"",null,null,"",{"$f":"IF(Table13[[#This Row],[PROPORTIONAL]]=\"\", \"\", (ABS(1-Table13[[#This Row],[PROPORTIONAL]])))","v":""},"","",null,0,"","","","","","",null,null,null,null,null,null,null,null,null,null,null,null,null,null,null,null,"",0,"","",0,"","",null,null,"",0,"","",0,"","",null,null,"",0,"","",0,"","",null,null,"",""]
[null,"",null,null,"",{"$f":"IF(Table13[[#This Row],[PROPORTIONAL]]=\"\", \"\", (ABS(1-Table13[[#This Row],[PROPORTIONAL]])))","v":""},"","",null,0,"","","","","","",null,null,null,null,null,null,null,null,null,null,null,null,null,null,null,null,"",0,"","",0,"","",null,null,"",0,"","",0,"","",null,null,"",0,"","",0,"","",null,null,"",""]
[null,"",null,null,"",{"$f":"IF(Table13[[#This Row],[PROPORTIONAL]]=\"\", \"\", (ABS(1-Table13[[#This Row],[PROPORTIONAL]])))","v":""},"","",null,0,"","","","","","",null,null,null,null,null,null,null,null,null,null,null,null,null,null,null,null,"",0,"","",0,"","",null,null,"",0,"","",0,"","",null,null,"",0,"","",0,"","",null,null,"",""]
[null,"",null,null,"",{"$f":"IF(Table13[[#This Row],[PROPORTIONAL]]=\"\", \"\", (ABS(1-Table13[[#This Row],[PROPORTIONAL]])))","v":""},"","",null,0,"","","","","","",null,null,null,null,null,null,null,null,null,null,null,null,null,null,null,null,"",0,"","",0,"","",null,null,"",0,"","",0,"","",null,null,"",0,"","",0,"","",null,null,"",""]
[null,"",null,null,"",{"$f":"IF(Table13[[#This Row],[PROPORTIONAL]]=\"\", \"\", (ABS(1-Table13[[#This Row],[PROPORTIONAL]])))","v":""},"","",null,0,"","","","","","",null,null,null,null,null,null,null,null,null,null,null,null,null,null,null,null,"",0,"","",0,"","",null,null,"",0,"","",0,"","",null,null,"",0,"","",0,"","",null,null,"",""]
[null,"",null,null,"",{"$f":"IF(Table13[[#This Row],[PROPORTIONAL]]=\"\", \"\", (ABS(1-Table13[[#This Row],[PROPORTIONAL]])))","v":""},"","",null,0,"","","","","","",null,null,null,null,null,null,null,null,null,null,null,null,null,null,null,null,"",0,"","",0,"","",null,null,"",0,"","",0,"","",null,null,"",0,"","",0,"","",null,null,"",""]
[null,"",null,null,"",{"$f":"IF(Table13[[#This Row],[PROPORTIONAL]]=\"\", \"\", (ABS(1-Table13[[#This Row],[PROPORTIONAL]])))","v":""},"","",null,0,"","","","","","",null,null,null,null,null,null,null,null,null,null,null,null,null,null,null,null,"",0,"","",0,"","",null,null,"",0,"","",0,"","",null,null,"",0,"","",0,"","",null,null,"",""]
[null,"",null,null,"",{"$f":"IF(Table13[[#This Row],[PROPORTIONAL]]=\"\", \"\", (ABS(1-Table13[[#This Row],[PROPORTIONAL]])))","v":""},"","",null,0,"","","","","","",null,null,null,null,null,null,null,null,null,null,null,null,null,null,null,null,"",0,"","",0,"","",null,null,"",0,"","",0,"","",null,null,"",0,"","",0,"","",null,null,"",""]
[null,"",null,null,"",{"$f":"IF(Table13[[#This Row],[PROPORTIONAL]]=\"\", \"\", (ABS(1-Table13[[#This Row],[PROPORTIONAL]])))","v":""},"","",null,0,"","","","","","",null,null,null,null,null,null,null,null,null,null,null,null,null,null,null,null,"",0,"","",0,"","",null,null,"",0,"","",0,"","",null,null,"",0,"","",0,"","",null,null,"",""]
[null,"",null,null,"",{"$f":"IF(Table13[[#This Row],[PROPORTIONAL]]=\"\", \"\", (ABS(1-Table13[[#This Row],[PROPORTIONAL]])))","v":""},"","",null,0,"","","","","","",null,null,null,null,null,null,null,null,null,null,null,null,null,null,null,null,"",0,"","",0,"","",null,null,"",0,"","",0,"","",null,null,"",0,"","",0,"","",null,null,"",""]
[null,"",null,null,"",{"$f":"IF(Table13[[#This Row],[PROPORTIONAL]]=\"\", \"\", (ABS(1-Table13[[#This Row],[PROPORTIONAL]])))","v":""},"","",null,0,"","","","","","",null,null,null,null,null,null,null,null,null,null,null,null,null,null,null,null,"",0,"","",0,"","",null,null,"",0,"","",0,"","",null,null,"",0,"","",0,"","",null,null,"",""]
[null,"",null,null,"",{"$f":"IF(Table13[[#This Row],[PROPORTIONAL]]=\"\", \"\", (ABS(1-Table13[[#This Row],[PROPORTIONAL]])))","v":""},"","",null,0,"","","","","","",null,null,null,null,null,null,null,null,null,null,null,null,null,null,null,null,"",0,"","",0,"","",null,null,"",0,"","",0,"","",null,null,"",0,"","",0,"","",null,null,"",""]
[null,"",null,null,"",{"$f":"IF(Table13[[#This Row],[PROPORTIONAL]]=\"\", \"\", (ABS(1-Table13[[#This Row],[PROPORTIONAL]])))","v":""},"","",null,0,"","","","","","",null,null,null,null,null,null,null,null,null,null,null,null,null,null,null,null,"",0,"","",0,"","",null,null,"",0,"","",0,"","",null,null,"",0,"","",0,"","",null,null,"",""]
[null,"",null,null,"",{"$f":"IF(Table13[[#This Row],[PROPORTIONAL]]=\"\", \"\", (ABS(1-Table13[[#This Row],[PROPORTIONAL]])))","v":""},"","",null,0,"","","","","","",null,null,null,null,null,null,null,null,null,null,null,null,null,null,null,null,"",0,"","",0,"","",null,null,"",0,"","",0,"","",null,null,"",0,"","",0,"","",null,null,"",""]
[null,"",null,null,"",{"$f":"IF(Table13[[#This Row],[PROPORTIONAL]]=\"\", \"\", (ABS(1-Table13[[#This Row],[PROPORTIONAL]])))","v":""},"","",null,0,"","","","","","",null,null,null,null,null,null,null,null,null,null,null,null,null,null,null,null,"",0,"","",0,"","",null,null,"",0,"","",0,"","",null,null,"",0,"","",0,"","",null,null,"",""]
[null,"",null,null,"",{"$f":"IF(Table13[[#This Row],[PROPORTIONAL]]=\"\", \"\", (ABS(1-Table13[[#This Row],[PROPORTIONAL]])))","v":""},"","",null,0,"","","","","","",null,null,null,null,null,null,null,null,null,null,null,null,null,null,null,null,"",0,"","",0,"","",null,null,"",0,"","",0,"","",null,null,"",0,"","",0,"","",null,null,"",""]
[null,"",null,null,"",{"$f":"IF(Table13[[#This Row],[PROPORTIONAL]]=\"\", \"\", (ABS(1-Table13[[#This Row],[PROPORTIONAL]])))","v":""},"","",null,0,"","","","","","",null,null,null,null,null,null,null,null,null,null,null,null,null,null,null,null,"",0,"","",0,"","",null,null,"",0,"","",0,"","",null,null,"",0,"","",0,"","",null,null,"",""]
[null,"",null,null,"",{"$f":"IF(Table13[[#This Row],[PROPORTIONAL]]=\"\", \"\", (ABS(1-Table13[[#This Row],[PROPORTIONAL]])))","v":""},"","",null,0,"","","","","","",null,null,null,null,null,null,null,null,null,null,null,null,null,null,null,null,"",0,"","",0,"","",null,null,"",0,"","",0,"","",null,null,"",0,"","",0,"","",null,null,"",""]
[null,"",null,null,"",{"$f":"IF(Table13[[#This Row],[PROPORTIONAL]]=\"\", \"\", (ABS(1-Table13[[#This Row],[PROPORTIONAL]])))","v":""},"","",null,0,"","","","","","",null,null,null,null,null,null,null,null,null,null,null,null,null,null,null,null,"",0,"","",0,"","",null,null,"",0,"","",0,"","",null,null,"",0,"","",0,"","",null,null,"",""]
[null,"",null,null,"",{"$f":"IF(Table13[[#This Row],[PROPORTIONAL]]=\"\", \"\", (ABS(1-Table13[[#This Row],[PROPORTIONAL]])))","v":""},"","",null,0,"","","","","","",null,null,null,null,null,null,null,null,null,null,null,null,null,null,null,null,"",0,"","",0,"","",null,null,"",0,"","",0,"","",null,null,"",0,"","",0,"","",null,null,"",""]
[null,"",null,null,"",{"$f":"IF(Table13[[#This Row],[PROPORTIONAL]]=\"\", \"\", (ABS(1-Table13[[#This Row],[PROPORTIONAL]])))","v":""},"","",null,0,"","","","","","",null,null,null,null,null,null,null,null,null,null,null,null,null,null,null,null,"",0,"","",0,"","",null,null,"",0,"","",0,"","",null,null,"",0,"","",0,"","",null,null,"",""]
[null,"",null,null,"",{"$f":"IF(Table13[[#This Row],[PROPORTIONAL]]=\"\", \"\", (ABS(1-Table13[[#This Row],[PROPORTIONAL]])))","v":""},"","",null,0,"","","","","","",null,null,null,null,null,null,null,null,null,null,null,null,null,null,null,null,"",0,"","",0,"","",null,null,"",0,"","",0,"","",null,null,"",0,"","",0,"","",null,null,"",""]
[null,"",null,null,"",{"$f":"IF(Table13[[#This Row],[PROPORTIONAL]]=\"\", \"\", (ABS(1-Table13[[#This Row],[PROPORTIONAL]])))","v":""},"","",null,0,"","","","","","",null,null,null,null,null,null,null,null,null,null,null,null,null,null,null,null,"",0,"","",0,"","",null,null,"",0,"","",0,"","",null,null,"",0,"","",0,"","",null,null,"",""]
[null,"",null,null,"",{"$f":"IF(Table13[[#This Row],[PROPORTIONAL]]=\"\", \"\", (ABS(1-Table13[[#This Row],[PROPORTIONAL]])))","v":""},"","",null,0,"","","","","","",null,null,null,null,null,null,null,null,null,null,null,null,null,null,null,null,"",0,"","",0,"","",null,null,"",0,"","",0,"","",null,null,"",0,"","",0,"","",null,null,"",""]
[null,"",null,null,"",{"$f":"IF(Table13[[#This Row],[PROPORTIONAL]]=\"\", \"\", (ABS(1-Table13[[#This Row],[PROPORTIONAL]])))","v":""},"","",null,0,"","","","","","",null,null,null,null,null,null,null,null,null,null,null,null,null,null,null,null,"",0,"","",0,"","",null,null,"",0,"","",0,"","",null,null,"",0,"","",0,"","",null,null,"",""]
[null,"",null,null,"",{"$f":"IF(Table13[[#This Row],[PROPORTIONAL]]=\"\", \"\", (ABS(1-Table13[[#This Row],[PROPORTIONAL]])))","v":""},"","",null,0,"","","","","","",null,null,null,null,null,null,null,null,null,null,null,null,null,null,null,null,"",0,"","",0,"","",null,null,"",0,"","",0,"","",null,null,"",0,"","",0,"","",null,null,"",""]
[null,"",null,null,"",{"$f":"IF(Table13[[#This Row],[PROPORTIONAL]]=\"\", \"\", (ABS(1-Table13[[#This Row],[PROPORTIONAL]])))","v":""},"","",null,0,"","","","","","",null,null,null,null,null,null,null,null,null,null,null,null,null,null,null,null,"",0,"","",0,"","",null,null,"",0,"","",0,"","",null,null,"",0,"","",0,"","",null,null,"",""]
[null,"",null,null,"",{"$f":"IF(Table13[[#This Row],[PROPORTIONAL]]=\"\", \"\", (ABS(1-Table13[[#This Row],[PROPORTIONAL]])))","v":""},"","",null,0,"","","","","","",null,null,null,null,null,null,null,null,null,null,null,null,null,null,null,null,"",0,"","",0,"","",null,null,"",0,"","",0,"","",null,null,"",0,"","",0,"","",null,null,"",""]
[null,"",null,null,"",{"$f":"IF(Table13[[#This Row],[PROPORTIONAL]]=\"\", \"\", (ABS(1-Table13[[#This Row],[PROPORTIONAL]])))","v":""},"","",null,0,"","","","","","",null,null,null,null,null,null,null,null,null,null,null,null,null,null,null,null,"",0,"","",0,"","",null,null,"",0,"","",0,"","",null,null,"",0,"","",0,"","",null,null,"",""]
[null,"",null,null,"",{"$f":"IF(Table13[[#This Row],[PROPORTIONAL]]=\"\", \"\", (ABS(1-Table13[[#This Row],[PROPORTIONAL]])))","v":""},"","",null,0,"","","","","","",null,null,null,null,null,null,null,null,null,null,null,null,null,null,null,null,"",0,"","",0,"","",null,null,"",0,"","",0,"","",null,null,"",0,"","",0,"","",null,null,"",""]
[null,"",null,null,"",{"$f":"IF(Table13[[#This Row],[PROPORTIONAL]]=\"\", \"\", (ABS(1-Table13[[#This Row],[PROPORTIONAL]])))","v":""},"","",null,0,"","","","","","",null,null,null,null,null,null,null,null,null,null,null,null,null,null,null,null,"",0,"","",0,"","",null,null,"",0,"","",0,"","",null,null,"",0,"","",0,"","",null,null,"",""]
[null,"",null,null,"",{"$f":"IF(Table13[[#This Row],[PROPORTIONAL]]=\"\", \"\", (ABS(1-Table13[[#This Row],[PROPORTIONAL]])))","v":""},"","",null,0,"","","","","","",null,null,null,null,null,null,null,null,null,null,null,null,null,null,null,null,"",0,"","",0,"","",null,null,"",0,"","",0,"","",null,null,"",0,"","",0,"","",null,null,"",""]
[null,"",null,null,"",{"$f":"IF(Table13[[#This Row],[PROPORTIONAL]]=\"\", \"\", (ABS(1-Table13[[#This Row],[PROPORTIONAL]])))","v":""},"","",null,0,"","","","","","",null,null,null,null,null,null,null,null,null,null,null,null,null,null,null,null,"",0,"","",0,"","",null,null,"",0,"","",0,"","",null,null,"",0,"","",0,"","",null,null,"",""]
[null,"",null,null,"",{"$f":"IF(Table13[[#This Row],[PROPORTIONAL]]=\"\", \"\", (ABS(1-Table13[[#This Row],[PROPORTIONAL]])))","v":""},"","",null,0,"","","","","","",null,null,null,null,null,null,null,null,null,null,null,null,null,null,null,null,"",0,"","",0,"","",null,null,"",0,"","",0,"","",null,null,"",0,"","",0,"","",null,null,"",""]
[null,"",null,null,"",{"$f":"IF(Table13[[#This Row],[PROPORTIONAL]]=\"\", \"\", (ABS(1-Table13[[#This Row],[PROPORTIONAL]])))","v":""},"","",null,0,"","","","","","",null,null,null,null,null,null,null,null,null,null,null,null,null,null,null,null,"",0,"","",0,"","",null,null,"",0,"","",0,"","",null,null,"",0,"","",0,"","",null,null,"",""]
[null,"",null,null,"",{"$f":"IF(Table13[[#This Row],[PROPORTIONAL]]=\"\", \"\", (ABS(1-Table13[[#This Row],[PROPORTIONAL]])))","v":""},"","",null,0,"","","","","","",null,null,null,null,null,null,null,null,null,null,null,null,null,null,null,null,"",0,"","",0,"","",null,null,"",0,"","",0,"","",null,null,"",0,"","",0,"","",null,null,"",""]
[null,"",null,null,"",{"$f":"IF(Table13[[#This Row],[PROPORTIONAL]]=\"\", \"\", (ABS(1-Table13[[#This Row],[PROPORTIONAL]])))","v":""},"","",null,0,"","","","","","",null,null,null,null,null,null,null,null,null,null,null,null,null,null,null,null,"",0,"","",0,"","",null,null,"",0,"","",0,"","",null,null,"",0,"","",0,"","",null,null,"",""]
[null,"",null,null,"",{"$f":"IF(Table13[[#This Row],[PROPORTIONAL]]=\"\", \"\", (ABS(1-Table13[[#This Row],[PROPORTIONAL]])))","v":""},"","",null,0,"","","","","","",null,null,null,null,null,null,null,null,null,null,null,null,null,null,null,null,"",0,"","",0,"","",null,null,"",0,"","",0,"","",null,null,"",0,"","",0,"","",null,null,"",""]
[null,"",null,null,"",{"$f":"IF(Table13[[#This Row],[PROPORTIONAL]]=\"\", \"\", (ABS(1-Table13[[#This Row],[PROPORTIONAL]])))","v":""},"","",null,0,"","","","","","",null,null,null,null,null,null,null,null,null,null,null,null,null,null,null,null,"",0,"","",0,"","",null,null,"",0,"","",0,"","",null,null,"",0,"","",0,"","",null,null,"",""]
[null,"",null,null,"",{"$f":"IF(Table13[[#This Row],[PROPORTIONAL]]=\"\", \"\", (ABS(1-Table13[[#This Row],[PROPORTIONAL]])))","v":""},"","",null,0,"","","","","","",null,null,null,null,null,null,null,null,null,null,null,null,null,null,null,null,"",0,"","",0,"","",null,null,"",0,"","",0,"","",null,null,"",0,"","",0,"","",null,null,"",""]
[null,"",null,null,"",{"$f":"IF(Table13[[#This Row],[PROPORTIONAL]]=\"\", \"\", (ABS(1-Table13[[#This Row],[PROPORTIONAL]])))","v":""},"","",null,0,"","","","","","",null,null,null,null,null,null,null,null,null,null,null,null,null,null,null,null,"",0,"","",0,"","",null,null,"",0,"","",0,"","",null,null,"",0,"","",0,"","",null,null,"",""]
[null,"",null,null,"",{"$f":"IF(Table13[[#This Row],[PROPORTIONAL]]=\"\", \"\", (ABS(1-Table13[[#This Row],[PROPORTIONAL]])))","v":""},"","",null,0,"","","","","","",null,null,null,null,null,null,null,null,null,null,null,null,null,null,null,null,"",0,"","",0,"","",null,null,"",0,"","",0,"","",null,null,"",0,"","",0,"","",null,null,"",""]
[null,"",null,null,"",{"$f":"IF(Table13[[#This Row],[PROPORTIONAL]]=\"\", \"\", (ABS(1-Table13[[#This Row],[PROPORTIONAL]])))","v":""},"","",null,0,"","","","","","",null,null,null,null,null,null,null,null,null,null,null,null,null,null,null,null,"",0,"","",0,"","",null,null,"",0,"","",0,"","",null,null,"",0,"","",0,"","",null,null,"",""]
[null,"",null,null,"",{"$f":"IF(Table13[[#This Row],[PROPORTIONAL]]=\"\", \"\", (ABS(1-Table13[[#This Row],[PROPORTIONAL]])))","v":""},"","",null,0,"","","","","","",null,null,null,null,null,null,null,null,null,null,null,null,null,null,null,null,"",0,"","",0,"","",null,null,"",0,"","",0,"","",null,null,"",0,"","",0,"","",null,null,"",""]
[null,"",null,null,"",{"$f":"IF(Table13[[#This Row],[PROPORTIONAL]]=\"\", \"\", (ABS(1-Table13[[#This Row],[PROPORTIONAL]])))","v":""},"","",null,0,"","","","","","",null,null,null,null,null,null,null,null,null,null,null,null,null,null,null,null,"",0,"","",0,"","",null,null,"",0,"","",0,"","",null,null,"",0,"","",0,"","",null,null,"",""]
[null,"",null,null,"",{"$f":"IF(Table13[[#This Row],[PROPORTIONAL]]=\"\", \"\", (ABS(1-Table13[[#This Row],[PROPORTIONAL]])))","v":""},"","",null,0,"","","","","","",null,null,null,null,null,null,null,null,null,null,null,null,null,null,null,null,"",0,"","",0,"","",null,null,"",0,"","",0,"","",null,null,"",0,"","",0,"","",null,null,"",""]
[null,"",null,null,"",{"$f":"IF(Table13[[#This Row],[PROPORTIONAL]]=\"\", \"\", (ABS(1-Table13[[#This Row],[PROPORTIONAL]])))","v":""},"","",null,0,"","","","","","",null,null,null,null,null,null,null,null,null,null,null,null,null,null,null,null,"",0,"","",0,"","",null,null,"",0,"","",0,"","",null,null,"",0,"","",0,"","",null,null,"",""]
[null,"",null,null,"",{"$f":"IF(Table13[[#This Row],[PROPORTIONAL]]=\"\", \"\", (ABS(1-Table13[[#This Row],[PROPORTIONAL]])))","v":""},"","",null,0,"","","","","","",null,null,null,null,null,null,null,null,null,null,null,null,null,null,null,null,"",0,"","",0,"","",null,null,"",0,"","",0,"","",null,null,"",0,"","",0,"","",null,null,"",""]
[null,"",null,null,"",{"$f":"IF(Table13[[#This Row],[PROPORTIONAL]]=\"\", \"\", (ABS(1-Table13[[#This Row],[PROPORTIONAL]])))","v":""},"","",null,0,"","","","","","",null,null,null,null,null,null,null,null,null,null,null,null,null,null,null,null,"",0,"","",0,"","",null,null,"",0,"","",0,"","",null,null,"",0,"","",0,"","",null,null,"",""]
[null,"",null,null,"",{"$f":"IF(Table13[[#This Row],[PROPORTIONAL]]=\"\", \"\", (ABS(1-Table13[[#This Row],[PROPORTIONAL]])))","v":""},"","",null,0,"","","","","","",null,null,null,null,null,null,null,null,null,null,null,null,null,null,null,null,"",0,"","",0,"","",null,null,"",0,"","",0,"","",null,null,"",0,"","",0,"","",null,null,"",""]
[null,"",null,null,"",{"$f":"IF(Table13[[#This Row],[PROPORTIONAL]]=\"\", \"\", (ABS(1-Table13[[#This Row],[PROPORTIONAL]])))","v":""},"","",null,0,"","","","","","",null,null,null,null,null,null,null,null,null,null,null,null,null,null,null,null,"",0,"","",0,"","",null,null,"",0,"","",0,"","",null,null,"",0,"","",0,"","",null,null,"",""]
[null,"",null,null,"",{"$f":"IF(Table13[[#This Row],[PROPORTIONAL]]=\"\", \"\", (ABS(1-Table13[[#This Row],[PROPORTIONAL]])))","v":""},"","",null,0,"","","","","","",null,null,null,null,null,null,null,null,null,null,null,null,null,null,null,null,"",0,"","",0,"","",null,null,"",0,"","",0,"","",null,null,"",0,"","",0,"","",null,null,"",""]
[null,"",null,null,"",{"$f":"IF(Table13[[#This Row],[PROPORTIONAL]]=\"\", \"\", (ABS(1-Table13[[#This Row],[PROPORTIONAL]])))","v":""},"","",null,0,"","","","","","",null,null,null,null,null,null,null,null,null,null,null,null,null,null,null,null,"",0,"","",0,"","",null,null,"",0,"","",0,"","",null,null,"",0,"","",0,"","",null,null,"",""]
[null,"",null,null,"",{"$f":"IF(Table13[[#This Row],[PROPORTIONAL]]=\"\", \"\", (ABS(1-Table13[[#This Row],[PROPORTIONAL]])))","v":""},"","",null,0,"","","","","","",null,null,null,null,null,null,null,null,null,null,null,null,null,null,null,null,"",0,"","",0,"","",null,null,"",0,"","",0,"","",null,null,"",0,"","",0,"","",null,null,"",""]
[null,"",null,null,"",{"$f":"IF(Table13[[#This Row],[PROPORTIONAL]]=\"\", \"\", (ABS(1-Table13[[#This Row],[PROPORTIONAL]])))","v":""},"","",null,0,"","","","","","",null,null,null,null,null,null,null,null,null,null,null,null,null,null,null,null,"",0,"","",0,"","",null,null,"",0,"","",0,"","",null,null,"",0,"","",0,"","",null,null,"",""]
[null,"",null,null,"",{"$f":"IF(Table13[[#This Row],[PROPORTIONAL]]=\"\", \"\", (ABS(1-Table13[[#This Row],[PROPORTIONAL]])))","v":""},"","",null,0,"","","","","","",null,null,null,null,null,null,null,null,null,null,null,null,null,null,null,null,"",0,"","",0,"","",null,null,"",0,"","",0,"","",null,null,"",0,"","",0,"","",null,null,"",""]
[null,"",null,null,"",{"$f":"IF(Table13[[#This Row],[PROPORTIONAL]]=\"\", \"\", (ABS(1-Table13[[#This Row],[PROPORTIONAL]])))","v":""},{"$f":"IF(D206=\"\",\"\",$G$7+3*(SQRT(($G$7*(ABS(1-$G$7)))/D206)))","v":""},{"$f":"IF(D206=\"\",\"\",IF($G$7-3*(SQRT(($G$7*(ABS(1-$G$7)))/D206))<0,0,$G$7-3*(SQRT(($G$7*(ABS(1-$G$7)))/D206))))","v":""},null,0,{"$f":"IF(H206=\"\",\"\",$G$7)","v":""},{"$f":"IF(D206=\"\",\"\",IF($G$7-1*(SQRT(($G$7*(ABS(1-$G$7)))/D206))<0,0,$G$7-1*(SQRT(($G$7*(ABS(1-$G$7)))/D206))))","v":""},{"$f":"IF(D206=\"\",\"\",IF($G$7-2*(SQRT(($G$7*(ABS(1-$G$7)))/D206))<0,0,$G$7-2*(SQRT(($G$7*(ABS(1-$G$7)))/D206))))","v":""},{"$f":"IF(D206=\"\",\"\",$G$7+1*(SQRT(($G$7*(ABS(1-$G$7)))/D206)))","v":""},{"$f":"IF(D206=\"\",\"\",$G$7+2*(SQRT(($G$7*(ABS(1-$G$7)))/D206)))","v":""},"",null,null,null,null,null,null,null,null,null,null,null,null,null,null,null,null,"",0,"","",0,{"$f":"IF(AK207=2,\"\",IF(AK206>=2,CONCATENATE(\"Data Point \",B206,\" to \",\"Data Point \",(B206+2)),\"\"))","v":""},"",null,null,"",0,"","",{"$f":"SUM(AS206:AS210)","v":0},{"$f":"IF(AT207=4,\"\",IF(AT206>=4,CONCATENATE(\"Data Point \",B206,\" to \",\"Data Point \",(B206+4)),\"\"))","v":""},{"$f":"IF(AND(AR206<>\"\",AU206=\"\"),AR206,IF(AND(AR206=\"\",AU206<>\"\"),AU206,IF(AND(AR206<>\"\",AU206<>\"\"),AR206,\"\")))","v":""},null,null,"",{"$f":"SUM(AY206:AY213)","v":0},"","",{"$f":"SUM(BB206:BB213)","v":0},"",{"$f":"IF(AND(BA206<>\"\",BD206=\"\"),BA206,IF(AND(BA206=\"\",BD206<>\"\"),BD206,IF(AND(BA206<>\"\",BD206<>\"\"),BA206,\"\")))","v":""},null,null,"",""]
[null,"",null,null,{"$f":"IF(D207=\"\",\"\",C207/D207)","v":""},{"$f":"IF(Table13[[#This Row],[PROPORTIONAL]]=\"\", \"\", (ABS(1-Table13[[#This Row],[PROPORTIONAL]])))","v":""},"","",null,{"$f":"IF(B207>$G$9,0,1)","v":0},"","","","","",{"$f":"IF(J207=1, E207, \"\")","v":""},null,null,null,null,null,null,null,null,null,null,null,null,null,null,null,null,{"$f":"IF(E207=\"\",\"\",IF(AND(E207>=O207,E207<G207),1,0))","v":""},{"$f":"SUM(AG207:AG209)","v":0},{"$f":"IF(AH208=2,\"\",IF(AH207>=2,CONCATENATE(\"Data Point \",B207,\" to \",\"Data Point \",(B207+2)),\"\"))","v":""},{"$f":"IF(E207=\"\",\"\",IF(AND(E207<=M207,E207>H207),1,0))","v":""},{"$f":"SUM(AJ207:AJ209)","v":0},"",{"$f":"IF(AND(AI207<>\"\",AL207=\"\"),AI207,IF(AND(AI207=\"\",AL207<>\"\"),AL207,IF(AND(AI207<>\"\",AL207<>\"\"),AI207,\"\")))","v":""},null,null,{"$f":"IF(E207=\"\",\"\",IF(AND(E207>=N207,E207<G207),1,0))","v":""},{"$f":"SUM(AP207:AP211)","v":0},{"$f":"IF(AQ208=4,\"\",IF(AQ207>=4,CONCATENATE(\"Data Point \",B207,\" to \",\"Data Point \",(B207+4)),\"\"))","v":""},{"$f":"IF(E207=\"\",\"\",IF(AND(E207<=L207,E207>H207),1,0))","v":""},0,"","",null,null,{"$f":"IF(E207=\"\",\"\",IF(AND(E207>=K207,E207<G207),1,0))","v":""},0,{"$f":"IF(AZ208=8, \"\", IF(AZ207=8,CONCATENATE(\"Data Point \",B207,\" to \",\"Data Point \",(B207+8)),\"\"))","v":""},{"$f":"IF(E207=\"\",\"\",IF(AND(E207<=K207,E207>H207),1,0))","v":""},0,{"$f":"IF(BC208=8, \"\", IF(BC207=8,CONCATENATE(\"Data Point \",B207,\" to \",\"Data Point \",(B207+8)),\"\"))","v":""},"",null,null,{"$f":"IF(E207=\"\",\"\",IF(OR(E207>G207,E207<H207),1,0))","v":""},{"$f":"IF(BH207=1,CONCATENATE(\"Data Point \",B207),\"\")","v":""}]
[null,{"$f":"IF(C208=\"\",\"\",B207+1)","v":""},null,null,"",{"$f":"IF(Table13[[#This Row],[PROPORTIONAL]]=\"\", \"\", (ABS(1-Table13[[#This Row],[PROPORTIONAL]])))","v":""},"","",null,0,"","","","","","",null,null,null,null,null,null,null,null,null,null,null,null,null,null,null,null,"",0,"","",0,"","",null,null,"",0,"","",0,"","",null,null,"",0,"","",0,"","",null,null,"",""]
[null,"",null,null,"",{"$f":"IF(Table13[[#This Row],[PROPORTIONAL]]=\"\", \"\", (ABS(1-Table13[[#This Row],[PROPORTIONAL]])))","v":""},"","",null,0,"","","","","","",null,null,null,null,null,null,null,null,null,null,null,null,null,null,null,null,"",0,"","",0,"","",null,null,"",0,"","",0,"","",null,null,"",0,"","",0,"","",null,null,"",""]
[null,"",null,null,"",{"$f":"IF(Table13[[#This Row],[PROPORTIONAL]]=\"\", \"\", (ABS(1-Table13[[#This Row],[PROPORTIONAL]])))","v":""},"","",null,0,"","","","","","",null,null,null,null,null,null,null,null,null,null,null,null,null,null,null,null,"",0,"","",0,"","",null,null,"",0,"","",0,"","",null,null,"",0,"","",0,"","",null,null,"",""]
[null,"",null,null,"",{"$f":"IF(Table13[[#This Row],[PROPORTIONAL]]=\"\", \"\", (ABS(1-Table13[[#This Row],[PROPORTIONAL]])))","v":""},"","",null,0,"","","","","","",null,null,null,null,null,null,null,null,null,null,null,null,null,null,null,null,"",0,"","",0,"","",null,null,"",0,"","",0,"","",null,null,"",0,"","",0,"","",null,null,"",""]
[null,"",null,null,"",{"$f":"IF(Table13[[#This Row],[PROPORTIONAL]]=\"\", \"\", (ABS(1-Table13[[#This Row],[PROPORTIONAL]])))","v":""},"","",null,0,"","","","","","",null,null,null,null,null,null,null,null,null,null,null,null,null,null,null,null,"",0,"","",0,"","",null,null,"",0,"","",0,"","",null,null,"",0,"","",0,"","",null,null,"",""]
[null,"",null,null,"",{"$f":"IF(Table13[[#This Row],[PROPORTIONAL]]=\"\", \"\", (ABS(1-Table13[[#This Row],[PROPORTIONAL]])))","v":""},"","",null,0,"","","","","","",null,null,null,null,null,null,null,null,null,null,null,null,null,null,null,null,"",0,"","",0,"","",null,null,"",0,"","",0,"","",null,null,"",0,"","",0,"","",null,null,"",""]
[null,"",null,null,"",{"$f":"IF(Table13[[#This Row],[PROPORTIONAL]]=\"\", \"\", (ABS(1-Table13[[#This Row],[PROPORTIONAL]])))","v":""},"","",null,0,"","","","","","",null,null,null,null,null,null,null,null,null,null,null,null,null,null,null,null,"",0,"","",0,"","",null,null,"",0,"","",0,"","",null,null,"",0,"","",0,"","",null,null,"",""]
[null,"",null,null,"",{"$f":"IF(Table13[[#This Row],[PROPORTIONAL]]=\"\", \"\", (ABS(1-Table13[[#This Row],[PROPORTIONAL]])))","v":""},"","",null,0,"","","","","","",null,null,null,null,null,null,null,null,null,null,null,null,null,null,null,null,"",0,"","",0,"","",null,null,"",0,"","",0,"","",null,null,"",0,"","",0,"","",null,null,"",""]
[null,"",null,null,"",{"$f":"IF(Table13[[#This Row],[PROPORTIONAL]]=\"\", \"\", (ABS(1-Table13[[#This Row],[PROPORTIONAL]])))","v":""},"","",null,0,"","","","","","",null,null,null,null,null,null,null,null,null,null,null,null,null,null,null,null,"",0,"","",0,"","",null,null,"",0,"","",0,"","",null,null,"",0,"","",0,"","",null,null,"",""]
[null,"",null,null,"",{"$f":"IF(Table13[[#This Row],[PROPORTIONAL]]=\"\", \"\", (ABS(1-Table13[[#This Row],[PROPORTIONAL]])))","v":""},"","",null,0,"","","","","","",null,null,null,null,null,null,null,null,null,null,null,null,null,null,null,null,"",0,"","",0,"","",null,null,"",0,"","",0,"","",null,null,"",0,"","",0,"","",null,null,"",""]
[null,"",null,null,"",{"$f":"IF(Table13[[#This Row],[PROPORTIONAL]]=\"\", \"\", (ABS(1-Table13[[#This Row],[PROPORTIONAL]])))","v":""},"","",null,0,"","","","","","",null,null,null,null,null,null,null,null,null,null,null,null,null,null,null,null,"",0,"","",0,"","",null,null,"",0,"","",0,"","",null,null,"",0,"","",0,"","",null,null,"",""]
[null,"",null,null,"",{"$f":"IF(Table13[[#This Row],[PROPORTIONAL]]=\"\", \"\", (ABS(1-Table13[[#This Row],[PROPORTIONAL]])))","v":""},"","",null,0,"","","","","","",null,null,null,null,null,null,null,null,null,null,null,null,null,null,null,null,"",0,"","",0,"","",null,null,"",0,"","",0,"","",null,null,"",0,"","",0,"","",null,null,"",""]
[null,"",null,null,"",{"$f":"IF(Table13[[#This Row],[PROPORTIONAL]]=\"\", \"\", (ABS(1-Table13[[#This Row],[PROPORTIONAL]])))","v":""},"","",null,0,"","","","","","",null,null,null,null,null,null,null,null,null,null,null,null,null,null,null,null,"",0,"","",0,"","",null,null,"",0,"","",0,"","",null,null,"",0,"","",0,"","",null,null,"",""]
[null,"",null,null,"",{"$f":"IF(Table13[[#This Row],[PROPORTIONAL]]=\"\", \"\", (ABS(1-Table13[[#This Row],[PROPORTIONAL]])))","v":""},"","",null,0,"","","","","","",null,null,null,null,null,null,null,null,null,null,null,null,null,null,null,null,"",0,"","",0,"","",null,null,"",0,"","",0,"","",null,null,"",0,"","",0,"","",null,null,"",""]
[null,"",null,null,"",{"$f":"IF(Table13[[#This Row],[PROPORTIONAL]]=\"\", \"\", (ABS(1-Table13[[#This Row],[PROPORTIONAL]])))","v":""},"","",null,0,"","","","","","",null,null,null,null,null,null,null,null,null,null,null,null,null,null,null,null,"",0,"","",0,"","",null,null,"",0,"","",0,"","",null,null,"",0,"","",0,"","",null,null,"",""]
[null,"",null,null,"",{"$f":"IF(Table13[[#This Row],[PROPORTIONAL]]=\"\", \"\", (ABS(1-Table13[[#This Row],[PROPORTIONAL]])))","v":""},"","",null,0,"","","","","","",null,null,null,null,null,null,null,null,null,null,null,null,null,null,null,null,"",0,"","",0,"","",null,null,"",0,"","",0,"","",null,null,"",0,"","",0,"","",null,null,"",""]
[null,"",null,null,"",{"$f":"IF(Table13[[#This Row],[PROPORTIONAL]]=\"\", \"\", (ABS(1-Table13[[#This Row],[PROPORTIONAL]])))","v":""},"","",null,0,"","","","","","",null,null,null,null,null,null,null,null,null,null,null,null,null,null,null,null,"",0,"","",0,"","",null,null,"",0,"","",0,"","",null,null,"",0,"","",0,"","",null,null,"",""]
[null,"",null,null,"",{"$f":"IF(Table13[[#This Row],[PROPORTIONAL]]=\"\", \"\", (ABS(1-Table13[[#This Row],[PROPORTIONAL]])))","v":""},"","",null,0,"","","","","","",null,null,null,null,null,null,null,null,null,null,null,null,null,null,null,null,"",0,"","",0,"","",null,null,"",0,"","",0,"","",null,null,"",0,"","",0,"","",null,null,"",""]
[null,"",null,null,"",{"$f":"IF(Table13[[#This Row],[PROPORTIONAL]]=\"\", \"\", (ABS(1-Table13[[#This Row],[PROPORTIONAL]])))","v":""},"","",null,0,"","","","","","",null,null,null,null,null,null,null,null,null,null,null,null,null,null,null,null,"",0,"","",0,"","",null,null,"",0,"","",0,"","",null,null,"",0,"","",0,"","",null,null,"",""]
[null,"",null,null,"",{"$f":"IF(Table13[[#This Row],[PROPORTIONAL]]=\"\", \"\", (ABS(1-Table13[[#This Row],[PROPORTIONAL]])))","v":""},"","",null,0,"","","","","","",null,null,null,null,null,null,null,null,null,null,null,null,null,null,null,null,"",0,"","",0,"","",null,null,"",0,"","",0,"","",null,null,"",0,"","",0,"","",null,null,"",""]
[null,"",null,null,"",{"$f":"IF(Table13[[#This Row],[PROPORTIONAL]]=\"\", \"\", (ABS(1-Table13[[#This Row],[PROPORTIONAL]])))","v":""},"","",null,0,"","","","","","",null,null,null,null,null,null,null,null,null,null,null,null,null,null,null,null,"",0,"","",0,"","",null,null,"",0,"","",0,"","",null,null,"",0,"","",0,"","",null,null,"",""]
[null,"",null,null,"",{"$f":"IF(Table13[[#This Row],[PROPORTIONAL]]=\"\", \"\", (ABS(1-Table13[[#This Row],[PROPORTIONAL]])))","v":""},"","",null,0,"","","","","","",null,null,null,null,null,null,null,null,null,null,null,null,null,null,null,null,"",0,"","",0,"","",null,null,"",0,"","",0,"","",null,null,"",0,"","",0,"","",null,null,"",""]
[null,"",null,null,"",{"$f":"IF(Table13[[#This Row],[PROPORTIONAL]]=\"\", \"\", (ABS(1-Table13[[#This Row],[PROPORTIONAL]])))","v":""},"","",null,0,"","","","","","",null,null,null,null,null,null,null,null,null,null,null,null,null,null,null,null,"",0,"","",0,"","",null,null,"",0,"","",0,"","",null,null,"",0,"","",0,"","",null,null,"",""]
[null,"",null,null,"",{"$f":"IF(Table13[[#This Row],[PROPORTIONAL]]=\"\", \"\", (ABS(1-Table13[[#This Row],[PROPORTIONAL]])))","v":""},"","",null,0,"","","","","","",null,null,null,null,null,null,null,null,null,null,null,null,null,null,null,null,"",0,"","",0,"","",null,null,"",0,"","",0,"","",null,null,"",0,"","",0,"","",null,null,"",""]
[null,"",null,null,"",{"$f":"IF(Table13[[#This Row],[PROPORTIONAL]]=\"\", \"\", (ABS(1-Table13[[#This Row],[PROPORTIONAL]])))","v":""},"","",null,0,"","","","","","",null,null,null,null,null,null,null,null,null,null,null,null,null,null,null,null,"",0,"","",0,"","",null,null,"",0,"","",0,"","",null,null,"",0,"","",0,"","",null,null,"",""]
[null,"",null,null,"",{"$f":"IF(Table13[[#This Row],[PROPORTIONAL]]=\"\", \"\", (ABS(1-Table13[[#This Row],[PROPORTIONAL]])))","v":""},"","",null,0,"","","","","","",null,null,null,null,null,null,null,null,null,null,null,null,null,null,null,null,"",0,"","",0,"","",null,null,"",0,"","",0,"","",null,null,"",0,"","",0,"","",null,null,"",""]
[null,"",null,null,"",{"$f":"IF(Table13[[#This Row],[PROPORTIONAL]]=\"\", \"\", (ABS(1-Table13[[#This Row],[PROPORTIONAL]])))","v":""},"","",null,0,"","","","","","",null,null,null,null,null,null,null,null,null,null,null,null,null,null,null,null,"",0,"","",0,"","",null,null,"",0,"","",0,"","",null,null,"",0,"","",0,"","",null,null,"",""]
[null,"",null,null,"",{"$f":"IF(Table13[[#This Row],[PROPORTIONAL]]=\"\", \"\", (ABS(1-Table13[[#This Row],[PROPORTIONAL]])))","v":""},"","",null,0,"","","","","","",null,null,null,null,null,null,null,null,null,null,null,null,null,null,null,null,"",0,"","",0,"","",null,null,"",0,"","",0,"","",null,null,"",0,"","",0,"","",null,null,"",""]
[null,"",null,null,"",{"$f":"IF(Table13[[#This Row],[PROPORTIONAL]]=\"\", \"\", (ABS(1-Table13[[#This Row],[PROPORTIONAL]])))","v":""},"","",null,0,"","","","","","",null,null,null,null,null,null,null,null,null,null,null,null,null,null,null,null,"",0,"","",0,"","",null,null,"",0,"","",0,"","",null,null,"",0,"","",0,"","",null,null,"",""]
[null,"",null,null,"",{"$f":"IF(Table13[[#This Row],[PROPORTIONAL]]=\"\", \"\", (ABS(1-Table13[[#This Row],[PROPORTIONAL]])))","v":""},"","",null,0,"","","","","","",null,null,null,null,null,null,null,null,null,null,null,null,null,null,null,null,"",0,"","",0,"","",null,null,"",0,"","",0,"","",null,null,"",0,"","",0,"","",null,null,"",""]
[null,"",null,null,"",{"$f":"IF(Table13[[#This Row],[PROPORTIONAL]]=\"\", \"\", (ABS(1-Table13[[#This Row],[PROPORTIONAL]])))","v":""},"","",null,0,"","","","","","",null,null,null,null,null,null,null,null,null,null,null,null,null,null,null,null,"",0,"","",0,"","",null,null,"",0,"","",0,"","",null,null,"",0,"","",0,"","",null,null,"",""]
[null,"",null,null,"",{"$f":"IF(Table13[[#This Row],[PROPORTIONAL]]=\"\", \"\", (ABS(1-Table13[[#This Row],[PROPORTIONAL]])))","v":""},"","",null,0,"","","","","","",null,null,null,null,null,null,null,null,null,null,null,null,null,null,null,null,"",0,"","",0,"","",null,null,"",0,"","",0,"","",null,null,"",0,"","",0,"","",null,null,"",""]
[null,"",null,null,"",{"$f":"IF(Table13[[#This Row],[PROPORTIONAL]]=\"\", \"\", (ABS(1-Table13[[#This Row],[PROPORTIONAL]])))","v":""},"","",null,0,"","","","","","",null,null,null,null,null,null,null,null,null,null,null,null,null,null,null,null,"",0,"","",0,"","",null,null,"",0,"","",0,"","",null,null,"",0,"","",0,"","",null,null,"",""]
[null,"",null,null,"",{"$f":"IF(Table13[[#This Row],[PROPORTIONAL]]=\"\", \"\", (ABS(1-Table13[[#This Row],[PROPORTIONAL]])))","v":""},"","",null,0,"","","","","","",null,null,null,null,null,null,null,null,null,null,null,null,null,null,null,null,"",0,"","",0,"","",null,null,"",0,"","",0,"","",null,null,"",0,"","",0,"","",null,null,"",""]
[null,"",null,null,"",{"$f":"IF(Table13[[#This Row],[PROPORTIONAL]]=\"\", \"\", (ABS(1-Table13[[#This Row],[PROPORTIONAL]])))","v":""},"","",null,0,"","","","","","",null,null,null,null,null,null,null,null,null,null,null,null,null,null,null,null,"",0,"","",0,"","",null,null,"",0,"","",0,"","",null,null,"",0,"","",0,"","",null,null,"",""]
[null,"",null,null,"",{"$f":"IF(Table13[[#This Row],[PROPORTIONAL]]=\"\", \"\", (ABS(1-Table13[[#This Row],[PROPORTIONAL]])))","v":""},"","",null,0,"","","","","","",null,null,null,null,null,null,null,null,null,null,null,null,null,null,null,null,"",0,"","",0,"","",null,null,"",0,"","",0,"","",null,null,"",0,"","",0,"","",null,null,"",""]
[null,"",null,null,"",{"$f":"IF(Table13[[#This Row],[PROPORTIONAL]]=\"\", \"\", (ABS(1-Table13[[#This Row],[PROPORTIONAL]])))","v":""},"","",null,0,"","","","","","",null,null,null,null,null,null,null,null,null,null,null,null,null,null,null,null,"",0,"","",0,"","",null,null,"",0,"","",0,"","",null,null,"",0,"","",0,"","",null,null,"",""]
[null,"",null,null,"",{"$f":"IF(Table13[[#This Row],[PROPORTIONAL]]=\"\", \"\", (ABS(1-Table13[[#This Row],[PROPORTIONAL]])))","v":""},"","",null,0,"","","","","","",null,null,null,null,null,null,null,null,null,null,null,null,null,null,null,null,"",0,"","",0,"","",null,null,"",0,"","",0,"","",null,null,"",0,"","",0,"","",null,null,"",""]
[null,"",null,null,"",{"$f":"IF(Table13[[#This Row],[PROPORTIONAL]]=\"\", \"\", (ABS(1-Table13[[#This Row],[PROPORTIONAL]])))","v":""},"","",null,0,"","","","","","",null,null,null,null,null,null,null,null,null,null,null,null,null,null,null,null,"",0,"","",0,"","",null,null,"",0,"","",0,"","",null,null,"",0,"","",0,"","",null,null,"",""]
[null,"",null,null,"",{"$f":"IF(Table13[[#This Row],[PROPORTIONAL]]=\"\", \"\", (ABS(1-Table13[[#This Row],[PROPORTIONAL]])))","v":""},"","",null,0,"","","","","","",null,null,null,null,null,null,null,null,null,null,null,null,null,null,null,null,"",0,"","",0,"","",null,null,"",0,"","",0,"","",null,null,"",0,"","",0,"","",null,null,"",""]
[null,"",null,null,"",{"$f":"IF(Table13[[#This Row],[PROPORTIONAL]]=\"\", \"\", (ABS(1-Table13[[#This Row],[PROPORTIONAL]])))","v":""},"","",null,0,"","","","","","",null,null,null,null,null,null,null,null,null,null,null,null,null,null,null,null,"",0,"","",0,"","",null,null,"",0,"","",0,"","",null,null,"",0,"","",0,"","",null,null,"",""]
[null,"",null,null,"",{"$f":"IF(Table13[[#This Row],[PROPORTIONAL]]=\"\", \"\", (ABS(1-Table13[[#This Row],[PROPORTIONAL]])))","v":""},"","",null,0,"","","","","","",null,null,null,null,null,null,null,null,null,null,null,null,null,null,null,null,"",0,"","",0,"","",null,null,"",0,"","",0,"","",null,null,"",0,"","",0,"","",null,null,"",""]
[null,"",null,null,"",{"$f":"IF(Table13[[#This Row],[PROPORTIONAL]]=\"\", \"\", (ABS(1-Table13[[#This Row],[PROPORTIONAL]])))","v":""},"","",null,0,"","","","","","",null,null,null,null,null,null,null,null,null,null,null,null,null,null,null,null,"",0,"","",0,"","",null,null,"",0,"","",0,"","",null,null,"",0,"","",0,"","",null,null,"",""]
[null,"",null,null,"",{"$f":"IF(Table13[[#This Row],[PROPORTIONAL]]=\"\", \"\", (ABS(1-Table13[[#This Row],[PROPORTIONAL]])))","v":""},"","",null,0,"","","","","","",null,null,null,null,null,null,null,null,null,null,null,null,null,null,null,null,"",0,"","",0,"","",null,null,"",0,"","",0,"","",null,null,"",0,"","",0,"","",null,null,"",""]
[null,"",null,null,"",{"$f":"IF(Table13[[#This Row],[PROPORTIONAL]]=\"\", \"\", (ABS(1-Table13[[#This Row],[PROPORTIONAL]])))","v":""},"","",null,0,"","","","","","",null,null,null,null,null,null,null,null,null,null,null,null,null,null,null,null,"",0,"","",0,"","",null,null,"",0,"","",0,"","",null,null,"",0,"","",0,"","",null,null,"",""]
[null,"",null,null,"",{"$f":"IF(Table13[[#This Row],[PROPORTIONAL]]=\"\", \"\", (ABS(1-Table13[[#This Row],[PROPORTIONAL]])))","v":""},"","",null,0,"","","","","","",null,null,null,null,null,null,null,null,null,null,null,null,null,null,null,null,"",0,"","",0,"","",null,null,"",0,"","",0,"","",null,null,"",0,"","",0,"","",null,null,"",""]
[null,"",null,null,"",{"$f":"IF(Table13[[#This Row],[PROPORTIONAL]]=\"\", \"\", (ABS(1-Table13[[#This Row],[PROPORTIONAL]])))","v":""},"","",null,0,"","","","","","",null,null,null,null,null,null,null,null,null,null,null,null,null,null,null,null,"",0,"","",0,"","",null,null,"",0,"","",0,"","",null,null,"",0,"","",0,"","",null,null,"",""]
[null,"",null,null,"",{"$f":"IF(Table13[[#This Row],[PROPORTIONAL]]=\"\", \"\", (ABS(1-Table13[[#This Row],[PROPORTIONAL]])))","v":""},"","",null,0,"","","","","","",null,null,null,null,null,null,null,null,null,null,null,null,null,null,null,null,"",0,"","",0,"","",null,null,"",0,"","",0,"","",null,null,"",0,"","",0,"","",null,null,"",""]
[null,"",null,null,"",{"$f":"IF(Table13[[#This Row],[PROPORTIONAL]]=\"\", \"\", (ABS(1-Table13[[#This Row],[PROPORTIONAL]])))","v":""},"","",null,0,"","","","","","",null,null,null,null,null,null,null,null,null,null,null,null,null,null,null,null,"",0,"","",0,"","",null,null,"",0,"","",0,"","",null,null,"",0,"","",0,"","",null,null,"",""]
[null,"",null,null,"",{"$f":"IF(Table13[[#This Row],[PROPORTIONAL]]=\"\", \"\", (ABS(1-Table13[[#This Row],[PROPORTIONAL]])))","v":""},"","",null,0,"","","","","","",null,null,null,null,null,null,null,null,null,null,null,null,null,null,null,null,"",0,"","",0,"","",null,null,"",0,"","",0,"","",null,null,"",0,"","",0,"","",null,null,"",""]
[null,"",null,null,"",{"$f":"IF(Table13[[#This Row],[PROPORTIONAL]]=\"\", \"\", (ABS(1-Table13[[#This Row],[PROPORTIONAL]])))","v":""},"","",null,0,"","","","","","",null,null,null,null,null,null,null,null,null,null,null,null,null,null,null,null,"",0,"","",0,"","",null,null,"",0,"","",0,"","",null,null,"",0,"","",0,"","",null,null,"",""]
[null,"",null,null,"",{"$f":"IF(Table13[[#This Row],[PROPORTIONAL]]=\"\", \"\", (ABS(1-Table13[[#This Row],[PROPORTIONAL]])))","v":""},"","",null,0,"","","","","","",null,null,null,null,null,null,null,null,null,null,null,null,null,null,null,null,"",0,"","",0,"","",null,null,"",0,"","",0,"","",null,null,"",0,"","",0,"","",null,null,"",""]
[null,"",null,null,"",{"$f":"IF(Table13[[#This Row],[PROPORTIONAL]]=\"\", \"\", (ABS(1-Table13[[#This Row],[PROPORTIONAL]])))","v":""},"","",null,0,"","","","","","",null,null,null,null,null,null,null,null,null,null,null,null,null,null,null,null,"",0,"","",0,"","",null,null,"",0,"","",0,"","",null,null,"",0,"","",0,"","",null,null,"",""]
[null,"",null,null,"",{"$f":"IF(Table13[[#This Row],[PROPORTIONAL]]=\"\", \"\", (ABS(1-Table13[[#This Row],[PROPORTIONAL]])))","v":""},"","",null,0,"","","","","","",null,null,null,null,null,null,null,null,null,null,null,null,null,null,null,null,"",0,"","",0,"","",null,null,"",0,"","",0,"","",null,null,"",0,"","",0,"","",null,null,"",""]
[null,"",null,null,"",{"$f":"IF(Table13[[#This Row],[PROPORTIONAL]]=\"\", \"\", (ABS(1-Table13[[#This Row],[PROPORTIONAL]])))","v":""},"","",null,0,"","","","","","",null,null,null,null,null,null,null,null,null,null,null,null,null,null,null,null,"",0,"","",0,"","",null,null,"",0,"","",0,"","",null,null,"",0,"","",0,"","",null,null,"",""]
[null,"",null,null,"",{"$f":"IF(Table13[[#This Row],[PROPORTIONAL]]=\"\", \"\", (ABS(1-Table13[[#This Row],[PROPORTIONAL]])))","v":""},"","",null,0,"","","","","","",null,null,null,null,null,null,null,null,null,null,null,null,null,null,null,null,"",0,"","",0,"","",null,null,"",0,"","",0,"","",null,null,"",0,"","",0,"","",null,null,"",""]
[null,"",null,null,"",{"$f":"IF(Table13[[#This Row],[PROPORTIONAL]]=\"\", \"\", (ABS(1-Table13[[#This Row],[PROPORTIONAL]])))","v":""},"","",null,0,"","","","","","",null,null,null,null,null,null,null,null,null,null,null,null,null,null,null,null,"",0,"","",0,"","",null,null,"",0,"","",0,"","",null,null,"",0,"","",0,"","",null,null,"",""]
[null,"",null,null,"",{"$f":"IF(Table13[[#This Row],[PROPORTIONAL]]=\"\", \"\", (ABS(1-Table13[[#This Row],[PROPORTIONAL]])))","v":""},"","",null,0,"","","","","","",null,null,null,null,null,null,null,null,null,null,null,null,null,null,null,null,"",0,"","",0,"","",null,null,"",0,"","",0,"","",null,null,"",0,"","",0,"","",null,null,"",""]
[null,"",null,null,"",{"$f":"IF(Table13[[#This Row],[PROPORTIONAL]]=\"\", \"\", (ABS(1-Table13[[#This Row],[PROPORTIONAL]])))","v":""},"","",null,0,"","","","","","",null,null,null,null,null,null,null,null,null,null,null,null,null,null,null,null,"",0,"","",0,"","",null,null,"",0,"","",0,"","",null,null,"",0,"","",0,"","",null,null,"",""]
[null,"",null,null,"",{"$f":"IF(Table13[[#This Row],[PROPORTIONAL]]=\"\", \"\", (ABS(1-Table13[[#This Row],[PROPORTIONAL]])))","v":""},"","",null,0,"","","","","","",null,null,null,null,null,null,null,null,null,null,null,null,null,null,null,null,"",0,"","",0,"","",null,null,"",0,"","",0,"","",null,null,"",0,"","",0,"","",null,null,"",""]
[null,"",null,null,"",{"$f":"IF(Table13[[#This Row],[PROPORTIONAL]]=\"\", \"\", (ABS(1-Table13[[#This Row],[PROPORTIONAL]])))","v":""},"","",null,0,"","","","","","",null,null,null,null,null,null,null,null,null,null,null,null,null,null,null,null,"",0,"","",0,"","",null,null,"",0,"","",0,"","",null,null,"",0,"","",0,"","",null,null,"",""]
[null,"",null,null,"",{"$f":"IF(Table13[[#This Row],[PROPORTIONAL]]=\"\", \"\", (ABS(1-Table13[[#This Row],[PROPORTIONAL]])))","v":""},"","",null,0,"","","","","","",null,null,null,null,null,null,null,null,null,null,null,null,null,null,null,null,"",0,"","",0,"","",null,null,"",0,"","",0,"","",null,null,"",0,"","",0,"","",null,null,"",""]
[null,"",null,null,"",{"$f":"IF(Table13[[#This Row],[PROPORTIONAL]]=\"\", \"\", (ABS(1-Table13[[#This Row],[PROPORTIONAL]])))","v":""},{"$f":"IF(D270=\"\",\"\",$G$7+3*(SQRT(($G$7*(ABS(1-$G$7)))/D270)))","v":""},{"$f":"IF(D270=\"\",\"\",IF($G$7-3*(SQRT(($G$7*(ABS(1-$G$7)))/D270))<0,0,$G$7-3*(SQRT(($G$7*(ABS(1-$G$7)))/D270))))","v":""},null,0,{"$f":"IF(H270=\"\",\"\",$G$7)","v":""},{"$f":"IF(D270=\"\",\"\",IF($G$7-1*(SQRT(($G$7*(ABS(1-$G$7)))/D270))<0,0,$G$7-1*(SQRT(($G$7*(ABS(1-$G$7)))/D270))))","v":""},{"$f":"IF(D270=\"\",\"\",IF($G$7-2*(SQRT(($G$7*(ABS(1-$G$7)))/D270))<0,0,$G$7-2*(SQRT(($G$7*(ABS(1-$G$7)))/D270))))","v":""},{"$f":"IF(D270=\"\",\"\",$G$7+1*(SQRT(($G$7*(ABS(1-$G$7)))/D270)))","v":""},{"$f":"IF(D270=\"\",\"\",$G$7+2*(SQRT(($G$7*(ABS(1-$G$7)))/D270)))","v":""},"",null,null,null,null,null,null,null,null,null,null,null,null,null,null,null,null,"",0,"","",0,{"$f":"IF(AK271=2,\"\",IF(AK270>=2,CONCATENATE(\"Data Point \",B270,\" to \",\"Data Point \",(B270+2)),\"\"))","v":""},"",null,null,"",0,"","",{"$f":"SUM(AS270:AS274)","v":0},{"$f":"IF(AT271=4,\"\",IF(AT270>=4,CONCATENATE(\"Data Point \",B270,\" to \",\"Data Point \",(B270+4)),\"\"))","v":""},{"$f":"IF(AND(AR270<>\"\",AU270=\"\"),AR270,IF(AND(AR270=\"\",AU270<>\"\"),AU270,IF(AND(AR270<>\"\",AU270<>\"\"),AR270,\"\")))","v":""},null,null,"",{"$f":"SUM(AY270:AY277)","v":0},"","",{"$f":"SUM(BB270:BB277)","v":0},"",{"$f":"IF(AND(BA270<>\"\",BD270=\"\"),BA270,IF(AND(BA270=\"\",BD270<>\"\"),BD270,IF(AND(BA270<>\"\",BD270<>\"\"),BA270,\"\")))","v":""},null,null,"",""]
[null,"",null,null,{"$f":"IF(D271=\"\",\"\",C271/D271)","v":""},{"$f":"IF(Table13[[#This Row],[PROPORTIONAL]]=\"\", \"\", (ABS(1-Table13[[#This Row],[PROPORTIONAL]])))","v":""},"","",null,{"$f":"IF(B271>$G$9,0,1)","v":0},"","","","","",{"$f":"IF(J271=1, E271, \"\")","v":""},null,null,null,null,null,null,null,null,null,null,null,null,null,null,null,null,{"$f":"IF(E271=\"\",\"\",IF(AND(E271>=O271,E271<G271),1,0))","v":""},{"$f":"SUM(AG271:AG273)","v":0},{"$f":"IF(AH272=2,\"\",IF(AH271>=2,CONCATENATE(\"Data Point \",B271,\" to \",\"Data Point \",(B271+2)),\"\"))","v":""},{"$f":"IF(E271=\"\",\"\",IF(AND(E271<=M271,E271>H271),1,0))","v":""},{"$f":"SUM(AJ271:AJ273)","v":0},"",{"$f":"IF(AND(AI271<>\"\",AL271=\"\"),AI271,IF(AND(AI271=\"\",AL271<>\"\"),AL271,IF(AND(AI271<>\"\",AL271<>\"\"),AI271,\"\")))","v":""},null,null,{"$f":"IF(E271=\"\",\"\",IF(AND(E271>=N271,E271<G271),1,0))","v":""},{"$f":"SUM(AP271:AP275)","v":0},{"$f":"IF(AQ272=4,\"\",IF(AQ271>=4,CONCATENATE(\"Data Point \",B271,\" to \",\"Data Point \",(B271+4)),\"\"))","v":""},{"$f":"IF(E271=\"\",\"\",IF(AND(E271<=L271,E271>H271),1,0))","v":""},0,"","",null,null,{"$f":"IF(E271=\"\",\"\",IF(AND(E271>=K271,E271<G271),1,0))","v":""},0,{"$f":"IF(AZ272=8, \"\", IF(AZ271=8,CONCATENATE(\"Data Point \",B271,\" to \",\"Data Point \",(B271+8)),\"\"))","v":""},{"$f":"IF(E271=\"\",\"\",IF(AND(E271<=K271,E271>H271),1,0))","v":""},0,{"$f":"IF(BC272=8, \"\", IF(BC271=8,CONCATENATE(\"Data Point \",B271,\" to \",\"Data Point \",(B271+8)),\"\"))","v":""},"",null,null,{"$f":"IF(E271=\"\",\"\",IF(OR(E271>G271,E271<H271),1,0))","v":""},{"$f":"IF(BH271=1,CONCATENATE(\"Data Point \",B271),\"\")","v":""}]
[null,{"$f":"IF(C272=\"\",\"\",B271+1)","v":""},null,null,"",{"$f":"IF(Table13[[#This Row],[PROPORTIONAL]]=\"\", \"\", (ABS(1-Table13[[#This Row],[PROPORTIONAL]])))","v":""},"","",null,0,"","","","","","",null,null,null,null,null,null,null,null,null,null,null,null,null,null,null,null,"",0,"","",0,"","",null,null,"",0,"","",0,"","",null,null,"",0,"","",0,"","",null,null,"",""]
[null,"",null,null,"",{"$f":"IF(Table13[[#This Row],[PROPORTIONAL]]=\"\", \"\", (ABS(1-Table13[[#This Row],[PROPORTIONAL]])))","v":""},"","",null,0,"","","","","","",null,null,null,null,null,null,null,null,null,null,null,null,null,null,null,null,"",0,"","",0,"","",null,null,"",0,"","",0,"","",null,null,"",0,"","",0,"","",null,null,"",""]
[null,"",null,null,"",{"$f":"IF(Table13[[#This Row],[PROPORTIONAL]]=\"\", \"\", (ABS(1-Table13[[#This Row],[PROPORTIONAL]])))","v":""},"","",null,0,"","","","","","",null,null,null,null,null,null,null,null,null,null,null,null,null,null,null,null,"",0,"","",0,"","",null,null,"",0,"","",0,"","",null,null,"",0,"","",0,"","",null,null,"",""]
[null,"",null,null,"",{"$f":"IF(Table13[[#This Row],[PROPORTIONAL]]=\"\", \"\", (ABS(1-Table13[[#This Row],[PROPORTIONAL]])))","v":""},"","",null,0,"","","","","","",null,null,null,null,null,null,null,null,null,null,null,null,null,null,null,null,"",0,"","",0,"","",null,null,"",0,"","",0,"","",null,null,"",0,"","",0,"","",null,null,"",""]
[null,"",null,null,"",{"$f":"IF(Table13[[#This Row],[PROPORTIONAL]]=\"\", \"\", (ABS(1-Table13[[#This Row],[PROPORTIONAL]])))","v":""},"","",null,0,"","","","","","",null,null,null,null,null,null,null,null,null,null,null,null,null,null,null,null,"",0,"","",0,"","",null,null,"",0,"","",0,"","",null,null,"",0,"","",0,"","",null,null,"",""]
[null,"",null,null,"",{"$f":"IF(Table13[[#This Row],[PROPORTIONAL]]=\"\", \"\", (ABS(1-Table13[[#This Row],[PROPORTIONAL]])))","v":""},"","",null,0,"","","","","","",null,null,null,null,null,null,null,null,null,null,null,null,null,null,null,null,"",0,"","",0,"","",null,null,"",0,"","",0,"","",null,null,"",0,"","",0,"","",null,null,"",""]
[null,"",null,null,"",{"$f":"IF(Table13[[#This Row],[PROPORTIONAL]]=\"\", \"\", (ABS(1-Table13[[#This Row],[PROPORTIONAL]])))","v":""},"","",null,0,"","","","","","",null,null,null,null,null,null,null,null,null,null,null,null,null,null,null,null,"",0,"","",0,"","",null,null,"",0,"","",0,"","",null,null,"",0,"","",0,"","",null,null,"",""]
[null,"",null,null,"",{"$f":"IF(Table13[[#This Row],[PROPORTIONAL]]=\"\", \"\", (ABS(1-Table13[[#This Row],[PROPORTIONAL]])))","v":""},"","",null,0,"","","","","","",null,null,null,null,null,null,null,null,null,null,null,null,null,null,null,null,"",0,"","",0,"","",null,null,"",0,"","",0,"","",null,null,"",0,"","",0,"","",null,null,"",""]
[null,"",null,null,"",{"$f":"IF(Table13[[#This Row],[PROPORTIONAL]]=\"\", \"\", (ABS(1-Table13[[#This Row],[PROPORTIONAL]])))","v":""},"","",null,0,"","","","","","",null,null,null,null,null,null,null,null,null,null,null,null,null,null,null,null,"",0,"","",0,"","",null,null,"",0,"","",0,"","",null,null,"",0,"","",0,"","",null,null,"",""]
[null,"",null,null,"",{"$f":"IF(Table13[[#This Row],[PROPORTIONAL]]=\"\", \"\", (ABS(1-Table13[[#This Row],[PROPORTIONAL]])))","v":""},"","",null,0,"","","","","","",null,null,null,null,null,null,null,null,null,null,null,null,null,null,null,null,"",0,"","",0,"","",null,null,"",0,"","",0,"","",null,null,"",0,"","",0,"","",null,null,"",""]
[null,"",null,null,"",{"$f":"IF(Table13[[#This Row],[PROPORTIONAL]]=\"\", \"\", (ABS(1-Table13[[#This Row],[PROPORTIONAL]])))","v":""},"","",null,0,"","","","","","",null,null,null,null,null,null,null,null,null,null,null,null,null,null,null,null,"",0,"","",0,"","",null,null,"",0,"","",0,"","",null,null,"",0,"","",0,"","",null,null,"",""]
[null,"",null,null,"",{"$f":"IF(Table13[[#This Row],[PROPORTIONAL]]=\"\", \"\", (ABS(1-Table13[[#This Row],[PROPORTIONAL]])))","v":""},"","",null,0,"","","","","","",null,null,null,null,null,null,null,null,null,null,null,null,null,null,null,null,"",0,"","",0,"","",null,null,"",0,"","",0,"","",null,null,"",0,"","",0,"","",null,null,"",""]
[null,"",null,null,"",{"$f":"IF(Table13[[#This Row],[PROPORTIONAL]]=\"\", \"\", (ABS(1-Table13[[#This Row],[PROPORTIONAL]])))","v":""},"","",null,0,"","","","","","",null,null,null,null,null,null,null,null,null,null,null,null,null,null,null,null,"",0,"","",0,"","",null,null,"",0,"","",0,"","",null,null,"",0,"","",0,"","",null,null,"",""]
[null,"",null,null,"",{"$f":"IF(Table13[[#This Row],[PROPORTIONAL]]=\"\", \"\", (ABS(1-Table13[[#This Row],[PROPORTIONAL]])))","v":""},"","",null,0,"","","","","","",null,null,null,null,null,null,null,null,null,null,null,null,null,null,null,null,"",0,"","",0,"","",null,null,"",0,"","",0,"","",null,null,"",0,"","",0,"","",null,null,"",""]
[null,"",null,null,"",{"$f":"IF(Table13[[#This Row],[PROPORTIONAL]]=\"\", \"\", (ABS(1-Table13[[#This Row],[PROPORTIONAL]])))","v":""},"","",null,0,"","","","","","",null,null,null,null,null,null,null,null,null,null,null,null,null,null,null,null,"",0,"","",0,"","",null,null,"",0,"","",0,"","",null,null,"",0,"","",0,"","",null,null,"",""]
[null,"",null,null,"",{"$f":"IF(Table13[[#This Row],[PROPORTIONAL]]=\"\", \"\", (ABS(1-Table13[[#This Row],[PROPORTIONAL]])))","v":""},"","",null,0,"","","","","","",null,null,null,null,null,null,null,null,null,null,null,null,null,null,null,null,"",0,"","",0,"","",null,null,"",0,"","",0,"","",null,null,"",0,"","",0,"","",null,null,"",""]
[null,"",null,null,"",{"$f":"IF(Table13[[#This Row],[PROPORTIONAL]]=\"\", \"\", (ABS(1-Table13[[#This Row],[PROPORTIONAL]])))","v":""},"","",null,0,"","","","","","",null,null,null,null,null,null,null,null,null,null,null,null,null,null,null,null,"",0,"","",0,"","",null,null,"",0,"","",0,"","",null,null,"",0,"","",0,"","",null,null,"",""]
[null,"",null,null,"",{"$f":"IF(Table13[[#This Row],[PROPORTIONAL]]=\"\", \"\", (ABS(1-Table13[[#This Row],[PROPORTIONAL]])))","v":""},"","",null,0,"","","","","","",null,null,null,null,null,null,null,null,null,null,null,null,null,null,null,null,"",0,"","",0,"","",null,null,"",0,"","",0,"","",null,null,"",0,"","",0,"","",null,null,"",""]
[null,"",null,null,"",{"$f":"IF(Table13[[#This Row],[PROPORTIONAL]]=\"\", \"\", (ABS(1-Table13[[#This Row],[PROPORTIONAL]])))","v":""},"","",null,0,"","","","","","",null,null,null,null,null,null,null,null,null,null,null,null,null,null,null,null,"",0,"","",0,"","",null,null,"",0,"","",0,"","",null,null,"",0,"","",0,"","",null,null,"",""]
[null,"",null,null,"",{"$f":"IF(Table13[[#This Row],[PROPORTIONAL]]=\"\", \"\", (ABS(1-Table13[[#This Row],[PROPORTIONAL]])))","v":""},"","",null,0,"","","","","","",null,null,null,null,null,null,null,null,null,null,null,null,null,null,null,null,"",0,"","",0,"","",null,null,"",0,"","",0,"","",null,null,"",0,"","",0,"","",null,null,"",""]
[null,"",null,null,"",{"$f":"IF(Table13[[#This Row],[PROPORTIONAL]]=\"\", \"\", (ABS(1-Table13[[#This Row],[PROPORTIONAL]])))","v":""},"","",null,0,"","","","","","",null,null,null,null,null,null,null,null,null,null,null,null,null,null,null,null,"",0,"","",0,"","",null,null,"",0,"","",0,"","",null,null,"",0,"","",0,"","",null,null,"",""]
[null,"",null,null,"",{"$f":"IF(Table13[[#This Row],[PROPORTIONAL]]=\"\", \"\", (ABS(1-Table13[[#This Row],[PROPORTIONAL]])))","v":""},"","",null,0,"","","","","","",null,null,null,null,null,null,null,null,null,null,null,null,null,null,null,null,"",0,"","",0,"","",null,null,"",0,"","",0,"","",null,null,"",0,"","",0,"","",null,null,"",""]
[null,"",null,null,"",{"$f":"IF(Table13[[#This Row],[PROPORTIONAL]]=\"\", \"\", (ABS(1-Table13[[#This Row],[PROPORTIONAL]])))","v":""},"","",null,0,"","","","","","",null,null,null,null,null,null,null,null,null,null,null,null,null,null,null,null,"",0,"","",0,"","",null,null,"",0,"","",0,"","",null,null,"",0,"","",0,"","",null,null,"",""]
[null,"",null,null,"",{"$f":"IF(Table13[[#This Row],[PROPORTIONAL]]=\"\", \"\", (ABS(1-Table13[[#This Row],[PROPORTIONAL]])))","v":""},"","",null,0,"","","","","","",null,null,null,null,null,null,null,null,null,null,null,null,null,null,null,null,"",0,"","",0,"","",null,null,"",0,"","",0,"","",null,null,"",0,"","",0,"","",null,null,"",""]
[null,"",null,null,"",{"$f":"IF(Table13[[#This Row],[PROPORTIONAL]]=\"\", \"\", (ABS(1-Table13[[#This Row],[PROPORTIONAL]])))","v":""},"","",null,0,"","","","","","",null,null,null,null,null,null,null,null,null,null,null,null,null,null,null,null,"",0,"","",0,"","",null,null,"",0,"","",0,"","",null,null,"",0,"","",0,"","",null,null,"",""]
[null,"",null,null,"",{"$f":"IF(Table13[[#This Row],[PROPORTIONAL]]=\"\", \"\", (ABS(1-Table13[[#This Row],[PROPORTIONAL]])))","v":""},"","",null,0,"","","","","","",null,null,null,null,null,null,null,null,null,null,null,null,null,null,null,null,"",0,"","",0,"","",null,null,"",0,"","",0,"","",null,null,"",0,"","",0,"","",null,null,"",""]
[null,"",null,null,"",{"$f":"IF(Table13[[#This Row],[PROPORTIONAL]]=\"\", \"\", (ABS(1-Table13[[#This Row],[PROPORTIONAL]])))","v":""},"","",null,0,"","","","","","",null,null,null,null,null,null,null,null,null,null,null,null,null,null,null,null,"",0,"","",0,"","",null,null,"",0,"","",0,"","",null,null,"",0,"","",0,"","",null,null,"",""]
[null,"",null,null,"",{"$f":"IF(Table13[[#This Row],[PROPORTIONAL]]=\"\", \"\", (ABS(1-Table13[[#This Row],[PROPORTIONAL]])))","v":""},"","",null,0,"","","","","","",null,null,null,null,null,null,null,null,null,null,null,null,null,null,null,null,"",0,"","",0,"","",null,null,"",0,"","",0,"","",null,null,"",0,"","",0,"","",null,null,"",""]
[null,"",null,null,"",{"$f":"IF(Table13[[#This Row],[PROPORTIONAL]]=\"\", \"\", (ABS(1-Table13[[#This Row],[PROPORTIONAL]])))","v":""},"","",null,0,"","","","","","",null,null,null,null,null,null,null,null,null,null,null,null,null,null,null,null,"",0,"","",0,"","",null,null,"",0,"","",0,"","",null,null,"",0,"","",0,"","",null,null,"",""]
[null,"",null,null,"",{"$f":"IF(Table13[[#This Row],[PROPORTIONAL]]=\"\", \"\", (ABS(1-Table13[[#This Row],[PROPORTIONAL]])))","v":""},"","",null,0,"","","","","","",null,null,null,null,null,null,null,null,null,null,null,null,null,null,null,null,"",0,"","",0,"","",null,null,"",0,"","",0,"","",null,null,"",0,"","",0,"","",null,null,"",""]
[null,"",null,null,"",{"$f":"IF(Table13[[#This Row],[PROPORTIONAL]]=\"\", \"\", (ABS(1-Table13[[#This Row],[PROPORTIONAL]])))","v":""},"","",null,0,"","","","","","",null,null,null,null,null,null,null,null,null,null,null,null,null,null,null,null,"",0,"","",0,"","",null,null,"",0,"","",0,"","",null,null,"",0,"","",0,"","",null,null,"",""]
[null,"",null,null,"",{"$f":"IF(Table13[[#This Row],[PROPORTIONAL]]=\"\", \"\", (ABS(1-Table13[[#This Row],[PROPORTIONAL]])))","v":""},"","",null,0,"","","","","","",null,null,null,null,null,null,null,null,null,null,null,null,null,null,null,null,"",0,"","",0,"","",null,null,"",0,"","",0,"","",null,null,"",0,"","",0,"","",null,null,"",""]
[null,"",null,null,"",{"$f":"IF(Table13[[#This Row],[PROPORTIONAL]]=\"\", \"\", (ABS(1-Table13[[#This Row],[PROPORTIONAL]])))","v":""},"","",null,0,"","","","","","",null,null,null,null,null,null,null,null,null,null,null,null,null,null,null,null,"",0,"","",0,"","",null,null,"",0,"","",0,"","",null,null,"",0,"","",0,"","",null,null,"",""]
[null,"",null,null,"",{"$f":"IF(Table13[[#This Row],[PROPORTIONAL]]=\"\", \"\", (ABS(1-Table13[[#This Row],[PROPORTIONAL]])))","v":""},"","",null,0,"","","","","","",null,null,null,null,null,null,null,null,null,null,null,null,null,null,null,null,"",0,"","",0,"","",null,null,"",0,"","",0,"","",null,null,"",0,"","",0,"","",null,null,"",""]
[null,"",null,null,"",{"$f":"IF(Table13[[#This Row],[PROPORTIONAL]]=\"\", \"\", (ABS(1-Table13[[#This Row],[PROPORTIONAL]])))","v":""},"","",null,0,"","","","","","",null,null,null,null,null,null,null,null,null,null,null,null,null,null,null,null,"",0,"","",0,"","",null,null,"",0,"","",0,"","",null,null,"",0,"","",0,"","",null,null,"",""]
[null,"",null,null,"",{"$f":"IF(Table13[[#This Row],[PROPORTIONAL]]=\"\", \"\", (ABS(1-Table13[[#This Row],[PROPORTIONAL]])))","v":""},"","",null,0,"","","","","","",null,null,null,null,null,null,null,null,null,null,null,null,null,null,null,null,"",0,"","",0,"","",null,null,"",0,"","",0,"","",null,null,"",0,"","",0,"","",null,null,"",""]
[null,"",null,null,"",{"$f":"IF(Table13[[#This Row],[PROPORTIONAL]]=\"\", \"\", (ABS(1-Table13[[#This Row],[PROPORTIONAL]])))","v":""},"","",null,0,"","","","","","",null,null,null,null,null,null,null,null,null,null,null,null,null,null,null,null,"",0,"","",0,"","",null,null,"",0,"","",0,"","",null,null,"",0,"","",0,"","",null,null,"",""]
[null,"",null,null,"",{"$f":"IF(Table13[[#This Row],[PROPORTIONAL]]=\"\", \"\", (ABS(1-Table13[[#This Row],[PROPORTIONAL]])))","v":""},"","",null,0,"","","","","","",null,null,null,null,null,null,null,null,null,null,null,null,null,null,null,null,"",0,"","",0,"","",null,null,"",0,"","",0,"","",null,null,"",0,"","",0,"","",null,null,"",""]
[null,"",null,null,"",{"$f":"IF(Table13[[#This Row],[PROPORTIONAL]]=\"\", \"\", (ABS(1-Table13[[#This Row],[PROPORTIONAL]])))","v":""},"","",null,0,"","","","","","",null,null,null,null,null,null,null,null,null,null,null,null,null,null,null,null,"",0,"","",0,"","",null,null,"",0,"","",0,"","",null,null,"",0,"","",0,"","",null,null,"",""]
[null,"",null,null,"",{"$f":"IF(Table13[[#This Row],[PROPORTIONAL]]=\"\", \"\", (ABS(1-Table13[[#This Row],[PROPORTIONAL]])))","v":""},"","",null,0,"","","","","","",null,null,null,null,null,null,null,null,null,null,null,null,null,null,null,null,"",0,"","",0,"","",null,null,"",0,"","",0,"","",null,null,"",0,"","",0,"","",null,null,"",""]
[null,"",null,null,"",{"$f":"IF(Table13[[#This Row],[PROPORTIONAL]]=\"\", \"\", (ABS(1-Table13[[#This Row],[PROPORTIONAL]])))","v":""},"","",null,0,"","","","","","",null,null,null,null,null,null,null,null,null,null,null,null,null,null,null,null,"",0,"","",0,"","",null,null,"",0,"","",0,"","",null,null,"",0,"","",0,"","",null,null,"",""]
[null,"",null,null,"",{"$f":"IF(Table13[[#This Row],[PROPORTIONAL]]=\"\", \"\", (ABS(1-Table13[[#This Row],[PROPORTIONAL]])))","v":""},"","",null,0,"","","","","","",null,null,null,null,null,null,null,null,null,null,null,null,null,null,null,null,"",0,"","",0,"","",null,null,"",0,"","",0,"","",null,null,"",0,"","",0,"","",null,null,"",""]
[null,"",null,null,"",{"$f":"IF(Table13[[#This Row],[PROPORTIONAL]]=\"\", \"\", (ABS(1-Table13[[#This Row],[PROPORTIONAL]])))","v":""},"","",null,0,"","","","","","",null,null,null,null,null,null,null,null,null,null,null,null,null,null,null,null,"",0,"","",0,"","",null,null,"",0,"","",0,"","",null,null,"",0,"","",0,"","",null,null,"",""]
[null,"",null,null,"",{"$f":"IF(Table13[[#This Row],[PROPORTIONAL]]=\"\", \"\", (ABS(1-Table13[[#This Row],[PROPORTIONAL]])))","v":""},"","",null,0,"","","","","","",null,null,null,null,null,null,null,null,null,null,null,null,null,null,null,null,"",0,"","",0,"","",null,null,"",0,"","",0,"","",null,null,"",0,"","",0,"","",null,null,"",""]
[null,"",null,null,"",{"$f":"IF(Table13[[#This Row],[PROPORTIONAL]]=\"\", \"\", (ABS(1-Table13[[#This Row],[PROPORTIONAL]])))","v":""},"","",null,0,"","","","","","",null,null,null,null,null,null,null,null,null,null,null,null,null,null,null,null,"",0,"","",0,"","",null,null,"",0,"","",0,"","",null,null,"",0,"","",0,"","",null,null,"",""]
[null,"",null,null,"",{"$f":"IF(Table13[[#This Row],[PROPORTIONAL]]=\"\", \"\", (ABS(1-Table13[[#This Row],[PROPORTIONAL]])))","v":""},"","",null,0,"","","","","","",null,null,null,null,null,null,null,null,null,null,null,null,null,null,null,null,"",0,"","",0,"","",null,null,"",0,"","",0,"","",null,null,"",0,"","",0,"","",null,null,"",""]
[null,"",null,null,"",{"$f":"IF(Table13[[#This Row],[PROPORTIONAL]]=\"\", \"\", (ABS(1-Table13[[#This Row],[PROPORTIONAL]])))","v":""},"","",null,0,"","","","","","",null,null,null,null,null,null,null,null,null,null,null,null,null,null,null,null,"",0,"","",0,"","",null,null,"",0,"","",0,"","",null,null,"",0,"","",0,"","",null,null,"",""]
[null,"",null,null,"",{"$f":"IF(Table13[[#This Row],[PROPORTIONAL]]=\"\", \"\", (ABS(1-Table13[[#This Row],[PROPORTIONAL]])))","v":""},"","",null,0,"","","","","","",null,null,null,null,null,null,null,null,null,null,null,null,null,null,null,null,"",0,"","",0,"","",null,null,"",0,"","",0,"","",null,null,"",0,"","",0,"","",null,null,"",""]
[null,"",null,null,"",{"$f":"IF(Table13[[#This Row],[PROPORTIONAL]]=\"\", \"\", (ABS(1-Table13[[#This Row],[PROPORTIONAL]])))","v":""},"","",null,0,"","","","","","",null,null,null,null,null,null,null,null,null,null,null,null,null,null,null,null,"",0,"","",0,"","",null,null,"",0,"","",0,"","",null,null,"",0,"","",0,"","",null,null,"",""]
[null,"",null,null,"",{"$f":"IF(Table13[[#This Row],[PROPORTIONAL]]=\"\", \"\", (ABS(1-Table13[[#This Row],[PROPORTIONAL]])))","v":""},"","",null,0,"","","","","","",null,null,null,null,null,null,null,null,null,null,null,null,null,null,null,null,"",0,"","",0,"","",null,null,"",0,"","",0,"","",null,null,"",0,"","",0,"","",null,null,"",""]
[null,"",null,null,"",{"$f":"IF(Table13[[#This Row],[PROPORTIONAL]]=\"\", \"\", (ABS(1-Table13[[#This Row],[PROPORTIONAL]])))","v":""},"","",null,0,"","","","","","",null,null,null,null,null,null,null,null,null,null,null,null,null,null,null,null,"",0,"","",0,"","",null,null,"",0,"","",0,"","",null,null,"",0,"","",0,"","",null,null,"",""]
[null,"",null,null,"",{"$f":"IF(Table13[[#This Row],[PROPORTIONAL]]=\"\", \"\", (ABS(1-Table13[[#This Row],[PROPORTIONAL]])))","v":""},"","",null,0,"","","","","","",null,null,null,null,null,null,null,null,null,null,null,null,null,null,null,null,"",0,"","",0,"","",null,null,"",0,"","",0,"","",null,null,"",0,"","",0,"","",null,null,"",""]
[null,"",null,null,"",{"$f":"IF(Table13[[#This Row],[PROPORTIONAL]]=\"\", \"\", (ABS(1-Table13[[#This Row],[PROPORTIONAL]])))","v":""},"","",null,0,"","","","","","",null,null,null,null,null,null,null,null,null,null,null,null,null,null,null,null,"",0,"","",0,"","",null,null,"",0,"","",0,"","",null,null,"",0,"","",0,"","",null,null,"",""]
[null,"",null,null,"",{"$f":"IF(Table13[[#This Row],[PROPORTIONAL]]=\"\", \"\", (ABS(1-Table13[[#This Row],[PROPORTIONAL]])))","v":""},"","",null,0,"","","","","","",null,null,null,null,null,null,null,null,null,null,null,null,null,null,null,null,"",0,"","",0,"","",null,null,"",0,"","",0,"","",null,null,"",0,"","",0,"","",null,null,"",""]
[null,"",null,null,"",{"$f":"IF(Table13[[#This Row],[PROPORTIONAL]]=\"\", \"\", (ABS(1-Table13[[#This Row],[PROPORTIONAL]])))","v":""},"","",null,0,"","","","","","",null,null,null,null,null,null,null,null,null,null,null,null,null,null,null,null,"",0,"","",0,"","",null,null,"",0,"","",0,"","",null,null,"",0,"","",0,"","",null,null,"",""]
[null,"",null,null,"",{"$f":"IF(Table13[[#This Row],[PROPORTIONAL]]=\"\", \"\", (ABS(1-Table13[[#This Row],[PROPORTIONAL]])))","v":""},"","",null,0,"","","","","","",null,null,null,null,null,null,null,null,null,null,null,null,null,null,null,null,"",0,"","",0,"","",null,null,"",0,"","",0,"","",null,null,"",0,"","",0,"","",null,null,"",""]
[null,"",null,null,"",{"$f":"IF(Table13[[#This Row],[PROPORTIONAL]]=\"\", \"\", (ABS(1-Table13[[#This Row],[PROPORTIONAL]])))","v":""},"","",null,0,"","","","","","",null,null,null,null,null,null,null,null,null,null,null,null,null,null,null,null,"",0,"","",0,"","",null,null,"",0,"","",0,"","",null,null,"",0,"","",0,"","",null,null,"",""]
[null,"",null,null,"",{"$f":"IF(Table13[[#This Row],[PROPORTIONAL]]=\"\", \"\", (ABS(1-Table13[[#This Row],[PROPORTIONAL]])))","v":""},"","",null,0,"","","","","","",null,null,null,null,null,null,null,null,null,null,null,null,null,null,null,null,"",0,"","",0,"","",null,null,"",0,"","",0,"","",null,null,"",0,"","",0,"","",null,null,"",""]
[null,"",null,null,"",{"$f":"IF(Table13[[#This Row],[PROPORTIONAL]]=\"\", \"\", (ABS(1-Table13[[#This Row],[PROPORTIONAL]])))","v":""},"","",null,0,"","","","","","",null,null,null,null,null,null,null,null,null,null,null,null,null,null,null,null,"",0,"","",0,"","",null,null,"",0,"","",0,"","",null,null,"",0,"","",0,"","",null,null,"",""]
[null,"",null,null,"",{"$f":"IF(Table13[[#This Row],[PROPORTIONAL]]=\"\", \"\", (ABS(1-Table13[[#This Row],[PROPORTIONAL]])))","v":""},"","",null,0,"","","","","","",null,null,null,null,null,null,null,null,null,null,null,null,null,null,null,null,"",0,"","",0,"","",null,null,"",0,"","",0,"","",null,null,"",0,"","",0,"","",null,null,"",""]
[null,"",null,null,"",{"$f":"IF(Table13[[#This Row],[PROPORTIONAL]]=\"\", \"\", (ABS(1-Table13[[#This Row],[PROPORTIONAL]])))","v":""},"","",null,0,"","","","","","",null,null,null,null,null,null,null,null,null,null,null,null,null,null,null,null,"",0,"","",0,"","",null,null,"",0,"","",0,"","",null,null,"",0,"","",0,"","",null,null,"",""]
[null,"",null,null,"",{"$f":"IF(Table13[[#This Row],[PROPORTIONAL]]=\"\", \"\", (ABS(1-Table13[[#This Row],[PROPORTIONAL]])))","v":""},"","",null,0,"","","","","","",null,null,null,null,null,null,null,null,null,null,null,null,null,null,null,null,"",0,"","",0,"","",null,null,"",0,"","",0,"","",null,null,"",0,"","",0,"","",null,null,"",""]
[null,"",null,null,"",{"$f":"IF(Table13[[#This Row],[PROPORTIONAL]]=\"\", \"\", (ABS(1-Table13[[#This Row],[PROPORTIONAL]])))","v":""},{"$f":"IF(D334=\"\",\"\",$G$7+3*(SQRT(($G$7*(ABS(1-$G$7)))/D334)))","v":""},{"$f":"IF(D334=\"\",\"\",IF($G$7-3*(SQRT(($G$7*(ABS(1-$G$7)))/D334))<0,0,$G$7-3*(SQRT(($G$7*(ABS(1-$G$7)))/D334))))","v":""},null,0,{"$f":"IF(H334=\"\",\"\",$G$7)","v":""},{"$f":"IF(D334=\"\",\"\",IF($G$7-1*(SQRT(($G$7*(ABS(1-$G$7)))/D334))<0,0,$G$7-1*(SQRT(($G$7*(ABS(1-$G$7)))/D334))))","v":""},{"$f":"IF(D334=\"\",\"\",IF($G$7-2*(SQRT(($G$7*(ABS(1-$G$7)))/D334))<0,0,$G$7-2*(SQRT(($G$7*(ABS(1-$G$7)))/D334))))","v":""},{"$f":"IF(D334=\"\",\"\",$G$7+1*(SQRT(($G$7*(ABS(1-$G$7)))/D334)))","v":""},{"$f":"IF(D334=\"\",\"\",$G$7+2*(SQRT(($G$7*(ABS(1-$G$7)))/D334)))","v":""},"",null,null,null,null,null,null,null,null,null,null,null,null,null,null,null,null,"",0,"","",0,{"$f":"IF(AK335=2,\"\",IF(AK334>=2,CONCATENATE(\"Data Point \",B334,\" to \",\"Data Point \",(B334+2)),\"\"))","v":""},"",null,null,"",0,"","",{"$f":"SUM(AS334:AS338)","v":0},{"$f":"IF(AT335=4,\"\",IF(AT334>=4,CONCATENATE(\"Data Point \",B334,\" to \",\"Data Point \",(B334+4)),\"\"))","v":""},{"$f":"IF(AND(AR334<>\"\",AU334=\"\"),AR334,IF(AND(AR334=\"\",AU334<>\"\"),AU334,IF(AND(AR334<>\"\",AU334<>\"\"),AR334,\"\")))","v":""},null,null,"",{"$f":"SUM(AY334:AY341)","v":0},"","",{"$f":"SUM(BB334:BB341)","v":0},"",{"$f":"IF(AND(BA334<>\"\",BD334=\"\"),BA334,IF(AND(BA334=\"\",BD334<>\"\"),BD334,IF(AND(BA334<>\"\",BD334<>\"\"),BA334,\"\")))","v":""},null,null,"",""]
[null,"",null,null,{"$f":"IF(D335=\"\",\"\",C335/D335)","v":""},{"$f":"IF(Table13[[#This Row],[PROPORTIONAL]]=\"\", \"\", (ABS(1-Table13[[#This Row],[PROPORTIONAL]])))","v":""},"","",null,{"$f":"IF(B335>$G$9,0,1)","v":0},"","","","","",{"$f":"IF(J335=1, E335, \"\")","v":""},null,null,null,null,null,null,null,null,null,null,null,null,null,null,null,null,{"$f":"IF(E335=\"\",\"\",IF(AND(E335>=O335,E335<G335),1,0))","v":""},{"$f":"SUM(AG335:AG337)","v":0},{"$f":"IF(AH336=2,\"\",IF(AH335>=2,CONCATENATE(\"Data Point \",B335,\" to \",\"Data Point \",(B335+2)),\"\"))","v":""},{"$f":"IF(E335=\"\",\"\",IF(AND(E335<=M335,E335>H335),1,0))","v":""},{"$f":"SUM(AJ335:AJ337)","v":0},"",{"$f":"IF(AND(AI335<>\"\",AL335=\"\"),AI335,IF(AND(AI335=\"\",AL335<>\"\"),AL335,IF(AND(AI335<>\"\",AL335<>\"\"),AI335,\"\")))","v":""},null,null,{"$f":"IF(E335=\"\",\"\",IF(AND(E335>=N335,E335<G335),1,0))","v":""},{"$f":"SUM(AP335:AP339)","v":0},{"$f":"IF(AQ336=4,\"\",IF(AQ335>=4,CONCATENATE(\"Data Point \",B335,\" to \",\"Data Point \",(B335+4)),\"\"))","v":""},{"$f":"IF(E335=\"\",\"\",IF(AND(E335<=L335,E335>H335),1,0))","v":""},0,"","",null,null,{"$f":"IF(E335=\"\",\"\",IF(AND(E335>=K335,E335<G335),1,0))","v":""},0,{"$f":"IF(AZ336=8, \"\", IF(AZ335=8,CONCATENATE(\"Data Point \",B335,\" to \",\"Data Point \",(B335+8)),\"\"))","v":""},{"$f":"IF(E335=\"\",\"\",IF(AND(E335<=K335,E335>H335),1,0))","v":""},0,{"$f":"IF(BC336=8, \"\", IF(BC335=8,CONCATENATE(\"Data Point \",B335,\" to \",\"Data Point \",(B335+8)),\"\"))","v":""},"",null,null,{"$f":"IF(E335=\"\",\"\",IF(OR(E335>G335,E335<H335),1,0))","v":""},{"$f":"IF(BH335=1,CONCATENATE(\"Data Point \",B335),\"\")","v":""}]
[null,{"$f":"IF(C336=\"\",\"\",B335+1)","v":""},null,null,"",{"$f":"IF(Table13[[#This Row],[PROPORTIONAL]]=\"\", \"\", (ABS(1-Table13[[#This Row],[PROPORTIONAL]])))","v":""},"","",null,0,"","","","","","",null,null,null,null,null,null,null,null,null,null,null,null,null,null,null,null,"",0,"","",0,"","",null,null,"",0,"","",0,"","",null,null,"",0,"","",0,"","",null,null,"",""]
[null,"",null,null,"",{"$f":"IF(Table13[[#This Row],[PROPORTIONAL]]=\"\", \"\", (ABS(1-Table13[[#This Row],[PROPORTIONAL]])))","v":""},"","",null,0,"","","","","","",null,null,null,null,null,null,null,null,null,null,null,null,null,null,null,null,"",0,"","",0,"","",null,null,"",0,"","",0,"","",null,null,"",0,"","",0,"","",null,null,"",""]
[null,"",null,null,"",{"$f":"IF(Table13[[#This Row],[PROPORTIONAL]]=\"\", \"\", (ABS(1-Table13[[#This Row],[PROPORTIONAL]])))","v":""},"","",null,0,"","","","","","",null,null,null,null,null,null,null,null,null,null,null,null,null,null,null,null,"",0,"","",0,"","",null,null,"",0,"","",0,"","",null,null,"",0,"","",0,"","",null,null,"",""]
[null,"",null,null,"",{"$f":"IF(Table13[[#This Row],[PROPORTIONAL]]=\"\", \"\", (ABS(1-Table13[[#This Row],[PROPORTIONAL]])))","v":""},"","",null,0,"","","","","","",null,null,null,null,null,null,null,null,null,null,null,null,null,null,null,null,"",0,"","",0,"","",null,null,"",0,"","",0,"","",null,null,"",0,"","",0,"","",null,null,"",""]
[null,"",null,null,"",{"$f":"IF(Table13[[#This Row],[PROPORTIONAL]]=\"\", \"\", (ABS(1-Table13[[#This Row],[PROPORTIONAL]])))","v":""},"","",null,0,"","","","","","",null,null,null,null,null,null,null,null,null,null,null,null,null,null,null,null,"",0,"","",0,"","",null,null,"",0,"","",0,"","",null,null,"",0,"","",0,"","",null,null,"",""]
[null,"",null,null,"",{"$f":"IF(Table13[[#This Row],[PROPORTIONAL]]=\"\", \"\", (ABS(1-Table13[[#This Row],[PROPORTIONAL]])))","v":""},"","",null,0,"","","","","","",null,null,null,null,null,null,null,null,null,null,null,null,null,null,null,null,"",0,"","",0,"","",null,null,"",0,"","",0,"","",null,null,"",0,"","",0,"","",null,null,"",""]
[null,"",null,null,"",{"$f":"IF(Table13[[#This Row],[PROPORTIONAL]]=\"\", \"\", (ABS(1-Table13[[#This Row],[PROPORTIONAL]])))","v":""},"","",null,0,"","","","","","",null,null,null,null,null,null,null,null,null,null,null,null,null,null,null,null,"",0,"","",0,"","",null,null,"",0,"","",0,"","",null,null,"",0,"","",0,"","",null,null,"",""]
[null,"",null,null,"",{"$f":"IF(Table13[[#This Row],[PROPORTIONAL]]=\"\", \"\", (ABS(1-Table13[[#This Row],[PROPORTIONAL]])))","v":""},"","",null,0,"","","","","","",null,null,null,null,null,null,null,null,null,null,null,null,null,null,null,null,"",0,"","",0,"","",null,null,"",0,"","",0,"","",null,null,"",0,"","",0,"","",null,null,"",""]
[null,"",null,null,"",{"$f":"IF(Table13[[#This Row],[PROPORTIONAL]]=\"\", \"\", (ABS(1-Table13[[#This Row],[PROPORTIONAL]])))","v":""},"","",null,0,"","","","","","",null,null,null,null,null,null,null,null,null,null,null,null,null,null,null,null,"",0,"","",0,"","",null,null,"",0,"","",0,"","",null,null,"",0,"","",0,"","",null,null,"",""]
[null,"",null,null,"",{"$f":"IF(Table13[[#This Row],[PROPORTIONAL]]=\"\", \"\", (ABS(1-Table13[[#This Row],[PROPORTIONAL]])))","v":""},"","",null,0,"","","","","","",null,null,null,null,null,null,null,null,null,null,null,null,null,null,null,null,"",0,"","",0,"","",null,null,"",0,"","",0,"","",null,null,"",0,"","",0,"","",null,null,"",""]
[null,"",null,null,"",{"$f":"IF(Table13[[#This Row],[PROPORTIONAL]]=\"\", \"\", (ABS(1-Table13[[#This Row],[PROPORTIONAL]])))","v":""},"","",null,0,"","","","","","",null,null,null,null,null,null,null,null,null,null,null,null,null,null,null,null,"",0,"","",0,"","",null,null,"",0,"","",0,"","",null,null,"",0,"","",0,"","",null,null,"",""]
[null,"",null,null,"",{"$f":"IF(Table13[[#This Row],[PROPORTIONAL]]=\"\", \"\", (ABS(1-Table13[[#This Row],[PROPORTIONAL]])))","v":""},"","",null,0,"","","","","","",null,null,null,null,null,null,null,null,null,null,null,null,null,null,null,null,"",0,"","",0,"","",null,null,"",0,"","",0,"","",null,null,"",0,"","",0,"","",null,null,"",""]
[null,"",null,null,"",{"$f":"IF(Table13[[#This Row],[PROPORTIONAL]]=\"\", \"\", (ABS(1-Table13[[#This Row],[PROPORTIONAL]])))","v":""},"","",null,0,"","","","","","",null,null,null,null,null,null,null,null,null,null,null,null,null,null,null,null,"",0,"","",0,"","",null,null,"",0,"","",0,"","",null,null,"",0,"","",0,"","",null,null,"",""]
[null,"",null,null,"",{"$f":"IF(Table13[[#This Row],[PROPORTIONAL]]=\"\", \"\", (ABS(1-Table13[[#This Row],[PROPORTIONAL]])))","v":""},"","",null,0,"","","","","","",null,null,null,null,null,null,null,null,null,null,null,null,null,null,null,null,"",0,"","",0,"","",null,null,"",0,"","",0,"","",null,null,"",0,"","",0,"","",null,null,"",""]
[null,"",null,null,"",{"$f":"IF(Table13[[#This Row],[PROPORTIONAL]]=\"\", \"\", (ABS(1-Table13[[#This Row],[PROPORTIONAL]])))","v":""},"","",null,0,"","","","","","",null,null,null,null,null,null,null,null,null,null,null,null,null,null,null,null,"",0,"","",0,"","",null,null,"",0,"","",0,"","",null,null,"",0,"","",0,"","",null,null,"",""]
[null,"",null,null,"",{"$f":"IF(Table13[[#This Row],[PROPORTIONAL]]=\"\", \"\", (ABS(1-Table13[[#This Row],[PROPORTIONAL]])))","v":""},"","",null,0,"","","","","","",null,null,null,null,null,null,null,null,null,null,null,null,null,null,null,null,"",0,"","",0,"","",null,null,"",0,"","",0,"","",null,null,"",0,"","",0,"","",null,null,"",""]
[null,"",null,null,"",{"$f":"IF(Table13[[#This Row],[PROPORTIONAL]]=\"\", \"\", (ABS(1-Table13[[#This Row],[PROPORTIONAL]])))","v":""},"","",null,0,"","","","","","",null,null,null,null,null,null,null,null,null,null,null,null,null,null,null,null,"",0,"","",0,"","",null,null,"",0,"","",0,"","",null,null,"",0,"","",0,"","",null,null,"",""]
[null,"",null,null,"",{"$f":"IF(Table13[[#This Row],[PROPORTIONAL]]=\"\", \"\", (ABS(1-Table13[[#This Row],[PROPORTIONAL]])))","v":""},"","",null,0,"","","","","","",null,null,null,null,null,null,null,null,null,null,null,null,null,null,null,null,"",0,"","",0,"","",null,null,"",0,"","",0,"","",null,null,"",0,"","",0,"","",null,null,"",""]
[null,"",null,null,"",{"$f":"IF(Table13[[#This Row],[PROPORTIONAL]]=\"\", \"\", (ABS(1-Table13[[#This Row],[PROPORTIONAL]])))","v":""},"","",null,0,"","","","","","",null,null,null,null,null,null,null,null,null,null,null,null,null,null,null,null,"",0,"","",0,"","",null,null,"",0,"","",0,"","",null,null,"",0,"","",0,"","",null,null,"",""]
[null,"",null,null,"",{"$f":"IF(Table13[[#This Row],[PROPORTIONAL]]=\"\", \"\", (ABS(1-Table13[[#This Row],[PROPORTIONAL]])))","v":""},"","",null,0,"","","","","","",null,null,null,null,null,null,null,null,null,null,null,null,null,null,null,null,"",0,"","",0,"","",null,null,"",0,"","",0,"","",null,null,"",0,"","",0,"","",null,null,"",""]
[null,"",null,null,"",{"$f":"IF(Table13[[#This Row],[PROPORTIONAL]]=\"\", \"\", (ABS(1-Table13[[#This Row],[PROPORTIONAL]])))","v":""},"","",null,0,"","","","","","",null,null,null,null,null,null,null,null,null,null,null,null,null,null,null,null,"",0,"","",0,"","",null,null,"",0,"","",0,"","",null,null,"",0,"","",0,"","",null,null,"",""]
[null,"",null,null,"",{"$f":"IF(Table13[[#This Row],[PROPORTIONAL]]=\"\", \"\", (ABS(1-Table13[[#This Row],[PROPORTIONAL]])))","v":""},"","",null,0,"","","","","","",null,null,null,null,null,null,null,null,null,null,null,null,null,null,null,null,"",0,"","",0,"","",null,null,"",0,"","",0,"","",null,null,"",0,"","",0,"","",null,null,"",""]
[null,"",null,null,"",{"$f":"IF(Table13[[#This Row],[PROPORTIONAL]]=\"\", \"\", (ABS(1-Table13[[#This Row],[PROPORTIONAL]])))","v":""},"","",null,0,"","","","","","",null,null,null,null,null,null,null,null,null,null,null,null,null,null,null,null,"",0,"","",0,"","",null,null,"",0,"","",0,"","",null,null,"",0,"","",0,"","",null,null,"",""]
[null,"",null,null,"",{"$f":"IF(Table13[[#This Row],[PROPORTIONAL]]=\"\", \"\", (ABS(1-Table13[[#This Row],[PROPORTIONAL]])))","v":""},"","",null,0,"","","","","","",null,null,null,null,null,null,null,null,null,null,null,null,null,null,null,null,"",0,"","",0,"","",null,null,"",0,"","",0,"","",null,null,"",0,"","",0,"","",null,null,"",""]
[null,"",null,null,"",{"$f":"IF(Table13[[#This Row],[PROPORTIONAL]]=\"\", \"\", (ABS(1-Table13[[#This Row],[PROPORTIONAL]])))","v":""},"","",null,0,"","","","","","",null,null,null,null,null,null,null,null,null,null,null,null,null,null,null,null,"",0,"","",0,"","",null,null,"",0,"","",0,"","",null,null,"",0,"","",0,"","",null,null,"",""]
[null,"",null,null,"",{"$f":"IF(Table13[[#This Row],[PROPORTIONAL]]=\"\", \"\", (ABS(1-Table13[[#This Row],[PROPORTIONAL]])))","v":""},"","",null,0,"","","","","","",null,null,null,null,null,null,null,null,null,null,null,null,null,null,null,null,"",0,"","",0,"","",null,null,"",0,"","",0,"","",null,null,"",0,"","",0,"","",null,null,"",""]
[null,"",null,null,"",{"$f":"IF(Table13[[#This Row],[PROPORTIONAL]]=\"\", \"\", (ABS(1-Table13[[#This Row],[PROPORTIONAL]])))","v":""},"","",null,0,"","","","","","",null,null,null,null,null,null,null,null,null,null,null,null,null,null,null,null,"",0,"","",0,"","",null,null,"",0,"","",0,"","",null,null,"",0,"","",0,"","",null,null,"",""]
[null,"",null,null,"",{"$f":"IF(Table13[[#This Row],[PROPORTIONAL]]=\"\", \"\", (ABS(1-Table13[[#This Row],[PROPORTIONAL]])))","v":""},"","",null,0,"","","","","","",null,null,null,null,null,null,null,null,null,null,null,null,null,null,null,null,"",0,"","",0,"","",null,null,"",0,"","",0,"","",null,null,"",0,"","",0,"","",null,null,"",""]
[null,"",null,null,"",{"$f":"IF(Table13[[#This Row],[PROPORTIONAL]]=\"\", \"\", (ABS(1-Table13[[#This Row],[PROPORTIONAL]])))","v":""},"","",null,0,"","","","","","",null,null,null,null,null,null,null,null,null,null,null,null,null,null,null,null,"",0,"","",0,"","",null,null,"",0,"","",0,"","",null,null,"",0,"","",0,"","",null,null,"",""]
[null,"",null,null,"",{"$f":"IF(Table13[[#This Row],[PROPORTIONAL]]=\"\", \"\", (ABS(1-Table13[[#This Row],[PROPORTIONAL]])))","v":""},"","",null,0,"","","","","","",null,null,null,null,null,null,null,null,null,null,null,null,null,null,null,null,"",0,"","",0,"","",null,null,"",0,"","",0,"","",null,null,"",0,"","",0,"","",null,null,"",""]
[null,"",null,null,"",{"$f":"IF(Table13[[#This Row],[PROPORTIONAL]]=\"\", \"\", (ABS(1-Table13[[#This Row],[PROPORTIONAL]])))","v":""},"","",null,0,"","","","","","",null,null,null,null,null,null,null,null,null,null,null,null,null,null,null,null,"",0,"","",0,"","",null,null,"",0,"","",0,"","",null,null,"",0,"","",0,"","",null,null,"",""]
[null,"",null,null,"",{"$f":"IF(Table13[[#This Row],[PROPORTIONAL]]=\"\", \"\", (ABS(1-Table13[[#This Row],[PROPORTIONAL]])))","v":""},"","",null,0,"","","","","","",null,null,null,null,null,null,null,null,null,null,null,null,null,null,null,null,"",0,"","",0,"","",null,null,"",0,"","",0,"","",null,null,"",0,"","",0,"","",null,null,"",""]
[null,"",null,null,"",{"$f":"IF(Table13[[#This Row],[PROPORTIONAL]]=\"\", \"\", (ABS(1-Table13[[#This Row],[PROPORTIONAL]])))","v":""},"","",null,0,"","","","","","",null,null,null,null,null,null,null,null,null,null,null,null,null,null,null,null,"",0,"","",0,"","",null,null,"",0,"","",0,"","",null,null,"",0,"","",0,"","",null,null,"",""]
[null,"",null,null,"",{"$f":"IF(Table13[[#This Row],[PROPORTIONAL]]=\"\", \"\", (ABS(1-Table13[[#This Row],[PROPORTIONAL]])))","v":""},"","",null,0,"","","","","","",null,null,null,null,null,null,null,null,null,null,null,null,null,null,null,null,"",0,"","",0,"","",null,null,"",0,"","",0,"","",null,null,"",0,"","",0,"","",null,null,"",""]
[null,"",null,null,"",{"$f":"IF(Table13[[#This Row],[PROPORTIONAL]]=\"\", \"\", (ABS(1-Table13[[#This Row],[PROPORTIONAL]])))","v":""},"","",null,0,"","","","","","",null,null,null,null,null,null,null,null,null,null,null,null,null,null,null,null,"",0,"","",0,"","",null,null,"",0,"","",0,"","",null,null,"",0,"","",0,"","",null,null,"",""]
[null,"",null,null,"",{"$f":"IF(Table13[[#This Row],[PROPORTIONAL]]=\"\", \"\", (ABS(1-Table13[[#This Row],[PROPORTIONAL]])))","v":""},"","",null,0,"","","","","","",null,null,null,null,null,null,null,null,null,null,null,null,null,null,null,null,"",0,"","",0,"","",null,null,"",0,"","",0,"","",null,null,"",0,"","",0,"","",null,null,"",""]
[null,"",null,null,"",{"$f":"IF(Table13[[#This Row],[PROPORTIONAL]]=\"\", \"\", (ABS(1-Table13[[#This Row],[PROPORTIONAL]])))","v":""},"","",null,0,"","","","","","",null,null,null,null,null,null,null,null,null,null,null,null,null,null,null,null,"",0,"","",0,"","",null,null,"",0,"","",0,"","",null,null,"",0,"","",0,"","",null,null,"",""]
[null,"",null,null,"",{"$f":"IF(Table13[[#This Row],[PROPORTIONAL]]=\"\", \"\", (ABS(1-Table13[[#This Row],[PROPORTIONAL]])))","v":""},"","",null,0,"","","","","","",null,null,null,null,null,null,null,null,null,null,null,null,null,null,null,null,"",0,"","",0,"","",null,null,"",0,"","",0,"","",null,null,"",0,"","",0,"","",null,null,"",""]
[null,"",null,null,"",{"$f":"IF(Table13[[#This Row],[PROPORTIONAL]]=\"\", \"\", (ABS(1-Table13[[#This Row],[PROPORTIONAL]])))","v":""},"","",null,0,"","","","","","",null,null,null,null,null,null,null,null,null,null,null,null,null,null,null,null,"",0,"","",0,"","",null,null,"",0,"","",0,"","",null,null,"",0,"","",0,"","",null,null,"",""]
[null,"",null,null,"",{"$f":"IF(Table13[[#This Row],[PROPORTIONAL]]=\"\", \"\", (ABS(1-Table13[[#This Row],[PROPORTIONAL]])))","v":""},"","",null,0,"","","","","","",null,null,null,null,null,null,null,null,null,null,null,null,null,null,null,null,"",0,"","",0,"","",null,null,"",0,"","",0,"","",null,null,"",0,"","",0,"","",null,null,"",""]
[null,"",null,null,"",{"$f":"IF(Table13[[#This Row],[PROPORTIONAL]]=\"\", \"\", (ABS(1-Table13[[#This Row],[PROPORTIONAL]])))","v":""},"","",null,0,"","","","","","",null,null,null,null,null,null,null,null,null,null,null,null,null,null,null,null,"",0,"","",0,"","",null,null,"",0,"","",0,"","",null,null,"",0,"","",0,"","",null,null,"",""]
[null,"",null,null,"",{"$f":"IF(Table13[[#This Row],[PROPORTIONAL]]=\"\", \"\", (ABS(1-Table13[[#This Row],[PROPORTIONAL]])))","v":""},"","",null,0,"","","","","","",null,null,null,null,null,null,null,null,null,null,null,null,null,null,null,null,"",0,"","",0,"","",null,null,"",0,"","",0,"","",null,null,"",0,"","",0,"","",null,null,"",""]
[null,"",null,null,"",{"$f":"IF(Table13[[#This Row],[PROPORTIONAL]]=\"\", \"\", (ABS(1-Table13[[#This Row],[PROPORTIONAL]])))","v":""},"","",null,0,"","","","","","",null,null,null,null,null,null,null,null,null,null,null,null,null,null,null,null,"",0,"","",0,"","",null,null,"",0,"","",0,"","",null,null,"",0,"","",0,"","",null,null,"",""]
[null,"",null,null,"",{"$f":"IF(Table13[[#This Row],[PROPORTIONAL]]=\"\", \"\", (ABS(1-Table13[[#This Row],[PROPORTIONAL]])))","v":""},"","",null,0,"","","","","","",null,null,null,null,null,null,null,null,null,null,null,null,null,null,null,null,"",0,"","",0,"","",null,null,"",0,"","",0,"","",null,null,"",0,"","",0,"","",null,null,"",""]
[null,"",null,null,"",{"$f":"IF(Table13[[#This Row],[PROPORTIONAL]]=\"\", \"\", (ABS(1-Table13[[#This Row],[PROPORTIONAL]])))","v":""},"","",null,0,"","","","","","",null,null,null,null,null,null,null,null,null,null,null,null,null,null,null,null,"",0,"","",0,"","",null,null,"",0,"","",0,"","",null,null,"",0,"","",0,"","",null,null,"",""]
[null,"",null,null,"",{"$f":"IF(Table13[[#This Row],[PROPORTIONAL]]=\"\", \"\", (ABS(1-Table13[[#This Row],[PROPORTIONAL]])))","v":""},"","",null,0,"","","","","","",null,null,null,null,null,null,null,null,null,null,null,null,null,null,null,null,"",0,"","",0,"","",null,null,"",0,"","",0,"","",null,null,"",0,"","",0,"","",null,null,"",""]
[null,"",null,null,"",{"$f":"IF(Table13[[#This Row],[PROPORTIONAL]]=\"\", \"\", (ABS(1-Table13[[#This Row],[PROPORTIONAL]])))","v":""},"","",null,0,"","","","","","",null,null,null,null,null,null,null,null,null,null,null,null,null,null,null,null,"",0,"","",0,"","",null,null,"",0,"","",0,"","",null,null,"",0,"","",0,"","",null,null,"",""]
[null,"",null,null,"",{"$f":"IF(Table13[[#This Row],[PROPORTIONAL]]=\"\", \"\", (ABS(1-Table13[[#This Row],[PROPORTIONAL]])))","v":""},"","",null,0,"","","","","","",null,null,null,null,null,null,null,null,null,null,null,null,null,null,null,null,"",0,"","",0,"","",null,null,"",0,"","",0,"","",null,null,"",0,"","",0,"","",null,null,"",""]
[null,"",null,null,"",{"$f":"IF(Table13[[#This Row],[PROPORTIONAL]]=\"\", \"\", (ABS(1-Table13[[#This Row],[PROPORTIONAL]])))","v":""},"","",null,0,"","","","","","",null,null,null,null,null,null,null,null,null,null,null,null,null,null,null,null,"",0,"","",0,"","",null,null,"",0,"","",0,"","",null,null,"",0,"","",0,"","",null,null,"",""]
[null,"",null,null,"",{"$f":"IF(Table13[[#This Row],[PROPORTIONAL]]=\"\", \"\", (ABS(1-Table13[[#This Row],[PROPORTIONAL]])))","v":""},"","",null,0,"","","","","","",null,null,null,null,null,null,null,null,null,null,null,null,null,null,null,null,"",0,"","",0,"","",null,null,"",0,"","",0,"","",null,null,"",0,"","",0,"","",null,null,"",""]
[null,"",null,null,"",{"$f":"IF(Table13[[#This Row],[PROPORTIONAL]]=\"\", \"\", (ABS(1-Table13[[#This Row],[PROPORTIONAL]])))","v":""},"","",null,0,"","","","","","",null,null,null,null,null,null,null,null,null,null,null,null,null,null,null,null,"",0,"","",0,"","",null,null,"",0,"","",0,"","",null,null,"",0,"","",0,"","",null,null,"",""]
[null,"",null,null,"",{"$f":"IF(Table13[[#This Row],[PROPORTIONAL]]=\"\", \"\", (ABS(1-Table13[[#This Row],[PROPORTIONAL]])))","v":""},"","",null,0,"","","","","","",null,null,null,null,null,null,null,null,null,null,null,null,null,null,null,null,"",0,"","",0,"","",null,null,"",0,"","",0,"","",null,null,"",0,"","",0,"","",null,null,"",""]
[null,"",null,null,"",{"$f":"IF(Table13[[#This Row],[PROPORTIONAL]]=\"\", \"\", (ABS(1-Table13[[#This Row],[PROPORTIONAL]])))","v":""},"","",null,0,"","","","","","",null,null,null,null,null,null,null,null,null,null,null,null,null,null,null,null,"",0,"","",0,"","",null,null,"",0,"","",0,"","",null,null,"",0,"","",0,"","",null,null,"",""]
[null,"",null,null,"",{"$f":"IF(Table13[[#This Row],[PROPORTIONAL]]=\"\", \"\", (ABS(1-Table13[[#This Row],[PROPORTIONAL]])))","v":""},"","",null,0,"","","","","","",null,null,null,null,null,null,null,null,null,null,null,null,null,null,null,null,"",0,"","",0,"","",null,null,"",0,"","",0,"","",null,null,"",0,"","",0,"","",null,null,"",""]
[null,"",null,null,"",{"$f":"IF(Table13[[#This Row],[PROPORTIONAL]]=\"\", \"\", (ABS(1-Table13[[#This Row],[PROPORTIONAL]])))","v":""},"","",null,0,"","","","","","",null,null,null,null,null,null,null,null,null,null,null,null,null,null,null,null,"",0,"","",0,"","",null,null,"",0,"","",0,"","",null,null,"",0,"","",0,"","",null,null,"",""]
[null,"",null,null,"",{"$f":"IF(Table13[[#This Row],[PROPORTIONAL]]=\"\", \"\", (ABS(1-Table13[[#This Row],[PROPORTIONAL]])))","v":""},"","",null,0,"","","","","","",null,null,null,null,null,null,null,null,null,null,null,null,null,null,null,null,"",0,"","",0,"","",null,null,"",0,"","",0,"","",null,null,"",0,"","",0,"","",null,null,"",""]
[null,"",null,null,"",{"$f":"IF(Table13[[#This Row],[PROPORTIONAL]]=\"\", \"\", (ABS(1-Table13[[#This Row],[PROPORTIONAL]])))","v":""},"","",null,0,"","","","","","",null,null,null,null,null,null,null,null,null,null,null,null,null,null,null,null,"",0,"","",0,"","",null,null,"",0,"","",0,"","",null,null,"",0,"","",0,"","",null,null,"",""]
[null,"",null,null,"",{"$f":"IF(Table13[[#This Row],[PROPORTIONAL]]=\"\", \"\", (ABS(1-Table13[[#This Row],[PROPORTIONAL]])))","v":""},"","",null,0,"","","","","","",null,null,null,null,null,null,null,null,null,null,null,null,null,null,null,null,"",0,"","",0,"","",null,null,"",0,"","",0,"","",null,null,"",0,"","",0,"","",null,null,"",""]
[null,"",null,null,"",{"$f":"IF(Table13[[#This Row],[PROPORTIONAL]]=\"\", \"\", (ABS(1-Table13[[#This Row],[PROPORTIONAL]])))","v":""},"","",null,0,"","","","","","",null,null,null,null,null,null,null,null,null,null,null,null,null,null,null,null,"",0,"","",0,"","",null,null,"",0,"","",0,"","",null,null,"",0,"","",0,"","",null,null,"",""]
[null,"",null,null,"",{"$f":"IF(Table13[[#This Row],[PROPORTIONAL]]=\"\", \"\", (ABS(1-Table13[[#This Row],[PROPORTIONAL]])))","v":""},"","",null,0,"","","","","","",null,null,null,null,null,null,null,null,null,null,null,null,null,null,null,null,"",0,"","",0,"","",null,null,"",0,"","",0,"","",null,null,"",0,"","",0,"","",null,null,"",""]
[null,"",null,null,"",{"$f":"IF(Table13[[#This Row],[PROPORTIONAL]]=\"\", \"\", (ABS(1-Table13[[#This Row],[PROPORTIONAL]])))","v":""},"","",null,0,"","","","","","",null,null,null,null,null,null,null,null,null,null,null,null,null,null,null,null,"",0,"","",0,"","",null,null,"",0,"","",0,"","",null,null,"",0,"","",0,"","",null,null,"",""]
[null,"",null,null,"",{"$f":"IF(Table13[[#This Row],[PROPORTIONAL]]=\"\", \"\", (ABS(1-Table13[[#This Row],[PROPORTIONAL]])))","v":""},"","",null,0,"","","","","","",null,null,null,null,null,null,null,null,null,null,null,null,null,null,null,null,"",0,"","",0,"","",null,null,"",0,"","",0,"","",null,null,"",0,"","",0,"","",null,null,"",""]
[null,"",null,null,"",{"$f":"IF(Table13[[#This Row],[PROPORTIONAL]]=\"\", \"\", (ABS(1-Table13[[#This Row],[PROPORTIONAL]])))","v":""},{"$f":"IF(D398=\"\",\"\",$G$7+3*(SQRT(($G$7*(ABS(1-$G$7)))/D398)))","v":""},{"$f":"IF(D398=\"\",\"\",IF($G$7-3*(SQRT(($G$7*(ABS(1-$G$7)))/D398))<0,0,$G$7-3*(SQRT(($G$7*(ABS(1-$G$7)))/D398))))","v":""},null,0,{"$f":"IF(H398=\"\",\"\",$G$7)","v":""},{"$f":"IF(D398=\"\",\"\",IF($G$7-1*(SQRT(($G$7*(ABS(1-$G$7)))/D398))<0,0,$G$7-1*(SQRT(($G$7*(ABS(1-$G$7)))/D398))))","v":""},{"$f":"IF(D398=\"\",\"\",IF($G$7-2*(SQRT(($G$7*(ABS(1-$G$7)))/D398))<0,0,$G$7-2*(SQRT(($G$7*(ABS(1-$G$7)))/D398))))","v":""},{"$f":"IF(D398=\"\",\"\",$G$7+1*(SQRT(($G$7*(ABS(1-$G$7)))/D398)))","v":""},{"$f":"IF(D398=\"\",\"\",$G$7+2*(SQRT(($G$7*(ABS(1-$G$7)))/D398)))","v":""},"",null,null,null,null,null,null,null,null,null,null,null,null,null,null,null,null,"",0,"","",0,{"$f":"IF(AK399=2,\"\",IF(AK398>=2,CONCATENATE(\"Data Point \",B398,\" to \",\"Data Point \",(B398+2)),\"\"))","v":""},"",null,null,"",0,"","",{"$f":"SUM(AS398:AS402)","v":0},{"$f":"IF(AT399=4,\"\",IF(AT398>=4,CONCATENATE(\"Data Point \",B398,\" to \",\"Data Point \",(B398+4)),\"\"))","v":""},{"$f":"IF(AND(AR398<>\"\",AU398=\"\"),AR398,IF(AND(AR398=\"\",AU398<>\"\"),AU398,IF(AND(AR398<>\"\",AU398<>\"\"),AR398,\"\")))","v":""},null,null,"",{"$f":"SUM(AY398:AY405)","v":0},"","",{"$f":"SUM(BB398:BB405)","v":0},"",{"$f":"IF(AND(BA398<>\"\",BD398=\"\"),BA398,IF(AND(BA398=\"\",BD398<>\"\"),BD398,IF(AND(BA398<>\"\",BD398<>\"\"),BA398,\"\")))","v":""},null,null,"",""]
[null,"",null,null,{"$f":"IF(D399=\"\",\"\",C399/D399)","v":""},{"$f":"IF(Table13[[#This Row],[PROPORTIONAL]]=\"\", \"\", (ABS(1-Table13[[#This Row],[PROPORTIONAL]])))","v":""},"","",null,{"$f":"IF(B399>$G$9,0,1)","v":0},"","","","","",{"$f":"IF(J399=1, E399, \"\")","v":""},null,null,null,null,null,null,null,null,null,null,null,null,null,null,null,null,{"$f":"IF(E399=\"\",\"\",IF(AND(E399>=O399,E399<G399),1,0))","v":""},{"$f":"SUM(AG399:AG401)","v":0},{"$f":"IF(AH400=2,\"\",IF(AH399>=2,CONCATENATE(\"Data Point \",B399,\" to \",\"Data Point \",(B399+2)),\"\"))","v":""},{"$f":"IF(E399=\"\",\"\",IF(AND(E399<=M399,E399>H399),1,0))","v":""},{"$f":"SUM(AJ399:AJ401)","v":0},"",{"$f":"IF(AND(AI399<>\"\",AL399=\"\"),AI399,IF(AND(AI399=\"\",AL399<>\"\"),AL399,IF(AND(AI399<>\"\",AL399<>\"\"),AI399,\"\")))","v":""},null,null,{"$f":"IF(E399=\"\",\"\",IF(AND(E399>=N399,E399<G399),1,0))","v":""},{"$f":"SUM(AP399:AP403)","v":0},{"$f":"IF(AQ400=4,\"\",IF(AQ399>=4,CONCATENATE(\"Data Point \",B399,\" to \",\"Data Point \",(B399+4)),\"\"))","v":""},{"$f":"IF(E399=\"\",\"\",IF(AND(E399<=L399,E399>H399),1,0))","v":""},0,"","",null,null,{"$f":"IF(E399=\"\",\"\",IF(AND(E399>=K399,E399<G399),1,0))","v":""},0,{"$f":"IF(AZ400=8, \"\", IF(AZ399=8,CONCATENATE(\"Data Point \",B399,\" to \",\"Data Point \",(B399+8)),\"\"))","v":""},{"$f":"IF(E399=\"\",\"\",IF(AND(E399<=K399,E399>H399),1,0))","v":""},0,{"$f":"IF(BC400=8, \"\", IF(BC399=8,CONCATENATE(\"Data Point \",B399,\" to \",\"Data Point \",(B399+8)),\"\"))","v":""},"",null,null,{"$f":"IF(E399=\"\",\"\",IF(OR(E399>G399,E399<H399),1,0))","v":""},{"$f":"IF(BH399=1,CONCATENATE(\"Data Point \",B399),\"\")","v":""}]
[null,{"$f":"IF(C400=\"\",\"\",B399+1)","v":""},null,null,"",{"$f":"IF(Table13[[#This Row],[PROPORTIONAL]]=\"\", \"\", (ABS(1-Table13[[#This Row],[PROPORTIONAL]])))","v":""},"","",null,0,"","","","","","",null,null,null,null,null,null,null,null,null,null,null,null,null,null,null,null,"",0,"","",0,"","",null,null,"",0,"","",0,"","",null,null,"",0,"","",0,"","",null,null,"",""]
[null,"",null,null,"",{"$f":"IF(Table13[[#This Row],[PROPORTIONAL]]=\"\", \"\", (ABS(1-Table13[[#This Row],[PROPORTIONAL]])))","v":""},"","",null,0,"","","","","","",null,null,null,null,null,null,null,null,null,null,null,null,null,null,null,null,"",0,"","",0,"","",null,null,"",0,"","",0,"","",null,null,"",0,"","",0,"","",null,null,"",""]
[null,"",null,null,"",{"$f":"IF(Table13[[#This Row],[PROPORTIONAL]]=\"\", \"\", (ABS(1-Table13[[#This Row],[PROPORTIONAL]])))","v":""},"","",null,0,"","","","","","",null,null,null,null,null,null,null,null,null,null,null,null,null,null,null,null,"",0,"","",0,"","",null,null,"",0,"","",0,"","",null,null,"",0,"","",0,"","",null,null,"",""]
[null,"",null,null,"",{"$f":"IF(Table13[[#This Row],[PROPORTIONAL]]=\"\", \"\", (ABS(1-Table13[[#This Row],[PROPORTIONAL]])))","v":""},"","",null,0,"","","","","","",null,null,null,null,null,null,null,null,null,null,null,null,null,null,null,null,"",0,"","",0,"","",null,null,"",0,"","",0,"","",null,null,"",0,"","",0,"","",null,null,"",""]
[null,"",null,null,"",{"$f":"IF(Table13[[#This Row],[PROPORTIONAL]]=\"\", \"\", (ABS(1-Table13[[#This Row],[PROPORTIONAL]])))","v":""},"","",null,0,"","","","","","",null,null,null,null,null,null,null,null,null,null,null,null,null,null,null,null,"",0,"","",0,"","",null,null,"",0,"","",0,"","",null,null,"",0,"","",0,"","",null,null,"",""]
[null,"",null,null,"",{"$f":"IF(Table13[[#This Row],[PROPORTIONAL]]=\"\", \"\", (ABS(1-Table13[[#This Row],[PROPORTIONAL]])))","v":""},"","",null,0,"","","","","","",null,null,null,null,null,null,null,null,null,null,null,null,null,null,null,null,"",0,"","",0,"","",null,null,"",0,"","",0,"","",null,null,"",0,"","",0,"","",null,null,"",""]
[null,"",null,null,"",{"$f":"IF(Table13[[#This Row],[PROPORTIONAL]]=\"\", \"\", (ABS(1-Table13[[#This Row],[PROPORTIONAL]])))","v":""},"","",null,0,"","","","","","",null,null,null,null,null,null,null,null,null,null,null,null,null,null,null,null,"",0,"","",0,"","",null,null,"",0,"","",0,"","",null,null,"",0,"","",0,"","",null,null,"",""]
[null,"",null,null,"",{"$f":"IF(Table13[[#This Row],[PROPORTIONAL]]=\"\", \"\", (ABS(1-Table13[[#This Row],[PROPORTIONAL]])))","v":""},"","",null,0,"","","","","","",null,null,null,null,null,null,null,null,null,null,null,null,null,null,null,null,"",0,"","",0,"","",null,null,"",0,"","",0,"","",null,null,"",0,"","",0,"","",null,null,"",""]
[null,"",null,null,"",{"$f":"IF(Table13[[#This Row],[PROPORTIONAL]]=\"\", \"\", (ABS(1-Table13[[#This Row],[PROPORTIONAL]])))","v":""},"","",null,0,"","","","","","",null,null,null,null,null,null,null,null,null,null,null,null,null,null,null,null,"",0,"","",0,"","",null,null,"",0,"","",0,"","",null,null,"",0,"","",0,"","",null,null,"",""]
[null,"",null,null,"",{"$f":"IF(Table13[[#This Row],[PROPORTIONAL]]=\"\", \"\", (ABS(1-Table13[[#This Row],[PROPORTIONAL]])))","v":""},"","",null,0,"","","","","","",null,null,null,null,null,null,null,null,null,null,null,null,null,null,null,null,"",0,"","",0,"","",null,null,"",0,"","",0,"","",null,null,"",0,"","",0,"","",null,null,"",""]
[null,"",null,null,"",{"$f":"IF(Table13[[#This Row],[PROPORTIONAL]]=\"\", \"\", (ABS(1-Table13[[#This Row],[PROPORTIONAL]])))","v":""},"","",null,0,"","","","","","",null,null,null,null,null,null,null,null,null,null,null,null,null,null,null,null,"",0,"","",0,"","",null,null,"",0,"","",0,"","",null,null,"",0,"","",0,"","",null,null,"",""]
[null,"",null,null,"",{"$f":"IF(Table13[[#This Row],[PROPORTIONAL]]=\"\", \"\", (ABS(1-Table13[[#This Row],[PROPORTIONAL]])))","v":""},"","",null,0,"","","","","","",null,null,null,null,null,null,null,null,null,null,null,null,null,null,null,null,"",0,"","",0,"","",null,null,"",0,"","",0,"","",null,null,"",0,"","",0,"","",null,null,"",""]
[null,"",null,null,"",{"$f":"IF(Table13[[#This Row],[PROPORTIONAL]]=\"\", \"\", (ABS(1-Table13[[#This Row],[PROPORTIONAL]])))","v":""},"","",null,0,"","","","","","",null,null,null,null,null,null,null,null,null,null,null,null,null,null,null,null,"",0,"","",0,"","",null,null,"",0,"","",0,"","",null,null,"",0,"","",0,"","",null,null,"",""]
[null,"",null,null,"",{"$f":"IF(Table13[[#This Row],[PROPORTIONAL]]=\"\", \"\", (ABS(1-Table13[[#This Row],[PROPORTIONAL]])))","v":""},"","",null,0,"","","","","","",null,null,null,null,null,null,null,null,null,null,null,null,null,null,null,null,"",0,"","",0,"","",null,null,"",0,"","",0,"","",null,null,"",0,"","",0,"","",null,null,"",""]
[null,"",null,null,"",{"$f":"IF(Table13[[#This Row],[PROPORTIONAL]]=\"\", \"\", (ABS(1-Table13[[#This Row],[PROPORTIONAL]])))","v":""},"","",null,0,"","","","","","",null,null,null,null,null,null,null,null,null,null,null,null,null,null,null,null,"",0,"","",0,"","",null,null,"",0,"","",0,"","",null,null,"",0,"","",0,"","",null,null,"",""]
[null,"",null,null,"",{"$f":"IF(Table13[[#This Row],[PROPORTIONAL]]=\"\", \"\", (ABS(1-Table13[[#This Row],[PROPORTIONAL]])))","v":""},"","",null,0,"","","","","","",null,null,null,null,null,null,null,null,null,null,null,null,null,null,null,null,"",0,"","",0,"","",null,null,"",0,"","",0,"","",null,null,"",0,"","",0,"","",null,null,"",""]
[null,"",null,null,"",{"$f":"IF(Table13[[#This Row],[PROPORTIONAL]]=\"\", \"\", (ABS(1-Table13[[#This Row],[PROPORTIONAL]])))","v":""},"","",null,0,"","","","","","",null,null,null,null,null,null,null,null,null,null,null,null,null,null,null,null,"",0,"","",0,"","",null,null,"",0,"","",0,"","",null,null,"",0,"","",0,"","",null,null,"",""]
[null,"",null,null,"",{"$f":"IF(Table13[[#This Row],[PROPORTIONAL]]=\"\", \"\", (ABS(1-Table13[[#This Row],[PROPORTIONAL]])))","v":""},"","",null,0,"","","","","","",null,null,null,null,null,null,null,null,null,null,null,null,null,null,null,null,"",0,"","",0,"","",null,null,"",0,"","",0,"","",null,null,"",0,"","",0,"","",null,null,"",""]
[null,"",null,null,"",{"$f":"IF(Table13[[#This Row],[PROPORTIONAL]]=\"\", \"\", (ABS(1-Table13[[#This Row],[PROPORTIONAL]])))","v":""},"","",null,0,"","","","","","",null,null,null,null,null,null,null,null,null,null,null,null,null,null,null,null,"",0,"","",0,"","",null,null,"",0,"","",0,"","",null,null,"",0,"","",0,"","",null,null,"",""]
[null,"",null,null,"",{"$f":"IF(Table13[[#This Row],[PROPORTIONAL]]=\"\", \"\", (ABS(1-Table13[[#This Row],[PROPORTIONAL]])))","v":""},"","",null,0,"","","","","","",null,null,null,null,null,null,null,null,null,null,null,null,null,null,null,null,"",0,"","",0,"","",null,null,"",0,"","",0,"","",null,null,"",0,"","",0,"","",null,null,"",""]
[null,"",null,null,"",{"$f":"IF(Table13[[#This Row],[PROPORTIONAL]]=\"\", \"\", (ABS(1-Table13[[#This Row],[PROPORTIONAL]])))","v":""},"","",null,0,"","","","","","",null,null,null,null,null,null,null,null,null,null,null,null,null,null,null,null,"",0,"","",0,"","",null,null,"",0,"","",0,"","",null,null,"",0,"","",0,"","",null,null,"",""]
[null,"",null,null,"",{"$f":"IF(Table13[[#This Row],[PROPORTIONAL]]=\"\", \"\", (ABS(1-Table13[[#This Row],[PROPORTIONAL]])))","v":""},"","",null,0,"","","","","","",null,null,null,null,null,null,null,null,null,null,null,null,null,null,null,null,"",0,"","",0,"","",null,null,"",0,"","",0,"","",null,null,"",0,"","",0,"","",null,null,"",""]
[null,"",null,null,"",{"$f":"IF(Table13[[#This Row],[PROPORTIONAL]]=\"\", \"\", (ABS(1-Table13[[#This Row],[PROPORTIONAL]])))","v":""},"","",null,0,"","","","","","",null,null,null,null,null,null,null,null,null,null,null,null,null,null,null,null,"",0,"","",0,"","",null,null,"",0,"","",0,"","",null,null,"",0,"","",0,"","",null,null,"",""]
[null,"",null,null,"",{"$f":"IF(Table13[[#This Row],[PROPORTIONAL]]=\"\", \"\", (ABS(1-Table13[[#This Row],[PROPORTIONAL]])))","v":""},"","",null,0,"","","","","","",null,null,null,null,null,null,null,null,null,null,null,null,null,null,null,null,"",0,"","",0,"","",null,null,"",0,"","",0,"","",null,null,"",0,"","",0,"","",null,null,"",""]
[null,"",null,null,"",{"$f":"IF(Table13[[#This Row],[PROPORTIONAL]]=\"\", \"\", (ABS(1-Table13[[#This Row],[PROPORTIONAL]])))","v":""},"","",null,0,"","","","","","",null,null,null,null,null,null,null,null,null,null,null,null,null,null,null,null,"",0,"","",0,"","",null,null,"",0,"","",0,"","",null,null,"",0,"","",0,"","",null,null,"",""]
[null,"",null,null,"",{"$f":"IF(Table13[[#This Row],[PROPORTIONAL]]=\"\", \"\", (ABS(1-Table13[[#This Row],[PROPORTIONAL]])))","v":""},"","",null,0,"","","","","","",null,null,null,null,null,null,null,null,null,null,null,null,null,null,null,null,"",0,"","",0,"","",null,null,"",0,"","",0,"","",null,null,"",0,"","",0,"","",null,null,"",""]
[null,"",null,null,"",{"$f":"IF(Table13[[#This Row],[PROPORTIONAL]]=\"\", \"\", (ABS(1-Table13[[#This Row],[PROPORTIONAL]])))","v":""},"","",null,0,"","","","","","",null,null,null,null,null,null,null,null,null,null,null,null,null,null,null,null,"",0,"","",0,"","",null,null,"",0,"","",0,"","",null,null,"",0,"","",0,"","",null,null,"",""]
[null,"",null,null,"",{"$f":"IF(Table13[[#This Row],[PROPORTIONAL]]=\"\", \"\", (ABS(1-Table13[[#This Row],[PROPORTIONAL]])))","v":""},"","",null,0,"","","","","","",null,null,null,null,null,null,null,null,null,null,null,null,null,null,null,null,"",0,"","",0,"","",null,null,"",0,"","",0,"","",null,null,"",0,"","",0,"","",null,null,"",""]
[null,"",null,null,"",{"$f":"IF(Table13[[#This Row],[PROPORTIONAL]]=\"\", \"\", (ABS(1-Table13[[#This Row],[PROPORTIONAL]])))","v":""},"","",null,0,"","","","","","",null,null,null,null,null,null,null,null,null,null,null,null,null,null,null,null,"",0,"","",0,"","",null,null,"",0,"","",0,"","",null,null,"",0,"","",0,"","",null,null,"",""]
[null,"",null,null,"",{"$f":"IF(Table13[[#This Row],[PROPORTIONAL]]=\"\", \"\", (ABS(1-Table13[[#This Row],[PROPORTIONAL]])))","v":""},"","",null,0,"","","","","","",null,null,null,null,null,null,null,null,null,null,null,null,null,null,null,null,"",0,"","",0,"","",null,null,"",0,"","",0,"","",null,null,"",0,"","",0,"","",null,null,"",""]
[null,"",null,null,"",{"$f":"IF(Table13[[#This Row],[PROPORTIONAL]]=\"\", \"\", (ABS(1-Table13[[#This Row],[PROPORTIONAL]])))","v":""},"","",null,0,"","","","","","",null,null,null,null,null,null,null,null,null,null,null,null,null,null,null,null,"",0,"","",0,"","",null,null,"",0,"","",0,"","",null,null,"",0,"","",0,"","",null,null,"",""]
[null,"",null,null,"",{"$f":"IF(Table13[[#This Row],[PROPORTIONAL]]=\"\", \"\", (ABS(1-Table13[[#This Row],[PROPORTIONAL]])))","v":""},"","",null,0,"","","","","","",null,null,null,null,null,null,null,null,null,null,null,null,null,null,null,null,"",0,"","",0,"","",null,null,"",0,"","",0,"","",null,null,"",0,"","",0,"","",null,null,"",""]
[null,"",null,null,"",{"$f":"IF(Table13[[#This Row],[PROPORTIONAL]]=\"\", \"\", (ABS(1-Table13[[#This Row],[PROPORTIONAL]])))","v":""},"","",null,0,"","","","","","",null,null,null,null,null,null,null,null,null,null,null,null,null,null,null,null,"",0,"","",0,"","",null,null,"",0,"","",0,"","",null,null,"",0,"","",0,"","",null,null,"",""]
[null,"",null,null,"",{"$f":"IF(Table13[[#This Row],[PROPORTIONAL]]=\"\", \"\", (ABS(1-Table13[[#This Row],[PROPORTIONAL]])))","v":""},"","",null,0,"","","","","","",null,null,null,null,null,null,null,null,null,null,null,null,null,null,null,null,"",0,"","",0,"","",null,null,"",0,"","",0,"","",null,null,"",0,"","",0,"","",null,null,"",""]
[null,"",null,null,"",{"$f":"IF(Table13[[#This Row],[PROPORTIONAL]]=\"\", \"\", (ABS(1-Table13[[#This Row],[PROPORTIONAL]])))","v":""},"","",null,0,"","","","","","",null,null,null,null,null,null,null,null,null,null,null,null,null,null,null,null,"",0,"","",0,"","",null,null,"",0,"","",0,"","",null,null,"",0,"","",0,"","",null,null,"",""]
[null,"",null,null,"",{"$f":"IF(Table13[[#This Row],[PROPORTIONAL]]=\"\", \"\", (ABS(1-Table13[[#This Row],[PROPORTIONAL]])))","v":""},"","",null,0,"","","","","","",null,null,null,null,null,null,null,null,null,null,null,null,null,null,null,null,"",0,"","",0,"","",null,null,"",0,"","",0,"","",null,null,"",0,"","",0,"","",null,null,"",""]
[null,"",null,null,"",{"$f":"IF(Table13[[#This Row],[PROPORTIONAL]]=\"\", \"\", (ABS(1-Table13[[#This Row],[PROPORTIONAL]])))","v":""},"","",null,0,"","","","","","",null,null,null,null,null,null,null,null,null,null,null,null,null,null,null,null,"",0,"","",0,"","",null,null,"",0,"","",0,"","",null,null,"",0,"","",0,"","",null,null,"",""]
[null,"",null,null,"",{"$f":"IF(Table13[[#This Row],[PROPORTIONAL]]=\"\", \"\", (ABS(1-Table13[[#This Row],[PROPORTIONAL]])))","v":""},"","",null,0,"","","","","","",null,null,null,null,null,null,null,null,null,null,null,null,null,null,null,null,"",0,"","",0,"","",null,null,"",0,"","",0,"","",null,null,"",0,"","",0,"","",null,null,"",""]
[null,"",null,null,"",{"$f":"IF(Table13[[#This Row],[PROPORTIONAL]]=\"\", \"\", (ABS(1-Table13[[#This Row],[PROPORTIONAL]])))","v":""},"","",null,0,"","","","","","",null,null,null,null,null,null,null,null,null,null,null,null,null,null,null,null,"",0,"","",0,"","",null,null,"",0,"","",0,"","",null,null,"",0,"","",0,"","",null,null,"",""]
[null,"",null,null,"",{"$f":"IF(Table13[[#This Row],[PROPORTIONAL]]=\"\", \"\", (ABS(1-Table13[[#This Row],[PROPORTIONAL]])))","v":""},"","",null,0,"","","","","","",null,null,null,null,null,null,null,null,null,null,null,null,null,null,null,null,"",0,"","",0,"","",null,null,"",0,"","",0,"","",null,null,"",0,"","",0,"","",null,null,"",""]
[null,"",null,null,"",{"$f":"IF(Table13[[#This Row],[PROPORTIONAL]]=\"\", \"\", (ABS(1-Table13[[#This Row],[PROPORTIONAL]])))","v":""},"","",null,0,"","","","","","",null,null,null,null,null,null,null,null,null,null,null,null,null,null,null,null,"",0,"","",0,"","",null,null,"",0,"","",0,"","",null,null,"",0,"","",0,"","",null,null,"",""]
[null,"",null,null,"",{"$f":"IF(Table13[[#This Row],[PROPORTIONAL]]=\"\", \"\", (ABS(1-Table13[[#This Row],[PROPORTIONAL]])))","v":""},"","",null,0,"","","","","","",null,null,null,null,null,null,null,null,null,null,null,null,null,null,null,null,"",0,"","",0,"","",null,null,"",0,"","",0,"","",null,null,"",0,"","",0,"","",null,null,"",""]
[null,"",null,null,"",{"$f":"IF(Table13[[#This Row],[PROPORTIONAL]]=\"\", \"\", (ABS(1-Table13[[#This Row],[PROPORTIONAL]])))","v":""},"","",null,0,"","","","","","",null,null,null,null,null,null,null,null,null,null,null,null,null,null,null,null,"",0,"","",0,"","",null,null,"",0,"","",0,"","",null,null,"",0,"","",0,"","",null,null,"",""]
[null,"",null,null,"",{"$f":"IF(Table13[[#This Row],[PROPORTIONAL]]=\"\", \"\", (ABS(1-Table13[[#This Row],[PROPORTIONAL]])))","v":""},"","",null,0,"","","","","","",null,null,null,null,null,null,null,null,null,null,null,null,null,null,null,null,"",0,"","",0,"","",null,null,"",0,"","",0,"","",null,null,"",0,"","",0,"","",null,null,"",""]
[null,"",null,null,"",{"$f":"IF(Table13[[#This Row],[PROPORTIONAL]]=\"\", \"\", (ABS(1-Table13[[#This Row],[PROPORTIONAL]])))","v":""},"","",null,0,"","","","","","",null,null,null,null,null,null,null,null,null,null,null,null,null,null,null,null,"",0,"","",0,"","",null,null,"",0,"","",0,"","",null,null,"",0,"","",0,"","",null,null,"",""]
[null,"",null,null,"",{"$f":"IF(Table13[[#This Row],[PROPORTIONAL]]=\"\", \"\", (ABS(1-Table13[[#This Row],[PROPORTIONAL]])))","v":""},"","",null,0,"","","","","","",null,null,null,null,null,null,null,null,null,null,null,null,null,null,null,null,"",0,"","",0,"","",null,null,"",0,"","",0,"","",null,null,"",0,"","",0,"","",null,null,"",""]
[null,"",null,null,"",{"$f":"IF(Table13[[#This Row],[PROPORTIONAL]]=\"\", \"\", (ABS(1-Table13[[#This Row],[PROPORTIONAL]])))","v":""},"","",null,0,"","","","","","",null,null,null,null,null,null,null,null,null,null,null,null,null,null,null,null,"",0,"","",0,"","",null,null,"",0,"","",0,"","",null,null,"",0,"","",0,"","",null,null,"",""]
[null,"",null,null,"",{"$f":"IF(Table13[[#This Row],[PROPORTIONAL]]=\"\", \"\", (ABS(1-Table13[[#This Row],[PROPORTIONAL]])))","v":""},"","",null,0,"","","","","","",null,null,null,null,null,null,null,null,null,null,null,null,null,null,null,null,"",0,"","",0,"","",null,null,"",0,"","",0,"","",null,null,"",0,"","",0,"","",null,null,"",""]
[null,"",null,null,"",{"$f":"IF(Table13[[#This Row],[PROPORTIONAL]]=\"\", \"\", (ABS(1-Table13[[#This Row],[PROPORTIONAL]])))","v":""},"","",null,0,"","","","","","",null,null,null,null,null,null,null,null,null,null,null,null,null,null,null,null,"",0,"","",0,"","",null,null,"",0,"","",0,"","",null,null,"",0,"","",0,"","",null,null,"",""]
[null,"",null,null,"",{"$f":"IF(Table13[[#This Row],[PROPORTIONAL]]=\"\", \"\", (ABS(1-Table13[[#This Row],[PROPORTIONAL]])))","v":""},"","",null,0,"","","","","","",null,null,null,null,null,null,null,null,null,null,null,null,null,null,null,null,"",0,"","",0,"","",null,null,"",0,"","",0,"","",null,null,"",0,"","",0,"","",null,null,"",""]
[null,"",null,null,"",{"$f":"IF(Table13[[#This Row],[PROPORTIONAL]]=\"\", \"\", (ABS(1-Table13[[#This Row],[PROPORTIONAL]])))","v":""},"","",null,0,"","","","","","",null,null,null,null,null,null,null,null,null,null,null,null,null,null,null,null,"",0,"","",0,"","",null,null,"",0,"","",0,"","",null,null,"",0,"","",0,"","",null,null,"",""]
[null,"",null,null,"",{"$f":"IF(Table13[[#This Row],[PROPORTIONAL]]=\"\", \"\", (ABS(1-Table13[[#This Row],[PROPORTIONAL]])))","v":""},"","",null,0,"","","","","","",null,null,null,null,null,null,null,null,null,null,null,null,null,null,null,null,"",0,"","",0,"","",null,null,"",0,"","",0,"","",null,null,"",0,"","",0,"","",null,null,"",""]
[null,"",null,null,"",{"$f":"IF(Table13[[#This Row],[PROPORTIONAL]]=\"\", \"\", (ABS(1-Table13[[#This Row],[PROPORTIONAL]])))","v":""},"","",null,0,"","","","","","",null,null,null,null,null,null,null,null,null,null,null,null,null,null,null,null,"",0,"","",0,"","",null,null,"",0,"","",0,"","",null,null,"",0,"","",0,"","",null,null,"",""]
[null,"",null,null,"",{"$f":"IF(Table13[[#This Row],[PROPORTIONAL]]=\"\", \"\", (ABS(1-Table13[[#This Row],[PROPORTIONAL]])))","v":""},"","",null,0,"","","","","","",null,null,null,null,null,null,null,null,null,null,null,null,null,null,null,null,"",0,"","",0,"","",null,null,"",0,"","",0,"","",null,null,"",0,"","",0,"","",null,null,"",""]
[null,"",null,null,"",{"$f":"IF(Table13[[#This Row],[PROPORTIONAL]]=\"\", \"\", (ABS(1-Table13[[#This Row],[PROPORTIONAL]])))","v":""},"","",null,0,"","","","","","",null,null,null,null,null,null,null,null,null,null,null,null,null,null,null,null,"",0,"","",0,"","",null,null,"",0,"","",0,"","",null,null,"",0,"","",0,"","",null,null,"",""]
[null,"",null,null,"",{"$f":"IF(Table13[[#This Row],[PROPORTIONAL]]=\"\", \"\", (ABS(1-Table13[[#This Row],[PROPORTIONAL]])))","v":""},"","",null,0,"","","","","","",null,null,null,null,null,null,null,null,null,null,null,null,null,null,null,null,"",0,"","",0,"","",null,null,"",0,"","",0,"","",null,null,"",0,"","",0,"","",null,null,"",""]
[null,"",null,null,"",{"$f":"IF(Table13[[#This Row],[PROPORTIONAL]]=\"\", \"\", (ABS(1-Table13[[#This Row],[PROPORTIONAL]])))","v":""},"","",null,0,"","","","","","",null,null,null,null,null,null,null,null,null,null,null,null,null,null,null,null,"",0,"","",0,"","",null,null,"",0,"","",0,"","",null,null,"",0,"","",0,"","",null,null,"",""]
[null,"",null,null,"",{"$f":"IF(Table13[[#This Row],[PROPORTIONAL]]=\"\", \"\", (ABS(1-Table13[[#This Row],[PROPORTIONAL]])))","v":""},"","",null,0,"","","","","","",null,null,null,null,null,null,null,null,null,null,null,null,null,null,null,null,"",0,"","",0,"","",null,null,"",0,"","",0,"","",null,null,"",0,"","",0,"","",null,null,"",""]
[null,"",null,null,"",{"$f":"IF(Table13[[#This Row],[PROPORTIONAL]]=\"\", \"\", (ABS(1-Table13[[#This Row],[PROPORTIONAL]])))","v":""},"","",null,0,"","","","","","",null,null,null,null,null,null,null,null,null,null,null,null,null,null,null,null,"",0,"","",0,"","",null,null,"",0,"","",0,"","",null,null,"",0,"","",0,"","",null,null,"",""]
[null,"",null,null,"",{"$f":"IF(Table13[[#This Row],[PROPORTIONAL]]=\"\", \"\", (ABS(1-Table13[[#This Row],[PROPORTIONAL]])))","v":""},"","",null,0,"","","","","","",null,null,null,null,null,null,null,null,null,null,null,null,null,null,null,null,"",0,"","",0,"","",null,null,"",0,"","",0,"","",null,null,"",0,"","",0,"","",null,null,"",""]
[null,"",null,null,"",{"$f":"IF(Table13[[#This Row],[PROPORTIONAL]]=\"\", \"\", (ABS(1-Table13[[#This Row],[PROPORTIONAL]])))","v":""},"","",null,0,"","","","","","",null,null,null,null,null,null,null,null,null,null,null,null,null,null,null,null,"",0,"","",0,"","",null,null,"",0,"","",0,"","",null,null,"",0,"","",0,"","",null,null,"",""]
[null,"",null,null,"",{"$f":"IF(Table13[[#This Row],[PROPORTIONAL]]=\"\", \"\", (ABS(1-Table13[[#This Row],[PROPORTIONAL]])))","v":""},"","",null,0,"","","","","","",null,null,null,null,null,null,null,null,null,null,null,null,null,null,null,null,"",0,"","",0,"","",null,null,"",0,"","",0,"","",null,null,"",0,"","",0,"","",null,null,"",""]
[null,"",null,null,"",{"$f":"IF(Table13[[#This Row],[PROPORTIONAL]]=\"\", \"\", (ABS(1-Table13[[#This Row],[PROPORTIONAL]])))","v":""},{"$f":"IF(D462=\"\",\"\",$G$7+3*(SQRT(($G$7*(ABS(1-$G$7)))/D462)))","v":""},{"$f":"IF(D462=\"\",\"\",IF($G$7-3*(SQRT(($G$7*(ABS(1-$G$7)))/D462))<0,0,$G$7-3*(SQRT(($G$7*(ABS(1-$G$7)))/D462))))","v":""},null,0,{"$f":"IF(H462=\"\",\"\",$G$7)","v":""},{"$f":"IF(D462=\"\",\"\",IF($G$7-1*(SQRT(($G$7*(ABS(1-$G$7)))/D462))<0,0,$G$7-1*(SQRT(($G$7*(ABS(1-$G$7)))/D462))))","v":""},{"$f":"IF(D462=\"\",\"\",IF($G$7-2*(SQRT(($G$7*(ABS(1-$G$7)))/D462))<0,0,$G$7-2*(SQRT(($G$7*(ABS(1-$G$7)))/D462))))","v":""},{"$f":"IF(D462=\"\",\"\",$G$7+1*(SQRT(($G$7*(ABS(1-$G$7)))/D462)))","v":""},{"$f":"IF(D462=\"\",\"\",$G$7+2*(SQRT(($G$7*(ABS(1-$G$7)))/D462)))","v":""},"",null,null,null,null,null,null,null,null,null,null,null,null,null,null,null,null,"",0,"","",0,{"$f":"IF(AK463=2,\"\",IF(AK462>=2,CONCATENATE(\"Data Point \",B462,\" to \",\"Data Point \",(B462+2)),\"\"))","v":""},"",null,null,"",0,"","",{"$f":"SUM(AS462:AS466)","v":0},{"$f":"IF(AT463=4,\"\",IF(AT462>=4,CONCATENATE(\"Data Point \",B462,\" to \",\"Data Point \",(B462+4)),\"\"))","v":""},{"$f":"IF(AND(AR462<>\"\",AU462=\"\"),AR462,IF(AND(AR462=\"\",AU462<>\"\"),AU462,IF(AND(AR462<>\"\",AU462<>\"\"),AR462,\"\")))","v":""},null,null,"",{"$f":"SUM(AY462:AY469)","v":0},"","",{"$f":"SUM(BB462:BB469)","v":0},"",{"$f":"IF(AND(BA462<>\"\",BD462=\"\"),BA462,IF(AND(BA462=\"\",BD462<>\"\"),BD462,IF(AND(BA462<>\"\",BD462<>\"\"),BA462,\"\")))","v":""},null,null,"",""]
[null,"",null,null,{"$f":"IF(D463=\"\",\"\",C463/D463)","v":""},{"$f":"IF(Table13[[#This Row],[PROPORTIONAL]]=\"\", \"\", (ABS(1-Table13[[#This Row],[PROPORTIONAL]])))","v":""},"","",null,{"$f":"IF(B463>$G$9,0,1)","v":0},"","","","","",{"$f":"IF(J463=1, E463, \"\")","v":""},null,null,null,null,null,null,null,null,null,null,null,null,null,null,null,null,{"$f":"IF(E463=\"\",\"\",IF(AND(E463>=O463,E463<G463),1,0))","v":""},{"$f":"SUM(AG463:AG465)","v":0},{"$f":"IF(AH464=2,\"\",IF(AH463>=2,CONCATENATE(\"Data Point \",B463,\" to \",\"Data Point \",(B463+2)),\"\"))","v":""},{"$f":"IF(E463=\"\",\"\",IF(AND(E463<=M463,E463>H463),1,0))","v":""},{"$f":"SUM(AJ463:AJ465)","v":0},"",{"$f":"IF(AND(AI463<>\"\",AL463=\"\"),AI463,IF(AND(AI463=\"\",AL463<>\"\"),AL463,IF(AND(AI463<>\"\",AL463<>\"\"),AI463,\"\")))","v":""},null,null,{"$f":"IF(E463=\"\",\"\",IF(AND(E463>=N463,E463<G463),1,0))","v":""},{"$f":"SUM(AP463:AP467)","v":0},{"$f":"IF(AQ464=4,\"\",IF(AQ463>=4,CONCATENATE(\"Data Point \",B463,\" to \",\"Data Point \",(B463+4)),\"\"))","v":""},{"$f":"IF(E463=\"\",\"\",IF(AND(E463<=L463,E463>H463),1,0))","v":""},0,"","",null,null,{"$f":"IF(E463=\"\",\"\",IF(AND(E463>=K463,E463<G463),1,0))","v":""},0,{"$f":"IF(AZ464=8, \"\", IF(AZ463=8,CONCATENATE(\"Data Point \",B463,\" to \",\"Data Point \",(B463+8)),\"\"))","v":""},{"$f":"IF(E463=\"\",\"\",IF(AND(E463<=K463,E463>H463),1,0))","v":""},0,{"$f":"IF(BC464=8, \"\", IF(BC463=8,CONCATENATE(\"Data Point \",B463,\" to \",\"Data Point \",(B463+8)),\"\"))","v":""},"",null,null,{"$f":"IF(E463=\"\",\"\",IF(OR(E463>G463,E463<H463),1,0))","v":""},{"$f":"IF(BH463=1,CONCATENATE(\"Data Point \",B463),\"\")","v":""}]
[null,{"$f":"IF(C464=\"\",\"\",B463+1)","v":""},null,null,"",{"$f":"IF(Table13[[#This Row],[PROPORTIONAL]]=\"\", \"\", (ABS(1-Table13[[#This Row],[PROPORTIONAL]])))","v":""},"","",null,0,"","","","","","",null,null,null,null,null,null,null,null,null,null,null,null,null,null,null,null,"",0,"","",0,"","",null,null,"",0,"","",0,"","",null,null,"",0,"","",0,"","",null,null,"",""]
[null,"",null,null,"",{"$f":"IF(Table13[[#This Row],[PROPORTIONAL]]=\"\", \"\", (ABS(1-Table13[[#This Row],[PROPORTIONAL]])))","v":""},"","",null,0,"","","","","","",null,null,null,null,null,null,null,null,null,null,null,null,null,null,null,null,"",0,"","",0,"","",null,null,"",0,"","",0,"","",null,null,"",0,"","",0,"","",null,null,"",""]
[null,"",null,null,"",{"$f":"IF(Table13[[#This Row],[PROPORTIONAL]]=\"\", \"\", (ABS(1-Table13[[#This Row],[PROPORTIONAL]])))","v":""},"","",null,0,"","","","","","",null,null,null,null,null,null,null,null,null,null,null,null,null,null,null,null,"",0,"","",0,"","",null,null,"",0,"","",0,"","",null,null,"",0,"","",0,"","",null,null,"",""]
[null,"",null,null,"",{"$f":"IF(Table13[[#This Row],[PROPORTIONAL]]=\"\", \"\", (ABS(1-Table13[[#This Row],[PROPORTIONAL]])))","v":""},"","",null,0,"","","","","","",null,null,null,null,null,null,null,null,null,null,null,null,null,null,null,null,"",0,"","",0,"","",null,null,"",0,"","",0,"","",null,null,"",0,"","",0,"","",null,null,"",""]
[null,"",null,null,"",{"$f":"IF(Table13[[#This Row],[PROPORTIONAL]]=\"\", \"\", (ABS(1-Table13[[#This Row],[PROPORTIONAL]])))","v":""},"","",null,0,"","","","","","",null,null,null,null,null,null,null,null,null,null,null,null,null,null,null,null,"",0,"","",0,"","",null,null,"",0,"","",0,"","",null,null,"",0,"","",0,"","",null,null,"",""]
[null,"",null,null,"",{"$f":"IF(Table13[[#This Row],[PROPORTIONAL]]=\"\", \"\", (ABS(1-Table13[[#This Row],[PROPORTIONAL]])))","v":""},"","",null,0,"","","","","","",null,null,null,null,null,null,null,null,null,null,null,null,null,null,null,null,"",0,"","",0,"","",null,null,"",0,"","",0,"","",null,null,"",0,"","",0,"","",null,null,"",""]
[null,"",null,null,"",{"$f":"IF(Table13[[#This Row],[PROPORTIONAL]]=\"\", \"\", (ABS(1-Table13[[#This Row],[PROPORTIONAL]])))","v":""},"","",null,0,"","","","","","",null,null,null,null,null,null,null,null,null,null,null,null,null,null,null,null,"",0,"","",0,"","",null,null,"",0,"","",0,"","",null,null,"",0,"","",0,"","",null,null,"",""]
[null,"",null,null,"",{"$f":"IF(Table13[[#This Row],[PROPORTIONAL]]=\"\", \"\", (ABS(1-Table13[[#This Row],[PROPORTIONAL]])))","v":""},"","",null,0,"","","","","","",null,null,null,null,null,null,null,null,null,null,null,null,null,null,null,null,"",0,"","",0,"","",null,null,"",0,"","",0,"","",null,null,"",0,"","",0,"","",null,null,"",""]
[null,"",null,null,"",{"$f":"IF(Table13[[#This Row],[PROPORTIONAL]]=\"\", \"\", (ABS(1-Table13[[#This Row],[PROPORTIONAL]])))","v":""},"","",null,0,"","","","","","",null,null,null,null,null,null,null,null,null,null,null,null,null,null,null,null,"",0,"","",0,"","",null,null,"",0,"","",0,"","",null,null,"",0,"","",0,"","",null,null,"",""]
[null,"",null,null,"",{"$f":"IF(Table13[[#This Row],[PROPORTIONAL]]=\"\", \"\", (ABS(1-Table13[[#This Row],[PROPORTIONAL]])))","v":""},"","",null,0,"","","","","","",null,null,null,null,null,null,null,null,null,null,null,null,null,null,null,null,"",0,"","",0,"","",null,null,"",0,"","",0,"","",null,null,"",0,"","",0,"","",null,null,"",""]
[null,"",null,null,"",{"$f":"IF(Table13[[#This Row],[PROPORTIONAL]]=\"\", \"\", (ABS(1-Table13[[#This Row],[PROPORTIONAL]])))","v":""},"","",null,0,"","","","","","",null,null,null,null,null,null,null,null,null,null,null,null,null,null,null,null,"",0,"","",0,"","",null,null,"",0,"","",0,"","",null,null,"",0,"","",0,"","",null,null,"",""]
[null,"",null,null,"",{"$f":"IF(Table13[[#This Row],[PROPORTIONAL]]=\"\", \"\", (ABS(1-Table13[[#This Row],[PROPORTIONAL]])))","v":""},"","",null,0,"","","","","","",null,null,null,null,null,null,null,null,null,null,null,null,null,null,null,null,"",0,"","",0,"","",null,null,"",0,"","",0,"","",null,null,"",0,"","",0,"","",null,null,"",""]
[null,"",null,null,"",{"$f":"IF(Table13[[#This Row],[PROPORTIONAL]]=\"\", \"\", (ABS(1-Table13[[#This Row],[PROPORTIONAL]])))","v":""},"","",null,0,"","","","","","",null,null,null,null,null,null,null,null,null,null,null,null,null,null,null,null,"",0,"","",0,"","",null,null,"",0,"","",0,"","",null,null,"",0,"","",0,"","",null,null,"",""]
[null,"",null,null,"",{"$f":"IF(Table13[[#This Row],[PROPORTIONAL]]=\"\", \"\", (ABS(1-Table13[[#This Row],[PROPORTIONAL]])))","v":""},"","",null,0,"","","","","","",null,null,null,null,null,null,null,null,null,null,null,null,null,null,null,null,"",0,"","",0,"","",null,null,"",0,"","",0,"","",null,null,"",0,"","",0,"","",null,null,"",""]
[null,"",null,null,"",{"$f":"IF(Table13[[#This Row],[PROPORTIONAL]]=\"\", \"\", (ABS(1-Table13[[#This Row],[PROPORTIONAL]])))","v":""},"","",null,0,"","","","","","",null,null,null,null,null,null,null,null,null,null,null,null,null,null,null,null,"",0,"","",0,"","",null,null,"",0,"","",0,"","",null,null,"",0,"","",0,"","",null,null,"",""]
[null,"",null,null,"",{"$f":"IF(Table13[[#This Row],[PROPORTIONAL]]=\"\", \"\", (ABS(1-Table13[[#This Row],[PROPORTIONAL]])))","v":""},"","",null,0,"","","","","","",null,null,null,null,null,null,null,null,null,null,null,null,null,null,null,null,"",0,"","",0,"","",null,null,"",0,"","",0,"","",null,null,"",0,"","",0,"","",null,null,"",""]
[null,"",null,null,"",{"$f":"IF(Table13[[#This Row],[PROPORTIONAL]]=\"\", \"\", (ABS(1-Table13[[#This Row],[PROPORTIONAL]])))","v":""},"","",null,0,"","","","","","",null,null,null,null,null,null,null,null,null,null,null,null,null,null,null,null,"",0,"","",0,"","",null,null,"",0,"","",0,"","",null,null,"",0,"","",0,"","",null,null,"",""]
[null,"",null,null,"",{"$f":"IF(Table13[[#This Row],[PROPORTIONAL]]=\"\", \"\", (ABS(1-Table13[[#This Row],[PROPORTIONAL]])))","v":""},"","",null,0,"","","","","","",null,null,null,null,null,null,null,null,null,null,null,null,null,null,null,null,"",0,"","",0,"","",null,null,"",0,"","",0,"","",null,null,"",0,"","",0,"","",null,null,"",""]
[null,"",null,null,"",{"$f":"IF(Table13[[#This Row],[PROPORTIONAL]]=\"\", \"\", (ABS(1-Table13[[#This Row],[PROPORTIONAL]])))","v":""},"","",null,0,"","","","","","",null,null,null,null,null,null,null,null,null,null,null,null,null,null,null,null,"",0,"","",0,"","",null,null,"",0,"","",0,"","",null,null,"",0,"","",0,"","",null,null,"",""]
[null,"",null,null,"",{"$f":"IF(Table13[[#This Row],[PROPORTIONAL]]=\"\", \"\", (ABS(1-Table13[[#This Row],[PROPORTIONAL]])))","v":""},"","",null,0,"","","","","","",null,null,null,null,null,null,null,null,null,null,null,null,null,null,null,null,"",0,"","",0,"","",null,null,"",0,"","",0,"","",null,null,"",0,"","",0,"","",null,null,"",""]
[null,"",null,null,"",{"$f":"IF(Table13[[#This Row],[PROPORTIONAL]]=\"\", \"\", (ABS(1-Table13[[#This Row],[PROPORTIONAL]])))","v":""},"","",null,0,"","","","","","",null,null,null,null,null,null,null,null,null,null,null,null,null,null,null,null,"",0,"","",0,"","",null,null,"",0,"","",0,"","",null,null,"",0,"","",0,"","",null,null,"",""]
[null,"",null,null,"",{"$f":"IF(Table13[[#This Row],[PROPORTIONAL]]=\"\", \"\", (ABS(1-Table13[[#This Row],[PROPORTIONAL]])))","v":""},"","",null,0,"","","","","","",null,null,null,null,null,null,null,null,null,null,null,null,null,null,null,null,"",0,"","",0,"","",null,null,"",0,"","",0,"","",null,null,"",0,"","",0,"","",null,null,"",""]
[null,"",null,null,"",{"$f":"IF(Table13[[#This Row],[PROPORTIONAL]]=\"\", \"\", (ABS(1-Table13[[#This Row],[PROPORTIONAL]])))","v":""},"","",null,0,"","","","","","",null,null,null,null,null,null,null,null,null,null,null,null,null,null,null,null,"",0,"","",0,"","",null,null,"",0,"","",0,"","",null,null,"",0,"","",0,"","",null,null,"",""]
[null,"",null,null,"",{"$f":"IF(Table13[[#This Row],[PROPORTIONAL]]=\"\", \"\", (ABS(1-Table13[[#This Row],[PROPORTIONAL]])))","v":""},"","",null,0,"","","","","","",null,null,null,null,null,null,null,null,null,null,null,null,null,null,null,null,"",0,"","",0,"","",null,null,"",0,"","",0,"","",null,null,"",0,"","",0,"","",null,null,"",""]
[null,"",null,null,"",{"$f":"IF(Table13[[#This Row],[PROPORTIONAL]]=\"\", \"\", (ABS(1-Table13[[#This Row],[PROPORTIONAL]])))","v":""},"","",null,0,"","","","","","",null,null,null,null,null,null,null,null,null,null,null,null,null,null,null,null,"",0,"","",0,"","",null,null,"",0,"","",0,"","",null,null,"",0,"","",0,"","",null,null,"",""]
[null,"",null,null,"",{"$f":"IF(Table13[[#This Row],[PROPORTIONAL]]=\"\", \"\", (ABS(1-Table13[[#This Row],[PROPORTIONAL]])))","v":""},"","",null,0,"","","","","","",null,null,null,null,null,null,null,null,null,null,null,null,null,null,null,null,"",0,"","",0,"","",null,null,"",0,"","",0,"","",null,null,"",0,"","",0,"","",null,null,"",""]
[null,"",null,null,"",{"$f":"IF(Table13[[#This Row],[PROPORTIONAL]]=\"\", \"\", (ABS(1-Table13[[#This Row],[PROPORTIONAL]])))","v":""},"","",null,0,"","","","","","",null,null,null,null,null,null,null,null,null,null,null,null,null,null,null,null,"",0,"","",0,"","",null,null,"",0,"","",0,"","",null,null,"",0,"","",0,"","",null,null,"",""]
[null,"",null,null,"",{"$f":"IF(Table13[[#This Row],[PROPORTIONAL]]=\"\", \"\", (ABS(1-Table13[[#This Row],[PROPORTIONAL]])))","v":""},"","",null,0,"","","","","","",null,null,null,null,null,null,null,null,null,null,null,null,null,null,null,null,"",0,"","",0,"","",null,null,"",0,"","",0,"","",null,null,"",0,"","",0,"","",null,null,"",""]
[null,"",null,null,"",{"$f":"IF(Table13[[#This Row],[PROPORTIONAL]]=\"\", \"\", (ABS(1-Table13[[#This Row],[PROPORTIONAL]])))","v":""},"","",null,0,"","","","","","",null,null,null,null,null,null,null,null,null,null,null,null,null,null,null,null,"",0,"","",0,"","",null,null,"",0,"","",0,"","",null,null,"",0,"","",0,"","",null,null,"",""]
[null,"",null,null,"",{"$f":"IF(Table13[[#This Row],[PROPORTIONAL]]=\"\", \"\", (ABS(1-Table13[[#This Row],[PROPORTIONAL]])))","v":""},"","",null,0,"","","","","","",null,null,null,null,null,null,null,null,null,null,null,null,null,null,null,null,"",0,"","",0,"","",null,null,"",0,"","",0,"","",null,null,"",0,"","",0,"","",null,null,"",""]
[null,"",null,null,"",{"$f":"IF(Table13[[#This Row],[PROPORTIONAL]]=\"\", \"\", (ABS(1-Table13[[#This Row],[PROPORTIONAL]])))","v":""},"","",null,0,"","","","","","",null,null,null,null,null,null,null,null,null,null,null,null,null,null,null,null,"",0,"","",0,"","",null,null,"",0,"","",0,"","",null,null,"",0,"","",0,"","",null,null,"",""]
[null,"",null,null,"",{"$f":"IF(Table13[[#This Row],[PROPORTIONAL]]=\"\", \"\", (ABS(1-Table13[[#This Row],[PROPORTIONAL]])))","v":""},"","",null,0,"","","","","","",null,null,null,null,null,null,null,null,null,null,null,null,null,null,null,null,"",0,"","",0,"","",null,null,"",0,"","",0,"","",null,null,"",0,"","",0,"","",null,null,"",""]
[null,"",null,null,"",{"$f":"IF(Table13[[#This Row],[PROPORTIONAL]]=\"\", \"\", (ABS(1-Table13[[#This Row],[PROPORTIONAL]])))","v":""},"","",null,0,"","","","","","",null,null,null,null,null,null,null,null,null,null,null,null,null,null,null,null,"",0,"","",0,"","",null,null,"",0,"","",0,"","",null,null,"",0,"","",0,"","",null,null,"",""]
[null,"",null,null,"",{"$f":"IF(Table13[[#This Row],[PROPORTIONAL]]=\"\", \"\", (ABS(1-Table13[[#This Row],[PROPORTIONAL]])))","v":""},"","",null,0,"","","","","","",null,null,null,null,null,null,null,null,null,null,null,null,null,null,null,null,"",0,"","",0,"","",null,null,"",0,"","",0,"","",null,null,"",0,"","",0,"","",null,null,"",""]
[null,"",null,null,"",{"$f":"IF(Table13[[#This Row],[PROPORTIONAL]]=\"\", \"\", (ABS(1-Table13[[#This Row],[PROPORTIONAL]])))","v":""},"","",null,0,"","","","","","",null,null,null,null,null,null,null,null,null,null,null,null,null,null,null,null,"",0,"","",0,"","",null,null,"",0,"","",0,"","",null,null,"",0,"","",0,"","",null,null,"",""]
[null,"",null,null,"",{"$f":"IF(Table13[[#This Row],[PROPORTIONAL]]=\"\", \"\", (ABS(1-Table13[[#This Row],[PROPORTIONAL]])))","v":""},"","",null,0,"","","","","","",null,null,null,null,null,null,null,null,null,null,null,null,null,null,null,null,"",0,"","",0,"","",null,null,"",0,"","",0,"","",null,null,"",0,"","",0,"","",null,null,"",""]
[null,"",null,null,"",{"$f":"IF(Table13[[#This Row],[PROPORTIONAL]]=\"\", \"\", (ABS(1-Table13[[#This Row],[PROPORTIONAL]])))","v":""},"","",null,0,"","","","","","",null,null,null,null,null,null,null,null,null,null,null,null,null,null,null,null,"",0,"","",0,"","",null,null,"",0,"","",0,"","",null,null,"",0,"","",0,"","",null,null,"",""]
[null,"",null,null,"",{"$f":"IF(Table13[[#This Row],[PROPORTIONAL]]=\"\", \"\", (ABS(1-Table13[[#This Row],[PROPORTIONAL]])))","v":""},"","",null,0,"","","","","","",null,null,null,null,null,null,null,null,null,null,null,null,null,null,null,null,"",0,"","",0,"","",null,null,"",0,"","",0,"","",null,null,"",0,"","",0,"","",null,null,"",""]
[null,"",null,null,"",{"$f":"IF(Table13[[#This Row],[PROPORTIONAL]]=\"\", \"\", (ABS(1-Table13[[#This Row],[PROPORTIONAL]])))","v":""},"","",null,0,"","","","","","",null,null,null,null,null,null,null,null,null,null,null,null,null,null,null,null,"",0,"","",0,"","",null,null,"",0,"","",0,"","",null,null,"",0,"","",0,"","",null,null,"",""]
[null,"",null,null,"",{"$f":"IF(Table13[[#This Row],[PROPORTIONAL]]=\"\", \"\", (ABS(1-Table13[[#This Row],[PROPORTIONAL]])))","v":""},"","",null,0,"","","","","","",null,null,null,null,null,null,null,null,null,null,null,null,null,null,null,null,"",0,"","",0,"","",null,null,"",0,"","",0,"","",null,null,"",0,"","",0,"","",null,null,"",""]
[null,"",null,null,"",{"$f":"IF(Table13[[#This Row],[PROPORTIONAL]]=\"\", \"\", (ABS(1-Table13[[#This Row],[PROPORTIONAL]])))","v":""},"","",null,0,"","","","","","",null,null,null,null,null,null,null,null,null,null,null,null,null,null,null,null,"",0,"","",0,"","",null,null,"",0,"","",0,"","",null,null,"",0,"","",0,"","",null,null,"",""]
[null,"",null,null,"",{"$f":"IF(Table13[[#This Row],[PROPORTIONAL]]=\"\", \"\", (ABS(1-Table13[[#This Row],[PROPORTIONAL]])))","v":""},"","",null,0,"","","","","","",null,null,null,null,null,null,null,null,null,null,null,null,null,null,null,null,"",0,"","",0,"","",null,null,"",0,"","",0,"","",null,null,"",0,"","",0,"","",null,null,"",""]
[null,"",null,null,"",{"$f":"IF(Table13[[#This Row],[PROPORTIONAL]]=\"\", \"\", (ABS(1-Table13[[#This Row],[PROPORTIONAL]])))","v":""},"","",null,0,"","","","","","",null,null,null,null,null,null,null,null,null,null,null,null,null,null,null,null,"",0,"","",0,"","",null,null,"",0,"","",0,"","",null,null,"",0,"","",0,"","",null,null,"",""]
[null,"",null,null,"",{"$f":"IF(Table13[[#This Row],[PROPORTIONAL]]=\"\", \"\", (ABS(1-Table13[[#This Row],[PROPORTIONAL]])))","v":""},"","",null,0,"","","","","","",null,null,null,null,null,null,null,null,null,null,null,null,null,null,null,null,"",0,"","",0,"","",null,null,"",0,"","",0,"","",null,null,"",0,"","",0,"","",null,null,"",""]
[null,"",null,null,"",{"$f":"IF(Table13[[#This Row],[PROPORTIONAL]]=\"\", \"\", (ABS(1-Table13[[#This Row],[PROPORTIONAL]])))","v":""},"","",null,0,"","","","","","",null,null,null,null,null,null,null,null,null,null,null,null,null,null,null,null,"",0,"","",0,"","",null,null,"",0,"","",0,"","",null,null,"",0,"","",0,"","",null,null,"",""]
[null,"",null,null,"",{"$f":"IF(Table13[[#This Row],[PROPORTIONAL]]=\"\", \"\", (ABS(1-Table13[[#This Row],[PROPORTIONAL]])))","v":""},"","",null,0,"","","","","","",null,null,null,null,null,null,null,null,null,null,null,null,null,null,null,null,"",0,"","",0,"","",null,null,"",0,"","",0,"","",null,null,"",0,"","",0,"","",null,null,"",""]
[null,"",null,null,"",{"$f":"IF(Table13[[#This Row],[PROPORTIONAL]]=\"\", \"\", (ABS(1-Table13[[#This Row],[PROPORTIONAL]])))","v":""},"","",null,0,"","","","","","",null,null,null,null,null,null,null,null,null,null,null,null,null,null,null,null,"",0,"","",0,"","",null,null,"",0,"","",0,"","",null,null,"",0,"","",0,"","",null,null,"",""]
[null,"",null,null,"",{"$f":"IF(Table13[[#This Row],[PROPORTIONAL]]=\"\", \"\", (ABS(1-Table13[[#This Row],[PROPORTIONAL]])))","v":""},"","",null,0,"","","","","","",null,null,null,null,null,null,null,null,null,null,null,null,null,null,null,null,"",0,"","",0,"","",null,null,"",0,"","",0,"","",null,null,"",0,"","",0,"","",null,null,"",""]
[null,"",null,null,"",{"$f":"IF(Table13[[#This Row],[PROPORTIONAL]]=\"\", \"\", (ABS(1-Table13[[#This Row],[PROPORTIONAL]])))","v":""},"","",null,0,"","","","","","",null,null,null,null,null,null,null,null,null,null,null,null,null,null,null,null,"",0,"","",0,"","",null,null,"",0,"","",0,"","",null,null,"",0,"","",0,"","",null,null,"",""]
[null,"",null,null,"",{"$f":"IF(Table13[[#This Row],[PROPORTIONAL]]=\"\", \"\", (ABS(1-Table13[[#This Row],[PROPORTIONAL]])))","v":""},"","",null,0,"","","","","","",null,null,null,null,null,null,null,null,null,null,null,null,null,null,null,null,"",0,"","",0,"","",null,null,"",0,"","",0,"","",null,null,"",0,"","",0,"","",null,null,"",""]
[null,"",null,null,"",{"$f":"IF(Table13[[#This Row],[PROPORTIONAL]]=\"\", \"\", (ABS(1-Table13[[#This Row],[PROPORTIONAL]])))","v":""},"","",null,0,"","","","","","",null,null,null,null,null,null,null,null,null,null,null,null,null,null,null,null,"",0,"","",0,"","",null,null,"",0,"","",0,"","",null,null,"",0,"","",0,"","",null,null,"",""]
[null,"",null,null,"",{"$f":"IF(Table13[[#This Row],[PROPORTIONAL]]=\"\", \"\", (ABS(1-Table13[[#This Row],[PROPORTIONAL]])))","v":""},"","",null,0,"","","","","","",null,null,null,null,null,null,null,null,null,null,null,null,null,null,null,null,"",0,"","",0,"","",null,null,"",0,"","",0,"","",null,null,"",0,"","",0,"","",null,null,"",""]
[null,"",null,null,"",{"$f":"IF(Table13[[#This Row],[PROPORTIONAL]]=\"\", \"\", (ABS(1-Table13[[#This Row],[PROPORTIONAL]])))","v":""},"","",null,0,"","","","","","",null,null,null,null,null,null,null,null,null,null,null,null,null,null,null,null,"",0,"","",0,"","",null,null,"",0,"","",0,"","",null,null,"",0,"","",0,"","",null,null,"",""]
[null,"",null,null,"",{"$f":"IF(Table13[[#This Row],[PROPORTIONAL]]=\"\", \"\", (ABS(1-Table13[[#This Row],[PROPORTIONAL]])))","v":""},"","",null,0,"","","","","","",null,null,null,null,null,null,null,null,null,null,null,null,null,null,null,null,"",0,"","",0,"","",null,null,"",0,"","",0,"","",null,null,"",0,"","",0,"","",null,null,"",""]
[null,"",null,null,"",{"$f":"IF(Table13[[#This Row],[PROPORTIONAL]]=\"\", \"\", (ABS(1-Table13[[#This Row],[PROPORTIONAL]])))","v":""},"","",null,0,"","","","","","",null,null,null,null,null,null,null,null,null,null,null,null,null,null,null,null,"",0,"","",0,"","",null,null,"",0,"","",0,"","",null,null,"",0,"","",0,"","",null,null,"",""]
[null,"",null,null,"",{"$f":"IF(Table13[[#This Row],[PROPORTIONAL]]=\"\", \"\", (ABS(1-Table13[[#This Row],[PROPORTIONAL]])))","v":""},"","",null,0,"","","","","","",null,null,null,null,null,null,null,null,null,null,null,null,null,null,null,null,"",0,"","",0,"","",null,null,"",0,"","",0,"","",null,null,"",0,"","",0,"","",null,null,"",""]
[null,"",null,null,"",{"$f":"IF(Table13[[#This Row],[PROPORTIONAL]]=\"\", \"\", (ABS(1-Table13[[#This Row],[PROPORTIONAL]])))","v":""},"","",null,0,"","","","","","",null,null,null,null,null,null,null,null,null,null,null,null,null,null,null,null,"",0,"","",0,"","",null,null,"",0,"","",0,"","",null,null,"",0,"","",0,"","",null,null,"",""]
[null,"",null,null,"",{"$f":"IF(Table13[[#This Row],[PROPORTIONAL]]=\"\", \"\", (ABS(1-Table13[[#This Row],[PROPORTIONAL]])))","v":""},"","",null,0,"","","","","","",null,null,null,null,null,null,null,null,null,null,null,null,null,null,null,null,"",0,"","",0,"","",null,null,"",0,"","",0,"","",null,null,"",0,"","",0,"","",null,null,"",""]
[null,"",null,null,"",{"$f":"IF(Table13[[#This Row],[PROPORTIONAL]]=\"\", \"\", (ABS(1-Table13[[#This Row],[PROPORTIONAL]])))","v":""},"","",null,0,"","","","","","",null,null,null,null,null,null,null,null,null,null,null,null,null,null,null,null,"",0,"","",0,"","",null,null,"",0,"","",0,"","",null,null,"",0,"","",0,"","",null,null,"",""]
[null,"",null,null,"",{"$f":"IF(Table13[[#This Row],[PROPORTIONAL]]=\"\", \"\", (ABS(1-Table13[[#This Row],[PROPORTIONAL]])))","v":""},"","",null,0,"","","","","","",null,null,null,null,null,null,null,null,null,null,null,null,null,null,null,null,"",0,"","",0,"","",null,null,"",0,"","",0,"","",null,null,"",0,"","",0,"","",null,null,"",""]
[null,"",null,null,"",{"$f":"IF(Table13[[#This Row],[PROPORTIONAL]]=\"\", \"\", (ABS(1-Table13[[#This Row],[PROPORTIONAL]])))","v":""},"","",null,0,"","","","","","",null,null,null,null,null,null,null,null,null,null,null,null,null,null,null,null,"",0,"","",0,"","",null,null,"",0,"","",0,"","",null,null,"",0,"","",0,"","",null,null,"",""]
[null,"",null,null,"",{"$f":"IF(Table13[[#This Row],[PROPORTIONAL]]=\"\", \"\", (ABS(1-Table13[[#This Row],[PROPORTIONAL]])))","v":""},"","",null,0,"","","","","","",null,null,null,null,null,null,null,null,null,null,null,null,null,null,null,null,"",0,"","",0,"","",null,null,"",0,"","",0,"","",null,null,"",0,"","",0,"","",null,null,"",""]
[null,"",null,null,"",{"$f":"IF(Table13[[#This Row],[PROPORTIONAL]]=\"\", \"\", (ABS(1-Table13[[#This Row],[PROPORTIONAL]])))","v":""},{"$f":"IF(D526=\"\",\"\",$G$7+3*(SQRT(($G$7*(ABS(1-$G$7)))/D526)))","v":""},{"$f":"IF(D526=\"\",\"\",IF($G$7-3*(SQRT(($G$7*(ABS(1-$G$7)))/D526))<0,0,$G$7-3*(SQRT(($G$7*(ABS(1-$G$7)))/D526))))","v":""},null,0,{"$f":"IF(H526=\"\",\"\",$G$7)","v":""},{"$f":"IF(D526=\"\",\"\",IF($G$7-1*(SQRT(($G$7*(ABS(1-$G$7)))/D526))<0,0,$G$7-1*(SQRT(($G$7*(ABS(1-$G$7)))/D526))))","v":""},{"$f":"IF(D526=\"\",\"\",IF($G$7-2*(SQRT(($G$7*(ABS(1-$G$7)))/D526))<0,0,$G$7-2*(SQRT(($G$7*(ABS(1-$G$7)))/D526))))","v":""},{"$f":"IF(D526=\"\",\"\",$G$7+1*(SQRT(($G$7*(ABS(1-$G$7)))/D526)))","v":""},{"$f":"IF(D526=\"\",\"\",$G$7+2*(SQRT(($G$7*(ABS(1-$G$7)))/D526)))","v":""},"",null,null,null,null,null,null,null,null,null,null,null,null,null,null,null,null,"",0,"","",0,{"$f":"IF(AK527=2,\"\",IF(AK526>=2,CONCATENATE(\"Data Point \",B526,\" to \",\"Data Point \",(B526+2)),\"\"))","v":""},"",null,null,"",0,"","",{"$f":"SUM(AS526:AS530)","v":0},{"$f":"IF(AT527=4,\"\",IF(AT526>=4,CONCATENATE(\"Data Point \",B526,\" to \",\"Data Point \",(B526+4)),\"\"))","v":""},{"$f":"IF(AND(AR526<>\"\",AU526=\"\"),AR526,IF(AND(AR526=\"\",AU526<>\"\"),AU526,IF(AND(AR526<>\"\",AU526<>\"\"),AR526,\"\")))","v":""},null,null,"",{"$f":"SUM(AY526:AY533)","v":0},"","",{"$f":"SUM(BB526:BB533)","v":0},"",{"$f":"IF(AND(BA526<>\"\",BD526=\"\"),BA526,IF(AND(BA526=\"\",BD526<>\"\"),BD526,IF(AND(BA526<>\"\",BD526<>\"\"),BA526,\"\")))","v":""},null,null,"",""]
[null,"",null,null,{"$f":"IF(D527=\"\",\"\",C527/D527)","v":""},{"$f":"IF(Table13[[#This Row],[PROPORTIONAL]]=\"\", \"\", (ABS(1-Table13[[#This Row],[PROPORTIONAL]])))","v":""},"","",null,{"$f":"IF(B527>$G$9,0,1)","v":0},"","","","","",{"$f":"IF(J527=1, E527, \"\")","v":""},null,null,null,null,null,null,null,null,null,null,null,null,null,null,null,null,{"$f":"IF(E527=\"\",\"\",IF(AND(E527>=O527,E527<G527),1,0))","v":""},{"$f":"SUM(AG527:AG529)","v":0},{"$f":"IF(AH528=2,\"\",IF(AH527>=2,CONCATENATE(\"Data Point \",B527,\" to \",\"Data Point \",(B527+2)),\"\"))","v":""},{"$f":"IF(E527=\"\",\"\",IF(AND(E527<=M527,E527>H527),1,0))","v":""},{"$f":"SUM(AJ527:AJ529)","v":0},"",{"$f":"IF(AND(AI527<>\"\",AL527=\"\"),AI527,IF(AND(AI527=\"\",AL527<>\"\"),AL527,IF(AND(AI527<>\"\",AL527<>\"\"),AI527,\"\")))","v":""},null,null,{"$f":"IF(E527=\"\",\"\",IF(AND(E527>=N527,E527<G527),1,0))","v":""},{"$f":"SUM(AP527:AP531)","v":0},{"$f":"IF(AQ528=4,\"\",IF(AQ527>=4,CONCATENATE(\"Data Point \",B527,\" to \",\"Data Point \",(B527+4)),\"\"))","v":""},{"$f":"IF(E527=\"\",\"\",IF(AND(E527<=L527,E527>H527),1,0))","v":""},0,"","",null,null,{"$f":"IF(E527=\"\",\"\",IF(AND(E527>=K527,E527<G527),1,0))","v":""},0,{"$f":"IF(AZ528=8, \"\", IF(AZ527=8,CONCATENATE(\"Data Point \",B527,\" to \",\"Data Point \",(B527+8)),\"\"))","v":""},{"$f":"IF(E527=\"\",\"\",IF(AND(E527<=K527,E527>H527),1,0))","v":""},0,{"$f":"IF(BC528=8, \"\", IF(BC527=8,CONCATENATE(\"Data Point \",B527,\" to \",\"Data Point \",(B527+8)),\"\"))","v":""},"",null,null,{"$f":"IF(E527=\"\",\"\",IF(OR(E527>G527,E527<H527),1,0))","v":""},{"$f":"IF(BH527=1,CONCATENATE(\"Data Point \",B527),\"\")","v":""}]
[null,{"$f":"IF(C528=\"\",\"\",B527+1)","v":""},null,null,"",{"$f":"IF(Table13[[#This Row],[PROPORTIONAL]]=\"\", \"\", (ABS(1-Table13[[#This Row],[PROPORTIONAL]])))","v":""},"","",null,0,"","","","","","",null,null,null,null,null,null,null,null,null,null,null,null,null,null,null,null,"",0,"","",0,"","",null,null,"",0,"","",0,"","",null,null,"",0,"","",0,"","",null,null,"",""]
[null,"",null,null,"",{"$f":"IF(Table13[[#This Row],[PROPORTIONAL]]=\"\", \"\", (ABS(1-Table13[[#This Row],[PROPORTIONAL]])))","v":""},"","",null,0,"","","","","","",null,null,null,null,null,null,null,null,null,null,null,null,null,null,null,null,"",0,"","",0,"","",null,null,"",0,"","",0,"","",null,null,"",0,"","",0,"","",null,null,"",""]
[null,"",null,null,"",{"$f":"IF(Table13[[#This Row],[PROPORTIONAL]]=\"\", \"\", (ABS(1-Table13[[#This Row],[PROPORTIONAL]])))","v":""},"","",null,0,"","","","","","",null,null,null,null,null,null,null,null,null,null,null,null,null,null,null,null,"",0,"","",0,"","",null,null,"",0,"","",0,"","",null,null,"",0,"","",0,"","",null,null,"",""]
[null,"",null,null,"",{"$f":"IF(Table13[[#This Row],[PROPORTIONAL]]=\"\", \"\", (ABS(1-Table13[[#This Row],[PROPORTIONAL]])))","v":""},"","",null,0,"","","","","","",null,null,null,null,null,null,null,null,null,null,null,null,null,null,null,null,"",0,"","",0,"","",null,null,"",0,"","",0,"","",null,null,"",0,"","",0,"","",null,null,"",""]
[null,"",null,null,"",{"$f":"IF(Table13[[#This Row],[PROPORTIONAL]]=\"\", \"\", (ABS(1-Table13[[#This Row],[PROPORTIONAL]])))","v":""},"","",null,0,"","","","","","",null,null,null,null,null,null,null,null,null,null,null,null,null,null,null,null,"",0,"","",0,"","",null,null,"",0,"","",0,"","",null,null,"",0,"","",0,"","",null,null,"",""]
[null,"",null,null,"",{"$f":"IF(Table13[[#This Row],[PROPORTIONAL]]=\"\", \"\", (ABS(1-Table13[[#This Row],[PROPORTIONAL]])))","v":""},"","",null,0,"","","","","","",null,null,null,null,null,null,null,null,null,null,null,null,null,null,null,null,"",0,"","",0,"","",null,null,"",0,"","",0,"","",null,null,"",0,"","",0,"","",null,null,"",""]
[null,"",null,null,"",{"$f":"IF(Table13[[#This Row],[PROPORTIONAL]]=\"\", \"\", (ABS(1-Table13[[#This Row],[PROPORTIONAL]])))","v":""},"","",null,0,"","","","","","",null,null,null,null,null,null,null,null,null,null,null,null,null,null,null,null,"",0,"","",0,"","",null,null,"",0,"","",0,"","",null,null,"",0,"","",0,"","",null,null,"",""]
[null,"",null,null,"",{"$f":"IF(Table13[[#This Row],[PROPORTIONAL]]=\"\", \"\", (ABS(1-Table13[[#This Row],[PROPORTIONAL]])))","v":""},"","",null,0,"","","","","","",null,null,null,null,null,null,null,null,null,null,null,null,null,null,null,null,"",0,"","",0,"","",null,null,"",0,"","",0,"","",null,null,"",0,"","",0,"","",null,null,"",""]
[null,"",null,null,"",{"$f":"IF(Table13[[#This Row],[PROPORTIONAL]]=\"\", \"\", (ABS(1-Table13[[#This Row],[PROPORTIONAL]])))","v":""},"","",null,0,"","","","","","",null,null,null,null,null,null,null,null,null,null,null,null,null,null,null,null,"",0,"","",0,"","",null,null,"",0,"","",0,"","",null,null,"",0,"","",0,"","",null,null,"",""]
[null,"",null,null,"",{"$f":"IF(Table13[[#This Row],[PROPORTIONAL]]=\"\", \"\", (ABS(1-Table13[[#This Row],[PROPORTIONAL]])))","v":""},"","",null,0,"","","","","","",null,null,null,null,null,null,null,null,null,null,null,null,null,null,null,null,"",0,"","",0,"","",null,null,"",0,"","",0,"","",null,null,"",0,"","",0,"","",null,null,"",""]
[null,"",null,null,"",{"$f":"IF(Table13[[#This Row],[PROPORTIONAL]]=\"\", \"\", (ABS(1-Table13[[#This Row],[PROPORTIONAL]])))","v":""},"","",null,0,"","","","","","",null,null,null,null,null,null,null,null,null,null,null,null,null,null,null,null,"",0,"","",0,"","",null,null,"",0,"","",0,"","",null,null,"",0,"","",0,"","",null,null,"",""]
[null,"",null,null,"",{"$f":"IF(Table13[[#This Row],[PROPORTIONAL]]=\"\", \"\", (ABS(1-Table13[[#This Row],[PROPORTIONAL]])))","v":""},"","",null,0,"","","","","","",null,null,null,null,null,null,null,null,null,null,null,null,null,null,null,null,"",0,"","",0,"","",null,null,"",0,"","",0,"","",null,null,"",0,"","",0,"","",null,null,"",""]
[null,"",null,null,"",{"$f":"IF(Table13[[#This Row],[PROPORTIONAL]]=\"\", \"\", (ABS(1-Table13[[#This Row],[PROPORTIONAL]])))","v":""},"","",null,0,"","","","","","",null,null,null,null,null,null,null,null,null,null,null,null,null,null,null,null,"",0,"","",0,"","",null,null,"",0,"","",0,"","",null,null,"",0,"","",0,"","",null,null,"",""]
[null,"",null,null,"",{"$f":"IF(Table13[[#This Row],[PROPORTIONAL]]=\"\", \"\", (ABS(1-Table13[[#This Row],[PROPORTIONAL]])))","v":""},"","",null,0,"","","","","","",null,null,null,null,null,null,null,null,null,null,null,null,null,null,null,null,"",0,"","",0,"","",null,null,"",0,"","",0,"","",null,null,"",0,"","",0,"","",null,null,"",""]
[null,"",null,null,"",{"$f":"IF(Table13[[#This Row],[PROPORTIONAL]]=\"\", \"\", (ABS(1-Table13[[#This Row],[PROPORTIONAL]])))","v":""},"","",null,0,"","","","","","",null,null,null,null,null,null,null,null,null,null,null,null,null,null,null,null,"",0,"","",0,"","",null,null,"",0,"","",0,"","",null,null,"",0,"","",0,"","",null,null,"",""]
[null,"",null,null,"",{"$f":"IF(Table13[[#This Row],[PROPORTIONAL]]=\"\", \"\", (ABS(1-Table13[[#This Row],[PROPORTIONAL]])))","v":""},"","",null,0,"","","","","","",null,null,null,null,null,null,null,null,null,null,null,null,null,null,null,null,"",0,"","",0,"","",null,null,"",0,"","",0,"","",null,null,"",0,"","",0,"","",null,null,"",""]
[null,"",null,null,"",{"$f":"IF(Table13[[#This Row],[PROPORTIONAL]]=\"\", \"\", (ABS(1-Table13[[#This Row],[PROPORTIONAL]])))","v":""},"","",null,0,"","","","","","",null,null,null,null,null,null,null,null,null,null,null,null,null,null,null,null,"",0,"","",0,"","",null,null,"",0,"","",0,"","",null,null,"",0,"","",0,"","",null,null,"",""]
[null,"",null,null,"",{"$f":"IF(Table13[[#This Row],[PROPORTIONAL]]=\"\", \"\", (ABS(1-Table13[[#This Row],[PROPORTIONAL]])))","v":""},"","",null,0,"","","","","","",null,null,null,null,null,null,null,null,null,null,null,null,null,null,null,null,"",0,"","",0,"","",null,null,"",0,"","",0,"","",null,null,"",0,"","",0,"","",null,null,"",""]
[null,"",null,null,"",{"$f":"IF(Table13[[#This Row],[PROPORTIONAL]]=\"\", \"\", (ABS(1-Table13[[#This Row],[PROPORTIONAL]])))","v":""},"","",null,0,"","","","","","",null,null,null,null,null,null,null,null,null,null,null,null,null,null,null,null,"",0,"","",0,"","",null,null,"",0,"","",0,"","",null,null,"",0,"","",0,"","",null,null,"",""]
[null,"",null,null,"",{"$f":"IF(Table13[[#This Row],[PROPORTIONAL]]=\"\", \"\", (ABS(1-Table13[[#This Row],[PROPORTIONAL]])))","v":""},"","",null,0,"","","","","","",null,null,null,null,null,null,null,null,null,null,null,null,null,null,null,null,"",0,"","",0,"","",null,null,"",0,"","",0,"","",null,null,"",0,"","",0,"","",null,null,"",""]
[null,"",null,null,"",{"$f":"IF(Table13[[#This Row],[PROPORTIONAL]]=\"\", \"\", (ABS(1-Table13[[#This Row],[PROPORTIONAL]])))","v":""},"","",null,0,"","","","","","",null,null,null,null,null,null,null,null,null,null,null,null,null,null,null,null,"",0,"","",0,"","",null,null,"",0,"","",0,"","",null,null,"",0,"","",0,"","",null,null,"",""]
[null,"",null,null,"",{"$f":"IF(Table13[[#This Row],[PROPORTIONAL]]=\"\", \"\", (ABS(1-Table13[[#This Row],[PROPORTIONAL]])))","v":""},"","",null,0,"","","","","","",null,null,null,null,null,null,null,null,null,null,null,null,null,null,null,null,"",0,"","",0,"","",null,null,"",0,"","",0,"","",null,null,"",0,"","",0,"","",null,null,"",""]
[null,"",null,null,"",{"$f":"IF(Table13[[#This Row],[PROPORTIONAL]]=\"\", \"\", (ABS(1-Table13[[#This Row],[PROPORTIONAL]])))","v":""},"","",null,0,"","","","","","",null,null,null,null,null,null,null,null,null,null,null,null,null,null,null,null,"",0,"","",0,"","",null,null,"",0,"","",0,"","",null,null,"",0,"","",0,"","",null,null,"",""]
[null,"",null,null,"",{"$f":"IF(Table13[[#This Row],[PROPORTIONAL]]=\"\", \"\", (ABS(1-Table13[[#This Row],[PROPORTIONAL]])))","v":""},"","",null,0,"","","","","","",null,null,null,null,null,null,null,null,null,null,null,null,null,null,null,null,"",0,"","",0,"","",null,null,"",0,"","",0,"","",null,null,"",0,"","",0,"","",null,null,"",""]
[null,"",null,null,"",{"$f":"IF(Table13[[#This Row],[PROPORTIONAL]]=\"\", \"\", (ABS(1-Table13[[#This Row],[PROPORTIONAL]])))","v":""},"","",null,0,"","","","","","",null,null,null,null,null,null,null,null,null,null,null,null,null,null,null,null,"",0,"","",0,"","",null,null,"",0,"","",0,"","",null,null,"",0,"","",0,"","",null,null,"",""]
[null,"",null,null,"",{"$f":"IF(Table13[[#This Row],[PROPORTIONAL]]=\"\", \"\", (ABS(1-Table13[[#This Row],[PROPORTIONAL]])))","v":""},"","",null,0,"","","","","","",null,null,null,null,null,null,null,null,null,null,null,null,null,null,null,null,"",0,"","",0,"","",null,null,"",0,"","",0,"","",null,null,"",0,"","",0,"","",null,null,"",""]
[null,"",null,null,"",{"$f":"IF(Table13[[#This Row],[PROPORTIONAL]]=\"\", \"\", (ABS(1-Table13[[#This Row],[PROPORTIONAL]])))","v":""},"","",null,0,"","","","","","",null,null,null,null,null,null,null,null,null,null,null,null,null,null,null,null,"",0,"","",0,"","",null,null,"",0,"","",0,"","",null,null,"",0,"","",0,"","",null,null,"",""]
[null,"",null,null,"",{"$f":"IF(Table13[[#This Row],[PROPORTIONAL]]=\"\", \"\", (ABS(1-Table13[[#This Row],[PROPORTIONAL]])))","v":""},"","",null,0,"","","","","","",null,null,null,null,null,null,null,null,null,null,null,null,null,null,null,null,"",0,"","",0,"","",null,null,"",0,"","",0,"","",null,null,"",0,"","",0,"","",null,null,"",""]
[null,"",null,null,"",{"$f":"IF(Table13[[#This Row],[PROPORTIONAL]]=\"\", \"\", (ABS(1-Table13[[#This Row],[PROPORTIONAL]])))","v":""},"","",null,0,"","","","","","",null,null,null,null,null,null,null,null,null,null,null,null,null,null,null,null,"",0,"","",0,"","",null,null,"",0,"","",0,"","",null,null,"",0,"","",0,"","",null,null,"",""]
[null,"",null,null,"",{"$f":"IF(Table13[[#This Row],[PROPORTIONAL]]=\"\", \"\", (ABS(1-Table13[[#This Row],[PROPORTIONAL]])))","v":""},"","",null,0,"","","","","","",null,null,null,null,null,null,null,null,null,null,null,null,null,null,null,null,"",0,"","",0,"","",null,null,"",0,"","",0,"","",null,null,"",0,"","",0,"","",null,null,"",""]
[null,"",null,null,"",{"$f":"IF(Table13[[#This Row],[PROPORTIONAL]]=\"\", \"\", (ABS(1-Table13[[#This Row],[PROPORTIONAL]])))","v":""},"","",null,0,"","","","","","",null,null,null,null,null,null,null,null,null,null,null,null,null,null,null,null,"",0,"","",0,"","",null,null,"",0,"","",0,"","",null,null,"",0,"","",0,"","",null,null,"",""]
[null,"",null,null,"",{"$f":"IF(Table13[[#This Row],[PROPORTIONAL]]=\"\", \"\", (ABS(1-Table13[[#This Row],[PROPORTIONAL]])))","v":""},"","",null,0,"","","","","","",null,null,null,null,null,null,null,null,null,null,null,null,null,null,null,null,"",0,"","",0,"","",null,null,"",0,"","",0,"","",null,null,"",0,"","",0,"","",null,null,"",""]
[null,"",null,null,"",{"$f":"IF(Table13[[#This Row],[PROPORTIONAL]]=\"\", \"\", (ABS(1-Table13[[#This Row],[PROPORTIONAL]])))","v":""},"","",null,0,"","","","","","",null,null,null,null,null,null,null,null,null,null,null,null,null,null,null,null,"",0,"","",0,"","",null,null,"",0,"","",0,"","",null,null,"",0,"","",0,"","",null,null,"",""]
[null,"",null,null,"",{"$f":"IF(Table13[[#This Row],[PROPORTIONAL]]=\"\", \"\", (ABS(1-Table13[[#This Row],[PROPORTIONAL]])))","v":""},"","",null,0,"","","","","","",null,null,null,null,null,null,null,null,null,null,null,null,null,null,null,null,"",0,"","",0,"","",null,null,"",0,"","",0,"","",null,null,"",0,"","",0,"","",null,null,"",""]
[null,"",null,null,"",{"$f":"IF(Table13[[#This Row],[PROPORTIONAL]]=\"\", \"\", (ABS(1-Table13[[#This Row],[PROPORTIONAL]])))","v":""},"","",null,0,"","","","","","",null,null,null,null,null,null,null,null,null,null,null,null,null,null,null,null,"",0,"","",0,"","",null,null,"",0,"","",0,"","",null,null,"",0,"","",0,"","",null,null,"",""]
[null,"",null,null,"",{"$f":"IF(Table13[[#This Row],[PROPORTIONAL]]=\"\", \"\", (ABS(1-Table13[[#This Row],[PROPORTIONAL]])))","v":""},"","",null,0,"","","","","","",null,null,null,null,null,null,null,null,null,null,null,null,null,null,null,null,"",0,"","",0,"","",null,null,"",0,"","",0,"","",null,null,"",0,"","",0,"","",null,null,"",""]
[null,"",null,null,"",{"$f":"IF(Table13[[#This Row],[PROPORTIONAL]]=\"\", \"\", (ABS(1-Table13[[#This Row],[PROPORTIONAL]])))","v":""},"","",null,0,"","","","","","",null,null,null,null,null,null,null,null,null,null,null,null,null,null,null,null,"",0,"","",0,"","",null,null,"",0,"","",0,"","",null,null,"",0,"","",0,"","",null,null,"",""]
[null,"",null,null,"",{"$f":"IF(Table13[[#This Row],[PROPORTIONAL]]=\"\", \"\", (ABS(1-Table13[[#This Row],[PROPORTIONAL]])))","v":""},"","",null,0,"","","","","","",null,null,null,null,null,null,null,null,null,null,null,null,null,null,null,null,"",0,"","",0,"","",null,null,"",0,"","",0,"","",null,null,"",0,"","",0,"","",null,null,"",""]
[null,"",null,null,"",{"$f":"IF(Table13[[#This Row],[PROPORTIONAL]]=\"\", \"\", (ABS(1-Table13[[#This Row],[PROPORTIONAL]])))","v":""},"","",null,0,"","","","","","",null,null,null,null,null,null,null,null,null,null,null,null,null,null,null,null,"",0,"","",0,"","",null,null,"",0,"","",0,"","",null,null,"",0,"","",0,"","",null,null,"",""]
[null,"",null,null,"",{"$f":"IF(Table13[[#This Row],[PROPORTIONAL]]=\"\", \"\", (ABS(1-Table13[[#This Row],[PROPORTIONAL]])))","v":""},"","",null,0,"","","","","","",null,null,null,null,null,null,null,null,null,null,null,null,null,null,null,null,"",0,"","",0,"","",null,null,"",0,"","",0,"","",null,null,"",0,"","",0,"","",null,null,"",""]
[null,"",null,null,"",{"$f":"IF(Table13[[#This Row],[PROPORTIONAL]]=\"\", \"\", (ABS(1-Table13[[#This Row],[PROPORTIONAL]])))","v":""},"","",null,0,"","","","","","",null,null,null,null,null,null,null,null,null,null,null,null,null,null,null,null,"",0,"","",0,"","",null,null,"",0,"","",0,"","",null,null,"",0,"","",0,"","",null,null,"",""]
[null,"",null,null,"",{"$f":"IF(Table13[[#This Row],[PROPORTIONAL]]=\"\", \"\", (ABS(1-Table13[[#This Row],[PROPORTIONAL]])))","v":""},"","",null,0,"","","","","","",null,null,null,null,null,null,null,null,null,null,null,null,null,null,null,null,"",0,"","",0,"","",null,null,"",0,"","",0,"","",null,null,"",0,"","",0,"","",null,null,"",""]
[null,"",null,null,"",{"$f":"IF(Table13[[#This Row],[PROPORTIONAL]]=\"\", \"\", (ABS(1-Table13[[#This Row],[PROPORTIONAL]])))","v":""},"","",null,0,"","","","","","",null,null,null,null,null,null,null,null,null,null,null,null,null,null,null,null,"",0,"","",0,"","",null,null,"",0,"","",0,"","",null,null,"",0,"","",0,"","",null,null,"",""]
[null,"",null,null,"",{"$f":"IF(Table13[[#This Row],[PROPORTIONAL]]=\"\", \"\", (ABS(1-Table13[[#This Row],[PROPORTIONAL]])))","v":""},"","",null,0,"","","","","","",null,null,null,null,null,null,null,null,null,null,null,null,null,null,null,null,"",0,"","",0,"","",null,null,"",0,"","",0,"","",null,null,"",0,"","",0,"","",null,null,"",""]
[null,"",null,null,"",{"$f":"IF(Table13[[#This Row],[PROPORTIONAL]]=\"\", \"\", (ABS(1-Table13[[#This Row],[PROPORTIONAL]])))","v":""},"","",null,0,"","","","","","",null,null,null,null,null,null,null,null,null,null,null,null,null,null,null,null,"",0,"","",0,"","",null,null,"",0,"","",0,"","",null,null,"",0,"","",0,"","",null,null,"",""]
[null,"",null,null,"",{"$f":"IF(Table13[[#This Row],[PROPORTIONAL]]=\"\", \"\", (ABS(1-Table13[[#This Row],[PROPORTIONAL]])))","v":""},"","",null,0,"","","","","","",null,null,null,null,null,null,null,null,null,null,null,null,null,null,null,null,"",0,"","",0,"","",null,null,"",0,"","",0,"","",null,null,"",0,"","",0,"","",null,null,"",""]
[null,"",null,null,"",{"$f":"IF(Table13[[#This Row],[PROPORTIONAL]]=\"\", \"\", (ABS(1-Table13[[#This Row],[PROPORTIONAL]])))","v":""},"","",null,0,"","","","","","",null,null,null,null,null,null,null,null,null,null,null,null,null,null,null,null,"",0,"","",0,"","",null,null,"",0,"","",0,"","",null,null,"",0,"","",0,"","",null,null,"",""]
[null,"",null,null,"",{"$f":"IF(Table13[[#This Row],[PROPORTIONAL]]=\"\", \"\", (ABS(1-Table13[[#This Row],[PROPORTIONAL]])))","v":""},"","",null,0,"","","","","","",null,null,null,null,null,null,null,null,null,null,null,null,null,null,null,null,"",0,"","",0,"","",null,null,"",0,"","",0,"","",null,null,"",0,"","",0,"","",null,null,"",""]
[null,"",null,null,"",{"$f":"IF(Table13[[#This Row],[PROPORTIONAL]]=\"\", \"\", (ABS(1-Table13[[#This Row],[PROPORTIONAL]])))","v":""},"","",null,0,"","","","","","",null,null,null,null,null,null,null,null,null,null,null,null,null,null,null,null,"",0,"","",0,"","",null,null,"",0,"","",0,"","",null,null,"",0,"","",0,"","",null,null,"",""]
[null,"",null,null,"",{"$f":"IF(Table13[[#This Row],[PROPORTIONAL]]=\"\", \"\", (ABS(1-Table13[[#This Row],[PROPORTIONAL]])))","v":""},"","",null,0,"","","","","","",null,null,null,null,null,null,null,null,null,null,null,null,null,null,null,null,"",0,"","",0,"","",null,null,"",0,"","",0,"","",null,null,"",0,"","",0,"","",null,null,"",""]
[null,"",null,null,"",{"$f":"IF(Table13[[#This Row],[PROPORTIONAL]]=\"\", \"\", (ABS(1-Table13[[#This Row],[PROPORTIONAL]])))","v":""},"","",null,0,"","","","","","",null,null,null,null,null,null,null,null,null,null,null,null,null,null,null,null,"",0,"","",0,"","",null,null,"",0,"","",0,"","",null,null,"",0,"","",0,"","",null,null,"",""]
[null,"",null,null,"",{"$f":"IF(Table13[[#This Row],[PROPORTIONAL]]=\"\", \"\", (ABS(1-Table13[[#This Row],[PROPORTIONAL]])))","v":""},"","",null,0,"","","","","","",null,null,null,null,null,null,null,null,null,null,null,null,null,null,null,null,"",0,"","",0,"","",null,null,"",0,"","",0,"","",null,null,"",0,"","",0,"","",null,null,"",""]
[null,"",null,null,"",{"$f":"IF(Table13[[#This Row],[PROPORTIONAL]]=\"\", \"\", (ABS(1-Table13[[#This Row],[PROPORTIONAL]])))","v":""},"","",null,0,"","","","","","",null,null,null,null,null,null,null,null,null,null,null,null,null,null,null,null,"",0,"","",0,"","",null,null,"",0,"","",0,"","",null,null,"",0,"","",0,"","",null,null,"",""]
[null,"",null,null,"",{"$f":"IF(Table13[[#This Row],[PROPORTIONAL]]=\"\", \"\", (ABS(1-Table13[[#This Row],[PROPORTIONAL]])))","v":""},"","",null,0,"","","","","","",null,null,null,null,null,null,null,null,null,null,null,null,null,null,null,null,"",0,"","",0,"","",null,null,"",0,"","",0,"","",null,null,"",0,"","",0,"","",null,null,"",""]
[null,"",null,null,"",{"$f":"IF(Table13[[#This Row],[PROPORTIONAL]]=\"\", \"\", (ABS(1-Table13[[#This Row],[PROPORTIONAL]])))","v":""},"","",null,0,"","","","","","",null,null,null,null,null,null,null,null,null,null,null,null,null,null,null,null,"",0,"","",0,"","",null,null,"",0,"","",0,"","",null,null,"",0,"","",0,"","",null,null,"",""]
[null,"",null,null,"",{"$f":"IF(Table13[[#This Row],[PROPORTIONAL]]=\"\", \"\", (ABS(1-Table13[[#This Row],[PROPORTIONAL]])))","v":""},"","",null,0,"","","","","","",null,null,null,null,null,null,null,null,null,null,null,null,null,null,null,null,"",0,"","",0,"","",null,null,"",0,"","",0,"","",null,null,"",0,"","",0,"","",null,null,"",""]
[null,"",null,null,"",{"$f":"IF(Table13[[#This Row],[PROPORTIONAL]]=\"\", \"\", (ABS(1-Table13[[#This Row],[PROPORTIONAL]])))","v":""},"","",null,0,"","","","","","",null,null,null,null,null,null,null,null,null,null,null,null,null,null,null,null,"",0,"","",0,"","",null,null,"",0,"","",0,"","",null,null,"",0,"","",0,"","",null,null,"",""]
[null,"",null,null,"",{"$f":"IF(Table13[[#This Row],[PROPORTIONAL]]=\"\", \"\", (ABS(1-Table13[[#This Row],[PROPORTIONAL]])))","v":""},"","",null,0,"","","","","","",null,null,null,null,null,null,null,null,null,null,null,null,null,null,null,null,"",0,"","",0,"","",null,null,"",0,"","",0,"","",null,null,"",0,"","",0,"","",null,null,"",""]
[null,"",null,null,"",{"$f":"IF(Table13[[#This Row],[PROPORTIONAL]]=\"\", \"\", (ABS(1-Table13[[#This Row],[PROPORTIONAL]])))","v":""},"","",null,0,"","","","","","",null,null,null,null,null,null,null,null,null,null,null,null,null,null,null,null,"",0,"","",0,"","",null,null,"",0,"","",0,"","",null,null,"",0,"","",0,"","",null,null,"",""]
[null,"",null,null,"",{"$f":"IF(Table13[[#This Row],[PROPORTIONAL]]=\"\", \"\", (ABS(1-Table13[[#This Row],[PROPORTIONAL]])))","v":""},"","",null,0,"","","","","","",null,null,null,null,null,null,null,null,null,null,null,null,null,null,null,null,"",0,"","",0,"","",null,null,"",0,"","",0,"","",null,null,"",0,"","",0,"","",null,null,"",""]
[null,"",null,null,"",{"$f":"IF(Table13[[#This Row],[PROPORTIONAL]]=\"\", \"\", (ABS(1-Table13[[#This Row],[PROPORTIONAL]])))","v":""},"","",null,0,"","","","","","",null,null,null,null,null,null,null,null,null,null,null,null,null,null,null,null,"",0,"","",0,"","",null,null,"",0,"","",0,"","",null,null,"",0,"","",0,"","",null,null,"",""]
[null,"",null,null,"",{"$f":"IF(Table13[[#This Row],[PROPORTIONAL]]=\"\", \"\", (ABS(1-Table13[[#This Row],[PROPORTIONAL]])))","v":""},"","",null,0,"","","","","","",null,null,null,null,null,null,null,null,null,null,null,null,null,null,null,null,"",0,"","",0,"","",null,null,"",0,"","",0,"","",null,null,"",0,"","",0,"","",null,null,"",""]
[null,"",null,null,"",{"$f":"IF(Table13[[#This Row],[PROPORTIONAL]]=\"\", \"\", (ABS(1-Table13[[#This Row],[PROPORTIONAL]])))","v":""},{"$f":"IF(D590=\"\",\"\",$G$7+3*(SQRT(($G$7*(ABS(1-$G$7)))/D590)))","v":""},{"$f":"IF(D590=\"\",\"\",IF($G$7-3*(SQRT(($G$7*(ABS(1-$G$7)))/D590))<0,0,$G$7-3*(SQRT(($G$7*(ABS(1-$G$7)))/D590))))","v":""},null,0,{"$f":"IF(H590=\"\",\"\",$G$7)","v":""},{"$f":"IF(D590=\"\",\"\",IF($G$7-1*(SQRT(($G$7*(ABS(1-$G$7)))/D590))<0,0,$G$7-1*(SQRT(($G$7*(ABS(1-$G$7)))/D590))))","v":""},{"$f":"IF(D590=\"\",\"\",IF($G$7-2*(SQRT(($G$7*(ABS(1-$G$7)))/D590))<0,0,$G$7-2*(SQRT(($G$7*(ABS(1-$G$7)))/D590))))","v":""},{"$f":"IF(D590=\"\",\"\",$G$7+1*(SQRT(($G$7*(ABS(1-$G$7)))/D590)))","v":""},{"$f":"IF(D590=\"\",\"\",$G$7+2*(SQRT(($G$7*(ABS(1-$G$7)))/D590)))","v":""},"",null,null,null,null,null,null,null,null,null,null,null,null,null,null,null,null,"",0,"","",0,{"$f":"IF(AK591=2,\"\",IF(AK590>=2,CONCATENATE(\"Data Point \",B590,\" to \",\"Data Point \",(B590+2)),\"\"))","v":""},"",null,null,"",0,"","",{"$f":"SUM(AS590:AS594)","v":0},{"$f":"IF(AT591=4,\"\",IF(AT590>=4,CONCATENATE(\"Data Point \",B590,\" to \",\"Data Point \",(B590+4)),\"\"))","v":""},{"$f":"IF(AND(AR590<>\"\",AU590=\"\"),AR590,IF(AND(AR590=\"\",AU590<>\"\"),AU590,IF(AND(AR590<>\"\",AU590<>\"\"),AR590,\"\")))","v":""},null,null,"",{"$f":"SUM(AY590:AY597)","v":0},"","",{"$f":"SUM(BB590:BB597)","v":0},"",{"$f":"IF(AND(BA590<>\"\",BD590=\"\"),BA590,IF(AND(BA590=\"\",BD590<>\"\"),BD590,IF(AND(BA590<>\"\",BD590<>\"\"),BA590,\"\")))","v":""},null,null,"",""]
[null,"",null,null,{"$f":"IF(D591=\"\",\"\",C591/D591)","v":""},{"$f":"IF(Table13[[#This Row],[PROPORTIONAL]]=\"\", \"\", (ABS(1-Table13[[#This Row],[PROPORTIONAL]])))","v":""},"","",null,{"$f":"IF(B591>$G$9,0,1)","v":0},"","","","","",{"$f":"IF(J591=1, E591, \"\")","v":""},null,null,null,null,null,null,null,null,null,null,null,null,null,null,null,null,{"$f":"IF(E591=\"\",\"\",IF(AND(E591>=O591,E591<G591),1,0))","v":""},{"$f":"SUM(AG591:AG593)","v":0},{"$f":"IF(AH592=2,\"\",IF(AH591>=2,CONCATENATE(\"Data Point \",B591,\" to \",\"Data Point \",(B591+2)),\"\"))","v":""},{"$f":"IF(E591=\"\",\"\",IF(AND(E591<=M591,E591>H591),1,0))","v":""},{"$f":"SUM(AJ591:AJ593)","v":0},"",{"$f":"IF(AND(AI591<>\"\",AL591=\"\"),AI591,IF(AND(AI591=\"\",AL591<>\"\"),AL591,IF(AND(AI591<>\"\",AL591<>\"\"),AI591,\"\")))","v":""},null,null,{"$f":"IF(E591=\"\",\"\",IF(AND(E591>=N591,E591<G591),1,0))","v":""},{"$f":"SUM(AP591:AP595)","v":0},{"$f":"IF(AQ592=4,\"\",IF(AQ591>=4,CONCATENATE(\"Data Point \",B591,\" to \",\"Data Point \",(B591+4)),\"\"))","v":""},{"$f":"IF(E591=\"\",\"\",IF(AND(E591<=L591,E591>H591),1,0))","v":""},0,"","",null,null,{"$f":"IF(E591=\"\",\"\",IF(AND(E591>=K591,E591<G591),1,0))","v":""},0,{"$f":"IF(AZ592=8, \"\", IF(AZ591=8,CONCATENATE(\"Data Point \",B591,\" to \",\"Data Point \",(B591+8)),\"\"))","v":""},{"$f":"IF(E591=\"\",\"\",IF(AND(E591<=K591,E591>H591),1,0))","v":""},0,{"$f":"IF(BC592=8, \"\", IF(BC591=8,CONCATENATE(\"Data Point \",B591,\" to \",\"Data Point \",(B591+8)),\"\"))","v":""},"",null,null,{"$f":"IF(E591=\"\",\"\",IF(OR(E591>G591,E591<H591),1,0))","v":""},{"$f":"IF(BH591=1,CONCATENATE(\"Data Point \",B591),\"\")","v":""}]
[null,{"$f":"IF(C592=\"\",\"\",B591+1)","v":""},null,null,"",{"$f":"IF(Table13[[#This Row],[PROPORTIONAL]]=\"\", \"\", (ABS(1-Table13[[#This Row],[PROPORTIONAL]])))","v":""},"","",null,0,"","","","","","",null,null,null,null,null,null,null,null,null,null,null,null,null,null,null,null,"",0,"","",0,"","",null,null,"",0,"","",0,"","",null,null,"",0,"","",0,"","",null,null,"",""]
[null,"",null,null,"",{"$f":"IF(Table13[[#This Row],[PROPORTIONAL]]=\"\", \"\", (ABS(1-Table13[[#This Row],[PROPORTIONAL]])))","v":""},"","",null,0,"","","","","","",null,null,null,null,null,null,null,null,null,null,null,null,null,null,null,null,"",0,"","",0,"","",null,null,"",0,"","",0,"","",null,null,"",0,"","",0,"","",null,null,"",""]
[null,"",null,null,"",{"$f":"IF(Table13[[#This Row],[PROPORTIONAL]]=\"\", \"\", (ABS(1-Table13[[#This Row],[PROPORTIONAL]])))","v":""},"","",null,0,"","","","","","",null,null,null,null,null,null,null,null,null,null,null,null,null,null,null,null,"",0,"","",0,"","",null,null,"",0,"","",0,"","",null,null,"",0,"","",0,"","",null,null,"",""]
[null,"",null,null,"",{"$f":"IF(Table13[[#This Row],[PROPORTIONAL]]=\"\", \"\", (ABS(1-Table13[[#This Row],[PROPORTIONAL]])))","v":""},"","",null,0,"","","","","","",null,null,null,null,null,null,null,null,null,null,null,null,null,null,null,null,"",0,"","",0,"","",null,null,"",0,"","",0,"","",null,null,"",0,"","",0,"","",null,null,"",""]
[null,"",null,null,"",{"$f":"IF(Table13[[#This Row],[PROPORTIONAL]]=\"\", \"\", (ABS(1-Table13[[#This Row],[PROPORTIONAL]])))","v":""},"","",null,0,"","","","","","",null,null,null,null,null,null,null,null,null,null,null,null,null,null,null,null,"",0,"","",0,"","",null,null,"",0,"","",0,"","",null,null,"",0,"","",0,"","",null,null,"",""]
[null,"",null,null,"",{"$f":"IF(Table13[[#This Row],[PROPORTIONAL]]=\"\", \"\", (ABS(1-Table13[[#This Row],[PROPORTIONAL]])))","v":""},"","",null,0,"","","","","","",null,null,null,null,null,null,null,null,null,null,null,null,null,null,null,null,"",0,"","",0,"","",null,null,"",0,"","",0,"","",null,null,"",0,"","",0,"","",null,null,"",""]
[null,"",null,null,"",{"$f":"IF(Table13[[#This Row],[PROPORTIONAL]]=\"\", \"\", (ABS(1-Table13[[#This Row],[PROPORTIONAL]])))","v":""},"","",null,0,"","","","","","",null,null,null,null,null,null,null,null,null,null,null,null,null,null,null,null,"",0,"","",0,"","",null,null,"",0,"","",0,"","",null,null,"",0,"","",0,"","",null,null,"",""]
[null,"",null,null,"",{"$f":"IF(Table13[[#This Row],[PROPORTIONAL]]=\"\", \"\", (ABS(1-Table13[[#This Row],[PROPORTIONAL]])))","v":""},"","",null,0,"","","","","","",null,null,null,null,null,null,null,null,null,null,null,null,null,null,null,null,"",0,"","",0,"","",null,null,"",0,"","",0,"","",null,null,"",0,"","",0,"","",null,null,"",""]
[null,"",null,null,"",{"$f":"IF(Table13[[#This Row],[PROPORTIONAL]]=\"\", \"\", (ABS(1-Table13[[#This Row],[PROPORTIONAL]])))","v":""},"","",null,0,"","","","","","",null,null,null,null,null,null,null,null,null,null,null,null,null,null,null,null,"",0,"","",0,"","",null,null,"",0,"","",0,"","",null,null,"",0,"","",0,"","",null,null,"",""]
[null,"",null,null,"",{"$f":"IF(Table13[[#This Row],[PROPORTIONAL]]=\"\", \"\", (ABS(1-Table13[[#This Row],[PROPORTIONAL]])))","v":""},"","",null,0,"","","","","","",null,null,null,null,null,null,null,null,null,null,null,null,null,null,null,null,"",0,"","",0,"","",null,null,"",0,"","",0,"","",null,null,"",0,"","",0,"","",null,null,"",""]
[null,"",null,null,"",{"$f":"IF(Table13[[#This Row],[PROPORTIONAL]]=\"\", \"\", (ABS(1-Table13[[#This Row],[PROPORTIONAL]])))","v":""},"","",null,0,"","","","","","",null,null,null,null,null,null,null,null,null,null,null,null,null,null,null,null,"",0,"","",0,"","",null,null,"",0,"","",0,"","",null,null,"",0,"","",0,"","",null,null,"",""]
[null,"",null,null,"",{"$f":"IF(Table13[[#This Row],[PROPORTIONAL]]=\"\", \"\", (ABS(1-Table13[[#This Row],[PROPORTIONAL]])))","v":""},"","",null,0,"","","","","","",null,null,null,null,null,null,null,null,null,null,null,null,null,null,null,null,"",0,"","",0,"","",null,null,"",0,"","",0,"","",null,null,"",0,"","",0,"","",null,null,"",""]
[null,"",null,null,"",{"$f":"IF(Table13[[#This Row],[PROPORTIONAL]]=\"\", \"\", (ABS(1-Table13[[#This Row],[PROPORTIONAL]])))","v":""},"","",null,0,"","","","","","",null,null,null,null,null,null,null,null,null,null,null,null,null,null,null,null,"",0,"","",0,"","",null,null,"",0,"","",0,"","",null,null,"",0,"","",0,"","",null,null,"",""]
[null,"",null,null,"",{"$f":"IF(Table13[[#This Row],[PROPORTIONAL]]=\"\", \"\", (ABS(1-Table13[[#This Row],[PROPORTIONAL]])))","v":""},"","",null,0,"","","","","","",null,null,null,null,null,null,null,null,null,null,null,null,null,null,null,null,"",0,"","",0,"","",null,null,"",0,"","",0,"","",null,null,"",0,"","",0,"","",null,null,"",""]
[null,"",null,null,"",{"$f":"IF(Table13[[#This Row],[PROPORTIONAL]]=\"\", \"\", (ABS(1-Table13[[#This Row],[PROPORTIONAL]])))","v":""},"","",null,0,"","","","","","",null,null,null,null,null,null,null,null,null,null,null,null,null,null,null,null,"",0,"","",0,"","",null,null,"",0,"","",0,"","",null,null,"",0,"","",0,"","",null,null,"",""]
[null,"",null,null,"",{"$f":"IF(Table13[[#This Row],[PROPORTIONAL]]=\"\", \"\", (ABS(1-Table13[[#This Row],[PROPORTIONAL]])))","v":""},"","",null,0,"","","","","","",null,null,null,null,null,null,null,null,null,null,null,null,null,null,null,null,"",0,"","",0,"","",null,null,"",0,"","",0,"","",null,null,"",0,"","",0,"","",null,null,"",""]
[null,"",null,null,"",{"$f":"IF(Table13[[#This Row],[PROPORTIONAL]]=\"\", \"\", (ABS(1-Table13[[#This Row],[PROPORTIONAL]])))","v":""},"","",null,0,"","","","","","",null,null,null,null,null,null,null,null,null,null,null,null,null,null,null,null,"",0,"","",0,"","",null,null,"",0,"","",0,"","",null,null,"",0,"","",0,"","",null,null,"",""]
[null,"",null,null,"",{"$f":"IF(Table13[[#This Row],[PROPORTIONAL]]=\"\", \"\", (ABS(1-Table13[[#This Row],[PROPORTIONAL]])))","v":""},"","",null,0,"","","","","","",null,null,null,null,null,null,null,null,null,null,null,null,null,null,null,null,"",0,"","",0,"","",null,null,"",0,"","",0,"","",null,null,"",0,"","",0,"","",null,null,"",""]
[null,"",null,null,"",{"$f":"IF(Table13[[#This Row],[PROPORTIONAL]]=\"\", \"\", (ABS(1-Table13[[#This Row],[PROPORTIONAL]])))","v":""},"","",null,0,"","","","","","",null,null,null,null,null,null,null,null,null,null,null,null,null,null,null,null,"",0,"","",0,"","",null,null,"",0,"","",0,"","",null,null,"",0,"","",0,"","",null,null,"",""]
[null,"",null,null,"",{"$f":"IF(Table13[[#This Row],[PROPORTIONAL]]=\"\", \"\", (ABS(1-Table13[[#This Row],[PROPORTIONAL]])))","v":""},"","",null,0,"","","","","","",null,null,null,null,null,null,null,null,null,null,null,null,null,null,null,null,"",0,"","",0,"","",null,null,"",0,"","",0,"","",null,null,"",0,"","",0,"","",null,null,"",""]
[null,"",null,null,"",{"$f":"IF(Table13[[#This Row],[PROPORTIONAL]]=\"\", \"\", (ABS(1-Table13[[#This Row],[PROPORTIONAL]])))","v":""},"","",null,0,"","","","","","",null,null,null,null,null,null,null,null,null,null,null,null,null,null,null,null,"",0,"","",0,"","",null,null,"",0,"","",0,"","",null,null,"",0,"","",0,"","",null,null,"",""]
[null,"",null,null,"",{"$f":"IF(Table13[[#This Row],[PROPORTIONAL]]=\"\", \"\", (ABS(1-Table13[[#This Row],[PROPORTIONAL]])))","v":""},"","",null,0,"","","","","","",null,null,null,null,null,null,null,null,null,null,null,null,null,null,null,null,"",0,"","",0,"","",null,null,"",0,"","",0,"","",null,null,"",0,"","",0,"","",null,null,"",""]
[null,"",null,null,"",{"$f":"IF(Table13[[#This Row],[PROPORTIONAL]]=\"\", \"\", (ABS(1-Table13[[#This Row],[PROPORTIONAL]])))","v":""},"","",null,0,"","","","","","",null,null,null,null,null,null,null,null,null,null,null,null,null,null,null,null,"",0,"","",0,"","",null,null,"",0,"","",0,"","",null,null,"",0,"","",0,"","",null,null,"",""]
[null,"",null,null,"",{"$f":"IF(Table13[[#This Row],[PROPORTIONAL]]=\"\", \"\", (ABS(1-Table13[[#This Row],[PROPORTIONAL]])))","v":""},"","",null,0,"","","","","","",null,null,null,null,null,null,null,null,null,null,null,null,null,null,null,null,"",0,"","",0,"","",null,null,"",0,"","",0,"","",null,null,"",0,"","",0,"","",null,null,"",""]
[null,"",null,null,"",{"$f":"IF(Table13[[#This Row],[PROPORTIONAL]]=\"\", \"\", (ABS(1-Table13[[#This Row],[PROPORTIONAL]])))","v":""},"","",null,0,"","","","","","",null,null,null,null,null,null,null,null,null,null,null,null,null,null,null,null,"",0,"","",0,"","",null,null,"",0,"","",0,"","",null,null,"",0,"","",0,"","",null,null,"",""]
[null,"",null,null,"",{"$f":"IF(Table13[[#This Row],[PROPORTIONAL]]=\"\", \"\", (ABS(1-Table13[[#This Row],[PROPORTIONAL]])))","v":""},"","",null,0,"","","","","","",null,null,null,null,null,null,null,null,null,null,null,null,null,null,null,null,"",0,"","",0,"","",null,null,"",0,"","",0,"","",null,null,"",0,"","",0,"","",null,null,"",""]
[null,"",null,null,"",{"$f":"IF(Table13[[#This Row],[PROPORTIONAL]]=\"\", \"\", (ABS(1-Table13[[#This Row],[PROPORTIONAL]])))","v":""},"","",null,0,"","","","","","",null,null,null,null,null,null,null,null,null,null,null,null,null,null,null,null,"",0,"","",0,"","",null,null,"",0,"","",0,"","",null,null,"",0,"","",0,"","",null,null,"",""]
[null,"",null,null,"",{"$f":"IF(Table13[[#This Row],[PROPORTIONAL]]=\"\", \"\", (ABS(1-Table13[[#This Row],[PROPORTIONAL]])))","v":""},"","",null,0,"","","","","","",null,null,null,null,null,null,null,null,null,null,null,null,null,null,null,null,"",0,"","",0,"","",null,null,"",0,"","",0,"","",null,null,"",0,"","",0,"","",null,null,"",""]
[null,"",null,null,"",{"$f":"IF(Table13[[#This Row],[PROPORTIONAL]]=\"\", \"\", (ABS(1-Table13[[#This Row],[PROPORTIONAL]])))","v":""},"","",null,0,"","","","","","",null,null,null,null,null,null,null,null,null,null,null,null,null,null,null,null,"",0,"","",0,"","",null,null,"",0,"","",0,"","",null,null,"",0,"","",0,"","",null,null,"",""]
[null,"",null,null,"",{"$f":"IF(Table13[[#This Row],[PROPORTIONAL]]=\"\", \"\", (ABS(1-Table13[[#This Row],[PROPORTIONAL]])))","v":""},"","",null,0,"","","","","","",null,null,null,null,null,null,null,null,null,null,null,null,null,null,null,null,"",0,"","",0,"","",null,null,"",0,"","",0,"","",null,null,"",0,"","",0,"","",null,null,"",""]
[null,"",null,null,"",{"$f":"IF(Table13[[#This Row],[PROPORTIONAL]]=\"\", \"\", (ABS(1-Table13[[#This Row],[PROPORTIONAL]])))","v":""},"","",null,0,"","","","","","",null,null,null,null,null,null,null,null,null,null,null,null,null,null,null,null,"",0,"","",0,"","",null,null,"",0,"","",0,"","",null,null,"",0,"","",0,"","",null,null,"",""]
[null,"",null,null,"",{"$f":"IF(Table13[[#This Row],[PROPORTIONAL]]=\"\", \"\", (ABS(1-Table13[[#This Row],[PROPORTIONAL]])))","v":""},"","",null,0,"","","","","","",null,null,null,null,null,null,null,null,null,null,null,null,null,null,null,null,"",0,"","",0,"","",null,null,"",0,"","",0,"","",null,null,"",0,"","",0,"","",null,null,"",""]
[null,"",null,null,"",{"$f":"IF(Table13[[#This Row],[PROPORTIONAL]]=\"\", \"\", (ABS(1-Table13[[#This Row],[PROPORTIONAL]])))","v":""},"","",null,0,"","","","","","",null,null,null,null,null,null,null,null,null,null,null,null,null,null,null,null,"",0,"","",0,"","",null,null,"",0,"","",0,"","",null,null,"",0,"","",0,"","",null,null,"",""]
[null,"",null,null,"",{"$f":"IF(Table13[[#This Row],[PROPORTIONAL]]=\"\", \"\", (ABS(1-Table13[[#This Row],[PROPORTIONAL]])))","v":""},"","",null,0,"","","","","","",null,null,null,null,null,null,null,null,null,null,null,null,null,null,null,null,"",0,"","",0,"","",null,null,"",0,"","",0,"","",null,null,"",0,"","",0,"","",null,null,"",""]
[null,"",null,null,"",{"$f":"IF(Table13[[#This Row],[PROPORTIONAL]]=\"\", \"\", (ABS(1-Table13[[#This Row],[PROPORTIONAL]])))","v":""},"","",null,0,"","","","","","",null,null,null,null,null,null,null,null,null,null,null,null,null,null,null,null,"",0,"","",0,"","",null,null,"",0,"","",0,"","",null,null,"",0,"","",0,"","",null,null,"",""]
[null,"",null,null,"",{"$f":"IF(Table13[[#This Row],[PROPORTIONAL]]=\"\", \"\", (ABS(1-Table13[[#This Row],[PROPORTIONAL]])))","v":""},"","",null,0,"","","","","","",null,null,null,null,null,null,null,null,null,null,null,null,null,null,null,null,"",0,"","",0,"","",null,null,"",0,"","",0,"","",null,null,"",0,"","",0,"","",null,null,"",""]
[null,"",null,null,"",{"$f":"IF(Table13[[#This Row],[PROPORTIONAL]]=\"\", \"\", (ABS(1-Table13[[#This Row],[PROPORTIONAL]])))","v":""},"","",null,0,"","","","","","",null,null,null,null,null,null,null,null,null,null,null,null,null,null,null,null,"",0,"","",0,"","",null,null,"",0,"","",0,"","",null,null,"",0,"","",0,"","",null,null,"",""]
[null,"",null,null,"",{"$f":"IF(Table13[[#This Row],[PROPORTIONAL]]=\"\", \"\", (ABS(1-Table13[[#This Row],[PROPORTIONAL]])))","v":""},"","",null,0,"","","","","","",null,null,null,null,null,null,null,null,null,null,null,null,null,null,null,null,"",0,"","",0,"","",null,null,"",0,"","",0,"","",null,null,"",0,"","",0,"","",null,null,"",""]
[null,"",null,null,"",{"$f":"IF(Table13[[#This Row],[PROPORTIONAL]]=\"\", \"\", (ABS(1-Table13[[#This Row],[PROPORTIONAL]])))","v":""},"","",null,0,"","","","","","",null,null,null,null,null,null,null,null,null,null,null,null,null,null,null,null,"",0,"","",0,"","",null,null,"",0,"","",0,"","",null,null,"",0,"","",0,"","",null,null,"",""]
[null,"",null,null,"",{"$f":"IF(Table13[[#This Row],[PROPORTIONAL]]=\"\", \"\", (ABS(1-Table13[[#This Row],[PROPORTIONAL]])))","v":""},"","",null,0,"","","","","","",null,null,null,null,null,null,null,null,null,null,null,null,null,null,null,null,"",0,"","",0,"","",null,null,"",0,"","",0,"","",null,null,"",0,"","",0,"","",null,null,"",""]
[null,"",null,null,"",{"$f":"IF(Table13[[#This Row],[PROPORTIONAL]]=\"\", \"\", (ABS(1-Table13[[#This Row],[PROPORTIONAL]])))","v":""},"","",null,0,"","","","","","",null,null,null,null,null,null,null,null,null,null,null,null,null,null,null,null,"",0,"","",0,"","",null,null,"",0,"","",0,"","",null,null,"",0,"","",0,"","",null,null,"",""]
[null,"",null,null,"",{"$f":"IF(Table13[[#This Row],[PROPORTIONAL]]=\"\", \"\", (ABS(1-Table13[[#This Row],[PROPORTIONAL]])))","v":""},"","",null,0,"","","","","","",null,null,null,null,null,null,null,null,null,null,null,null,null,null,null,null,"",0,"","",0,"","",null,null,"",0,"","",0,"","",null,null,"",0,"","",0,"","",null,null,"",""]
[null,"",null,null,"",{"$f":"IF(Table13[[#This Row],[PROPORTIONAL]]=\"\", \"\", (ABS(1-Table13[[#This Row],[PROPORTIONAL]])))","v":""},"","",null,0,"","","","","","",null,null,null,null,null,null,null,null,null,null,null,null,null,null,null,null,"",0,"","",0,"","",null,null,"",0,"","",0,"","",null,null,"",0,"","",0,"","",null,null,"",""]
[null,"",null,null,"",{"$f":"IF(Table13[[#This Row],[PROPORTIONAL]]=\"\", \"\", (ABS(1-Table13[[#This Row],[PROPORTIONAL]])))","v":""},"","",null,0,"","","","","","",null,null,null,null,null,null,null,null,null,null,null,null,null,null,null,null,"",0,"","",0,"","",null,null,"",0,"","",0,"","",null,null,"",0,"","",0,"","",null,null,"",""]
[null,"",null,null,"",{"$f":"IF(Table13[[#This Row],[PROPORTIONAL]]=\"\", \"\", (ABS(1-Table13[[#This Row],[PROPORTIONAL]])))","v":""},"","",null,0,"","","","","","",null,null,null,null,null,null,null,null,null,null,null,null,null,null,null,null,"",0,"","",0,"","",null,null,"",0,"","",0,"","",null,null,"",0,"","",0,"","",null,null,"",""]
[null,"",null,null,"",{"$f":"IF(Table13[[#This Row],[PROPORTIONAL]]=\"\", \"\", (ABS(1-Table13[[#This Row],[PROPORTIONAL]])))","v":""},"","",null,0,"","","","","","",null,null,null,null,null,null,null,null,null,null,null,null,null,null,null,null,"",0,"","",0,"","",null,null,"",0,"","",0,"","",null,null,"",0,"","",0,"","",null,null,"",""]
[null,"",null,null,"",{"$f":"IF(Table13[[#This Row],[PROPORTIONAL]]=\"\", \"\", (ABS(1-Table13[[#This Row],[PROPORTIONAL]])))","v":""},"","",null,0,"","","","","","",null,null,null,null,null,null,null,null,null,null,null,null,null,null,null,null,"",0,"","",0,"","",null,null,"",0,"","",0,"","",null,null,"",0,"","",0,"","",null,null,"",""]
[null,"",null,null,"",{"$f":"IF(Table13[[#This Row],[PROPORTIONAL]]=\"\", \"\", (ABS(1-Table13[[#This Row],[PROPORTIONAL]])))","v":""},"","",null,0,"","","","","","",null,null,null,null,null,null,null,null,null,null,null,null,null,null,null,null,"",0,"","",0,"","",null,null,"",0,"","",0,"","",null,null,"",0,"","",0,"","",null,null,"",""]
[null,"",null,null,"",{"$f":"IF(Table13[[#This Row],[PROPORTIONAL]]=\"\", \"\", (ABS(1-Table13[[#This Row],[PROPORTIONAL]])))","v":""},"","",null,0,"","","","","","",null,null,null,null,null,null,null,null,null,null,null,null,null,null,null,null,"",0,"","",0,"","",null,null,"",0,"","",0,"","",null,null,"",0,"","",0,"","",null,null,"",""]
[null,"",null,null,"",{"$f":"IF(Table13[[#This Row],[PROPORTIONAL]]=\"\", \"\", (ABS(1-Table13[[#This Row],[PROPORTIONAL]])))","v":""},"","",null,0,"","","","","","",null,null,null,null,null,null,null,null,null,null,null,null,null,null,null,null,"",0,"","",0,"","",null,null,"",0,"","",0,"","",null,null,"",0,"","",0,"","",null,null,"",""]
[null,"",null,null,"",{"$f":"IF(Table13[[#This Row],[PROPORTIONAL]]=\"\", \"\", (ABS(1-Table13[[#This Row],[PROPORTIONAL]])))","v":""},"","",null,0,"","","","","","",null,null,null,null,null,null,null,null,null,null,null,null,null,null,null,null,"",0,"","",0,"","",null,null,"",0,"","",0,"","",null,null,"",0,"","",0,"","",null,null,"",""]
[null,"",null,null,"",{"$f":"IF(Table13[[#This Row],[PROPORTIONAL]]=\"\", \"\", (ABS(1-Table13[[#This Row],[PROPORTIONAL]])))","v":""},"","",null,0,"","","","","","",null,null,null,null,null,null,null,null,null,null,null,null,null,null,null,null,"",0,"","",0,"","",null,null,"",0,"","",0,"","",null,null,"",0,"","",0,"","",null,null,"",""]
[null,"",null,null,"",{"$f":"IF(Table13[[#This Row],[PROPORTIONAL]]=\"\", \"\", (ABS(1-Table13[[#This Row],[PROPORTIONAL]])))","v":""},"","",null,0,"","","","","","",null,null,null,null,null,null,null,null,null,null,null,null,null,null,null,null,"",0,"","",0,"","",null,null,"",0,"","",0,"","",null,null,"",0,"","",0,"","",null,null,"",""]
[null,"",null,null,"",{"$f":"IF(Table13[[#This Row],[PROPORTIONAL]]=\"\", \"\", (ABS(1-Table13[[#This Row],[PROPORTIONAL]])))","v":""},"","",null,0,"","","","","","",null,null,null,null,null,null,null,null,null,null,null,null,null,null,null,null,"",0,"","",0,"","",null,null,"",0,"","",0,"","",null,null,"",0,"","",0,"","",null,null,"",""]
[null,"",null,null,"",{"$f":"IF(Table13[[#This Row],[PROPORTIONAL]]=\"\", \"\", (ABS(1-Table13[[#This Row],[PROPORTIONAL]])))","v":""},"","",null,0,"","","","","","",null,null,null,null,null,null,null,null,null,null,null,null,null,null,null,null,"",0,"","",0,"","",null,null,"",0,"","",0,"","",null,null,"",0,"","",0,"","",null,null,"",""]
[null,"",null,null,"",{"$f":"IF(Table13[[#This Row],[PROPORTIONAL]]=\"\", \"\", (ABS(1-Table13[[#This Row],[PROPORTIONAL]])))","v":""},"","",null,0,"","","","","","",null,null,null,null,null,null,null,null,null,null,null,null,null,null,null,null,"",0,"","",0,"","",null,null,"",0,"","",0,"","",null,null,"",0,"","",0,"","",null,null,"",""]
[null,"",null,null,"",{"$f":"IF(Table13[[#This Row],[PROPORTIONAL]]=\"\", \"\", (ABS(1-Table13[[#This Row],[PROPORTIONAL]])))","v":""},"","",null,0,"","","","","","",null,null,null,null,null,null,null,null,null,null,null,null,null,null,null,null,"",0,"","",0,"","",null,null,"",0,"","",0,"","",null,null,"",0,"","",0,"","",null,null,"",""]
[null,"",null,null,"",{"$f":"IF(Table13[[#This Row],[PROPORTIONAL]]=\"\", \"\", (ABS(1-Table13[[#This Row],[PROPORTIONAL]])))","v":""},"","",null,0,"","","","","","",null,null,null,null,null,null,null,null,null,null,null,null,null,null,null,null,"",0,"","",0,"","",null,null,"",0,"","",0,"","",null,null,"",0,"","",0,"","",null,null,"",""]
[null,"",null,null,"",{"$f":"IF(Table13[[#This Row],[PROPORTIONAL]]=\"\", \"\", (ABS(1-Table13[[#This Row],[PROPORTIONAL]])))","v":""},"","",null,0,"","","","","","",null,null,null,null,null,null,null,null,null,null,null,null,null,null,null,null,"",0,"","",0,"","",null,null,"",0,"","",0,"","",null,null,"",0,"","",0,"","",null,null,"",""]
[null,"",null,null,"",{"$f":"IF(Table13[[#This Row],[PROPORTIONAL]]=\"\", \"\", (ABS(1-Table13[[#This Row],[PROPORTIONAL]])))","v":""},"","",null,0,"","","","","","",null,null,null,null,null,null,null,null,null,null,null,null,null,null,null,null,"",0,"","",0,"","",null,null,"",0,"","",0,"","",null,null,"",0,"","",0,"","",null,null,"",""]
[null,"",null,null,"",{"$f":"IF(Table13[[#This Row],[PROPORTIONAL]]=\"\", \"\", (ABS(1-Table13[[#This Row],[PROPORTIONAL]])))","v":""},"","",null,0,"","","","","","",null,null,null,null,null,null,null,null,null,null,null,null,null,null,null,null,"",0,"","",0,"","",null,null,"",0,"","",0,"","",null,null,"",0,"","",0,"","",null,null,"",""]
[null,"",null,null,"",{"$f":"IF(Table13[[#This Row],[PROPORTIONAL]]=\"\", \"\", (ABS(1-Table13[[#This Row],[PROPORTIONAL]])))","v":""},"","",null,0,"","","","","","",null,null,null,null,null,null,null,null,null,null,null,null,null,null,null,null,"",0,"","",0,"","",null,null,"",0,"","",0,"","",null,null,"",0,"","",0,"","",null,null,"",""]
[null,"",null,null,"",{"$f":"IF(Table13[[#This Row],[PROPORTIONAL]]=\"\", \"\", (ABS(1-Table13[[#This Row],[PROPORTIONAL]])))","v":""},{"$f":"IF(D654=\"\",\"\",$G$7+3*(SQRT(($G$7*(ABS(1-$G$7)))/D654)))","v":""},{"$f":"IF(D654=\"\",\"\",IF($G$7-3*(SQRT(($G$7*(ABS(1-$G$7)))/D654))<0,0,$G$7-3*(SQRT(($G$7*(ABS(1-$G$7)))/D654))))","v":""},null,0,{"$f":"IF(H654=\"\",\"\",$G$7)","v":""},{"$f":"IF(D654=\"\",\"\",IF($G$7-1*(SQRT(($G$7*(ABS(1-$G$7)))/D654))<0,0,$G$7-1*(SQRT(($G$7*(ABS(1-$G$7)))/D654))))","v":""},{"$f":"IF(D654=\"\",\"\",IF($G$7-2*(SQRT(($G$7*(ABS(1-$G$7)))/D654))<0,0,$G$7-2*(SQRT(($G$7*(ABS(1-$G$7)))/D654))))","v":""},{"$f":"IF(D654=\"\",\"\",$G$7+1*(SQRT(($G$7*(ABS(1-$G$7)))/D654)))","v":""},{"$f":"IF(D654=\"\",\"\",$G$7+2*(SQRT(($G$7*(ABS(1-$G$7)))/D654)))","v":""},"",null,null,null,null,null,null,null,null,null,null,null,null,null,null,null,null,"",0,"","",0,{"$f":"IF(AK655=2,\"\",IF(AK654>=2,CONCATENATE(\"Data Point \",B654,\" to \",\"Data Point \",(B654+2)),\"\"))","v":""},"",null,null,"",0,"","",{"$f":"SUM(AS654:AS658)","v":0},{"$f":"IF(AT655=4,\"\",IF(AT654>=4,CONCATENATE(\"Data Point \",B654,\" to \",\"Data Point \",(B654+4)),\"\"))","v":""},{"$f":"IF(AND(AR654<>\"\",AU654=\"\"),AR654,IF(AND(AR654=\"\",AU654<>\"\"),AU654,IF(AND(AR654<>\"\",AU654<>\"\"),AR654,\"\")))","v":""},null,null,"",{"$f":"SUM(AY654:AY661)","v":0},"","",{"$f":"SUM(BB654:BB661)","v":0},"",{"$f":"IF(AND(BA654<>\"\",BD654=\"\"),BA654,IF(AND(BA654=\"\",BD654<>\"\"),BD654,IF(AND(BA654<>\"\",BD654<>\"\"),BA654,\"\")))","v":""},null,null,"",""]
[null,"",null,null,{"$f":"IF(D655=\"\",\"\",C655/D655)","v":""},{"$f":"IF(Table13[[#This Row],[PROPORTIONAL]]=\"\", \"\", (ABS(1-Table13[[#This Row],[PROPORTIONAL]])))","v":""},"","",null,{"$f":"IF(B655>$G$9,0,1)","v":0},"","","","","",{"$f":"IF(J655=1, E655, \"\")","v":""},null,null,null,null,null,null,null,null,null,null,null,null,null,null,null,null,{"$f":"IF(E655=\"\",\"\",IF(AND(E655>=O655,E655<G655),1,0))","v":""},{"$f":"SUM(AG655:AG657)","v":0},{"$f":"IF(AH656=2,\"\",IF(AH655>=2,CONCATENATE(\"Data Point \",B655,\" to \",\"Data Point \",(B655+2)),\"\"))","v":""},{"$f":"IF(E655=\"\",\"\",IF(AND(E655<=M655,E655>H655),1,0))","v":""},{"$f":"SUM(AJ655:AJ657)","v":0},"",{"$f":"IF(AND(AI655<>\"\",AL655=\"\"),AI655,IF(AND(AI655=\"\",AL655<>\"\"),AL655,IF(AND(AI655<>\"\",AL655<>\"\"),AI655,\"\")))","v":""},null,null,{"$f":"IF(E655=\"\",\"\",IF(AND(E655>=N655,E655<G655),1,0))","v":""},{"$f":"SUM(AP655:AP659)","v":0},{"$f":"IF(AQ656=4,\"\",IF(AQ655>=4,CONCATENATE(\"Data Point \",B655,\" to \",\"Data Point \",(B655+4)),\"\"))","v":""},{"$f":"IF(E655=\"\",\"\",IF(AND(E655<=L655,E655>H655),1,0))","v":""},0,"","",null,null,{"$f":"IF(E655=\"\",\"\",IF(AND(E655>=K655,E655<G655),1,0))","v":""},0,{"$f":"IF(AZ656=8, \"\", IF(AZ655=8,CONCATENATE(\"Data Point \",B655,\" to \",\"Data Point \",(B655+8)),\"\"))","v":""},{"$f":"IF(E655=\"\",\"\",IF(AND(E655<=K655,E655>H655),1,0))","v":""},0,{"$f":"IF(BC656=8, \"\", IF(BC655=8,CONCATENATE(\"Data Point \",B655,\" to \",\"Data Point \",(B655+8)),\"\"))","v":""},"",null,null,{"$f":"IF(E655=\"\",\"\",IF(OR(E655>G655,E655<H655),1,0))","v":""},{"$f":"IF(BH655=1,CONCATENATE(\"Data Point \",B655),\"\")","v":""}]
[null,{"$f":"IF(C656=\"\",\"\",B655+1)","v":""},null,null,"",{"$f":"IF(Table13[[#This Row],[PROPORTIONAL]]=\"\", \"\", (ABS(1-Table13[[#This Row],[PROPORTIONAL]])))","v":""},"","",null,0,"","","","","","",null,null,null,null,null,null,null,null,null,null,null,null,null,null,null,null,"",0,"","",0,"","",null,null,"",0,"","",0,"","",null,null,"",0,"","",0,"","",null,null,"",""]
[null,"",null,null,"",{"$f":"IF(Table13[[#This Row],[PROPORTIONAL]]=\"\", \"\", (ABS(1-Table13[[#This Row],[PROPORTIONAL]])))","v":""},"","",null,0,"","","","","","",null,null,null,null,null,null,null,null,null,null,null,null,null,null,null,null,"",0,"","",0,"","",null,null,"",0,"","",0,"","",null,null,"",0,"","",0,"","",null,null,"",""]
[null,"",null,null,"",{"$f":"IF(Table13[[#This Row],[PROPORTIONAL]]=\"\", \"\", (ABS(1-Table13[[#This Row],[PROPORTIONAL]])))","v":""},"","",null,0,"","","","","","",null,null,null,null,null,null,null,null,null,null,null,null,null,null,null,null,"",0,"","",0,"","",null,null,"",0,"","",0,"","",null,null,"",0,"","",0,"","",null,null,"",""]
[null,"",null,null,"",{"$f":"IF(Table13[[#This Row],[PROPORTIONAL]]=\"\", \"\", (ABS(1-Table13[[#This Row],[PROPORTIONAL]])))","v":""},"","",null,0,"","","","","","",null,null,null,null,null,null,null,null,null,null,null,null,null,null,null,null,"",0,"","",0,"","",null,null,"",0,"","",0,"","",null,null,"",0,"","",0,"","",null,null,"",""]
[null,"",null,null,"",{"$f":"IF(Table13[[#This Row],[PROPORTIONAL]]=\"\", \"\", (ABS(1-Table13[[#This Row],[PROPORTIONAL]])))","v":""},"","",null,0,"","","","","","",null,null,null,null,null,null,null,null,null,null,null,null,null,null,null,null,"",0,"","",0,"","",null,null,"",0,"","",0,"","",null,null,"",0,"","",0,"","",null,null,"",""]
[null,"",null,null,"",{"$f":"IF(Table13[[#This Row],[PROPORTIONAL]]=\"\", \"\", (ABS(1-Table13[[#This Row],[PROPORTIONAL]])))","v":""},"","",null,0,"","","","","","",null,null,null,null,null,null,null,null,null,null,null,null,null,null,null,null,"",0,"","",0,"","",null,null,"",0,"","",0,"","",null,null,"",0,"","",0,"","",null,null,"",""]
[null,"",null,null,"",{"$f":"IF(Table13[[#This Row],[PROPORTIONAL]]=\"\", \"\", (ABS(1-Table13[[#This Row],[PROPORTIONAL]])))","v":""},"","",null,0,"","","","","","",null,null,null,null,null,null,null,null,null,null,null,null,null,null,null,null,"",0,"","",0,"","",null,null,"",0,"","",0,"","",null,null,"",0,"","",0,"","",null,null,"",""]
[null,"",null,null,"",{"$f":"IF(Table13[[#This Row],[PROPORTIONAL]]=\"\", \"\", (ABS(1-Table13[[#This Row],[PROPORTIONAL]])))","v":""},"","",null,0,"","","","","","",null,null,null,null,null,null,null,null,null,null,null,null,null,null,null,null,"",0,"","",0,"","",null,null,"",0,"","",0,"","",null,null,"",0,"","",0,"","",null,null,"",""]
[null,"",null,null,"",{"$f":"IF(Table13[[#This Row],[PROPORTIONAL]]=\"\", \"\", (ABS(1-Table13[[#This Row],[PROPORTIONAL]])))","v":""},"","",null,0,"","","","","","",null,null,null,null,null,null,null,null,null,null,null,null,null,null,null,null,"",0,"","",0,"","",null,null,"",0,"","",0,"","",null,null,"",0,"","",0,"","",null,null,"",""]
[null,"",null,null,"",{"$f":"IF(Table13[[#This Row],[PROPORTIONAL]]=\"\", \"\", (ABS(1-Table13[[#This Row],[PROPORTIONAL]])))","v":""},"","",null,0,"","","","","","",null,null,null,null,null,null,null,null,null,null,null,null,null,null,null,null,"",0,"","",0,"","",null,null,"",0,"","",0,"","",null,null,"",0,"","",0,"","",null,null,"",""]
[null,"",null,null,"",{"$f":"IF(Table13[[#This Row],[PROPORTIONAL]]=\"\", \"\", (ABS(1-Table13[[#This Row],[PROPORTIONAL]])))","v":""},"","",null,0,"","","","","","",null,null,null,null,null,null,null,null,null,null,null,null,null,null,null,null,"",0,"","",0,"","",null,null,"",0,"","",0,"","",null,null,"",0,"","",0,"","",null,null,"",""]
[null,"",null,null,"",{"$f":"IF(Table13[[#This Row],[PROPORTIONAL]]=\"\", \"\", (ABS(1-Table13[[#This Row],[PROPORTIONAL]])))","v":""},"","",null,0,"","","","","","",null,null,null,null,null,null,null,null,null,null,null,null,null,null,null,null,"",0,"","",0,"","",null,null,"",0,"","",0,"","",null,null,"",0,"","",0,"","",null,null,"",""]
[null,"",null,null,"",{"$f":"IF(Table13[[#This Row],[PROPORTIONAL]]=\"\", \"\", (ABS(1-Table13[[#This Row],[PROPORTIONAL]])))","v":""},"","",null,0,"","","","","","",null,null,null,null,null,null,null,null,null,null,null,null,null,null,null,null,"",0,"","",0,"","",null,null,"",0,"","",0,"","",null,null,"",0,"","",0,"","",null,null,"",""]
[null,"",null,null,"",{"$f":"IF(Table13[[#This Row],[PROPORTIONAL]]=\"\", \"\", (ABS(1-Table13[[#This Row],[PROPORTIONAL]])))","v":""},"","",null,0,"","","","","","",null,null,null,null,null,null,null,null,null,null,null,null,null,null,null,null,"",0,"","",0,"","",null,null,"",0,"","",0,"","",null,null,"",0,"","",0,"","",null,null,"",""]
[null,"",null,null,"",{"$f":"IF(Table13[[#This Row],[PROPORTIONAL]]=\"\", \"\", (ABS(1-Table13[[#This Row],[PROPORTIONAL]])))","v":""},"","",null,0,"","","","","","",null,null,null,null,null,null,null,null,null,null,null,null,null,null,null,null,"",0,"","",0,"","",null,null,"",0,"","",0,"","",null,null,"",0,"","",0,"","",null,null,"",""]
[null,"",null,null,"",{"$f":"IF(Table13[[#This Row],[PROPORTIONAL]]=\"\", \"\", (ABS(1-Table13[[#This Row],[PROPORTIONAL]])))","v":""},"","",null,0,"","","","","","",null,null,null,null,null,null,null,null,null,null,null,null,null,null,null,null,"",0,"","",0,"","",null,null,"",0,"","",0,"","",null,null,"",0,"","",0,"","",null,null,"",""]
[null,"",null,null,"",{"$f":"IF(Table13[[#This Row],[PROPORTIONAL]]=\"\", \"\", (ABS(1-Table13[[#This Row],[PROPORTIONAL]])))","v":""},"","",null,0,"","","","","","",null,null,null,null,null,null,null,null,null,null,null,null,null,null,null,null,"",0,"","",0,"","",null,null,"",0,"","",0,"","",null,null,"",0,"","",0,"","",null,null,"",""]
[null,"",null,null,"",{"$f":"IF(Table13[[#This Row],[PROPORTIONAL]]=\"\", \"\", (ABS(1-Table13[[#This Row],[PROPORTIONAL]])))","v":""},"","",null,0,"","","","","","",null,null,null,null,null,null,null,null,null,null,null,null,null,null,null,null,"",0,"","",0,"","",null,null,"",0,"","",0,"","",null,null,"",0,"","",0,"","",null,null,"",""]
[null,"",null,null,"",{"$f":"IF(Table13[[#This Row],[PROPORTIONAL]]=\"\", \"\", (ABS(1-Table13[[#This Row],[PROPORTIONAL]])))","v":""},"","",null,0,"","","","","","",null,null,null,null,null,null,null,null,null,null,null,null,null,null,null,null,"",0,"","",0,"","",null,null,"",0,"","",0,"","",null,null,"",0,"","",0,"","",null,null,"",""]
[null,"",null,null,"",{"$f":"IF(Table13[[#This Row],[PROPORTIONAL]]=\"\", \"\", (ABS(1-Table13[[#This Row],[PROPORTIONAL]])))","v":""},"","",null,0,"","","","","","",null,null,null,null,null,null,null,null,null,null,null,null,null,null,null,null,"",0,"","",0,"","",null,null,"",0,"","",0,"","",null,null,"",0,"","",0,"","",null,null,"",""]
[null,"",null,null,"",{"$f":"IF(Table13[[#This Row],[PROPORTIONAL]]=\"\", \"\", (ABS(1-Table13[[#This Row],[PROPORTIONAL]])))","v":""},"","",null,0,"","","","","","",null,null,null,null,null,null,null,null,null,null,null,null,null,null,null,null,"",0,"","",0,"","",null,null,"",0,"","",0,"","",null,null,"",0,"","",0,"","",null,null,"",""]
[null,"",null,null,"",{"$f":"IF(Table13[[#This Row],[PROPORTIONAL]]=\"\", \"\", (ABS(1-Table13[[#This Row],[PROPORTIONAL]])))","v":""},"","",null,0,"","","","","","",null,null,null,null,null,null,null,null,null,null,null,null,null,null,null,null,"",0,"","",0,"","",null,null,"",0,"","",0,"","",null,null,"",0,"","",0,"","",null,null,"",""]
[null,"",null,null,"",{"$f":"IF(Table13[[#This Row],[PROPORTIONAL]]=\"\", \"\", (ABS(1-Table13[[#This Row],[PROPORTIONAL]])))","v":""},"","",null,0,"","","","","","",null,null,null,null,null,null,null,null,null,null,null,null,null,null,null,null,"",0,"","",0,"","",null,null,"",0,"","",0,"","",null,null,"",0,"","",0,"","",null,null,"",""]
[null,"",null,null,"",{"$f":"IF(Table13[[#This Row],[PROPORTIONAL]]=\"\", \"\", (ABS(1-Table13[[#This Row],[PROPORTIONAL]])))","v":""},"","",null,0,"","","","","","",null,null,null,null,null,null,null,null,null,null,null,null,null,null,null,null,"",0,"","",0,"","",null,null,"",0,"","",0,"","",null,null,"",0,"","",0,"","",null,null,"",""]
[null,"",null,null,"",{"$f":"IF(Table13[[#This Row],[PROPORTIONAL]]=\"\", \"\", (ABS(1-Table13[[#This Row],[PROPORTIONAL]])))","v":""},"","",null,0,"","","","","","",null,null,null,null,null,null,null,null,null,null,null,null,null,null,null,null,"",0,"","",0,"","",null,null,"",0,"","",0,"","",null,null,"",0,"","",0,"","",null,null,"",""]
[null,"",null,null,"",{"$f":"IF(Table13[[#This Row],[PROPORTIONAL]]=\"\", \"\", (ABS(1-Table13[[#This Row],[PROPORTIONAL]])))","v":""},"","",null,0,"","","","","","",null,null,null,null,null,null,null,null,null,null,null,null,null,null,null,null,"",0,"","",0,"","",null,null,"",0,"","",0,"","",null,null,"",0,"","",0,"","",null,null,"",""]
[null,"",null,null,"",{"$f":"IF(Table13[[#This Row],[PROPORTIONAL]]=\"\", \"\", (ABS(1-Table13[[#This Row],[PROPORTIONAL]])))","v":""},"","",null,0,"","","","","","",null,null,null,null,null,null,null,null,null,null,null,null,null,null,null,null,"",0,"","",0,"","",null,null,"",0,"","",0,"","",null,null,"",0,"","",0,"","",null,null,"",""]
[null,"",null,null,"",{"$f":"IF(Table13[[#This Row],[PROPORTIONAL]]=\"\", \"\", (ABS(1-Table13[[#This Row],[PROPORTIONAL]])))","v":""},"","",null,0,"","","","","","",null,null,null,null,null,null,null,null,null,null,null,null,null,null,null,null,"",0,"","",0,"","",null,null,"",0,"","",0,"","",null,null,"",0,"","",0,"","",null,null,"",""]
[null,"",null,null,"",{"$f":"IF(Table13[[#This Row],[PROPORTIONAL]]=\"\", \"\", (ABS(1-Table13[[#This Row],[PROPORTIONAL]])))","v":""},"","",null,0,"","","","","","",null,null,null,null,null,null,null,null,null,null,null,null,null,null,null,null,"",0,"","",0,"","",null,null,"",0,"","",0,"","",null,null,"",0,"","",0,"","",null,null,"",""]
[null,"",null,null,"",{"$f":"IF(Table13[[#This Row],[PROPORTIONAL]]=\"\", \"\", (ABS(1-Table13[[#This Row],[PROPORTIONAL]])))","v":""},"","",null,0,"","","","","","",null,null,null,null,null,null,null,null,null,null,null,null,null,null,null,null,"",0,"","",0,"","",null,null,"",0,"","",0,"","",null,null,"",0,"","",0,"","",null,null,"",""]
[null,"",null,null,"",{"$f":"IF(Table13[[#This Row],[PROPORTIONAL]]=\"\", \"\", (ABS(1-Table13[[#This Row],[PROPORTIONAL]])))","v":""},"","",null,0,"","","","","","",null,null,null,null,null,null,null,null,null,null,null,null,null,null,null,null,"",0,"","",0,"","",null,null,"",0,"","",0,"","",null,null,"",0,"","",0,"","",null,null,"",""]
[null,"",null,null,"",{"$f":"IF(Table13[[#This Row],[PROPORTIONAL]]=\"\", \"\", (ABS(1-Table13[[#This Row],[PROPORTIONAL]])))","v":""},"","",null,0,"","","","","","",null,null,null,null,null,null,null,null,null,null,null,null,null,null,null,null,"",0,"","",0,"","",null,null,"",0,"","",0,"","",null,null,"",0,"","",0,"","",null,null,"",""]
[null,"",null,null,"",{"$f":"IF(Table13[[#This Row],[PROPORTIONAL]]=\"\", \"\", (ABS(1-Table13[[#This Row],[PROPORTIONAL]])))","v":""},"","",null,0,"","","","","","",null,null,null,null,null,null,null,null,null,null,null,null,null,null,null,null,"",0,"","",0,"","",null,null,"",0,"","",0,"","",null,null,"",0,"","",0,"","",null,null,"",""]
[null,"",null,null,"",{"$f":"IF(Table13[[#This Row],[PROPORTIONAL]]=\"\", \"\", (ABS(1-Table13[[#This Row],[PROPORTIONAL]])))","v":""},"","",null,0,"","","","","","",null,null,null,null,null,null,null,null,null,null,null,null,null,null,null,null,"",0,"","",0,"","",null,null,"",0,"","",0,"","",null,null,"",0,"","",0,"","",null,null,"",""]
[null,"",null,null,"",{"$f":"IF(Table13[[#This Row],[PROPORTIONAL]]=\"\", \"\", (ABS(1-Table13[[#This Row],[PROPORTIONAL]])))","v":""},"","",null,0,"","","","","","",null,null,null,null,null,null,null,null,null,null,null,null,null,null,null,null,"",0,"","",0,"","",null,null,"",0,"","",0,"","",null,null,"",0,"","",0,"","",null,null,"",""]
[null,"",null,null,"",{"$f":"IF(Table13[[#This Row],[PROPORTIONAL]]=\"\", \"\", (ABS(1-Table13[[#This Row],[PROPORTIONAL]])))","v":""},"","",null,0,"","","","","","",null,null,null,null,null,null,null,null,null,null,null,null,null,null,null,null,"",0,"","",0,"","",null,null,"",0,"","",0,"","",null,null,"",0,"","",0,"","",null,null,"",""]
[null,"",null,null,"",{"$f":"IF(Table13[[#This Row],[PROPORTIONAL]]=\"\", \"\", (ABS(1-Table13[[#This Row],[PROPORTIONAL]])))","v":""},"","",null,0,"","","","","","",null,null,null,null,null,null,null,null,null,null,null,null,null,null,null,null,"",0,"","",0,"","",null,null,"",0,"","",0,"","",null,null,"",0,"","",0,"","",null,null,"",""]
[null,"",null,null,"",{"$f":"IF(Table13[[#This Row],[PROPORTIONAL]]=\"\", \"\", (ABS(1-Table13[[#This Row],[PROPORTIONAL]])))","v":""},"","",null,0,"","","","","","",null,null,null,null,null,null,null,null,null,null,null,null,null,null,null,null,"",0,"","",0,"","",null,null,"",0,"","",0,"","",null,null,"",0,"","",0,"","",null,null,"",""]
[null,"",null,null,"",{"$f":"IF(Table13[[#This Row],[PROPORTIONAL]]=\"\", \"\", (ABS(1-Table13[[#This Row],[PROPORTIONAL]])))","v":""},"","",null,0,"","","","","","",null,null,null,null,null,null,null,null,null,null,null,null,null,null,null,null,"",0,"","",0,"","",null,null,"",0,"","",0,"","",null,null,"",0,"","",0,"","",null,null,"",""]
[null,"",null,null,"",{"$f":"IF(Table13[[#This Row],[PROPORTIONAL]]=\"\", \"\", (ABS(1-Table13[[#This Row],[PROPORTIONAL]])))","v":""},"","",null,0,"","","","","","",null,null,null,null,null,null,null,null,null,null,null,null,null,null,null,null,"",0,"","",0,"","",null,null,"",0,"","",0,"","",null,null,"",0,"","",0,"","",null,null,"",""]
[null,"",null,null,"",{"$f":"IF(Table13[[#This Row],[PROPORTIONAL]]=\"\", \"\", (ABS(1-Table13[[#This Row],[PROPORTIONAL]])))","v":""},"","",null,0,"","","","","","",null,null,null,null,null,null,null,null,null,null,null,null,null,null,null,null,"",0,"","",0,"","",null,null,"",0,"","",0,"","",null,null,"",0,"","",0,"","",null,null,"",""]
[null,"",null,null,"",{"$f":"IF(Table13[[#This Row],[PROPORTIONAL]]=\"\", \"\", (ABS(1-Table13[[#This Row],[PROPORTIONAL]])))","v":""},"","",null,0,"","","","","","",null,null,null,null,null,null,null,null,null,null,null,null,null,null,null,null,"",0,"","",0,"","",null,null,"",0,"","",0,"","",null,null,"",0,"","",0,"","",null,null,"",""]
[null,"",null,null,"",{"$f":"IF(Table13[[#This Row],[PROPORTIONAL]]=\"\", \"\", (ABS(1-Table13[[#This Row],[PROPORTIONAL]])))","v":""},"","",null,0,"","","","","","",null,null,null,null,null,null,null,null,null,null,null,null,null,null,null,null,"",0,"","",0,"","",null,null,"",0,"","",0,"","",null,null,"",0,"","",0,"","",null,null,"",""]
[null,"",null,null,"",{"$f":"IF(Table13[[#This Row],[PROPORTIONAL]]=\"\", \"\", (ABS(1-Table13[[#This Row],[PROPORTIONAL]])))","v":""},"","",null,0,"","","","","","",null,null,null,null,null,null,null,null,null,null,null,null,null,null,null,null,"",0,"","",0,"","",null,null,"",0,"","",0,"","",null,null,"",0,"","",0,"","",null,null,"",""]
[null,"",null,null,"",{"$f":"IF(Table13[[#This Row],[PROPORTIONAL]]=\"\", \"\", (ABS(1-Table13[[#This Row],[PROPORTIONAL]])))","v":""},"","",null,0,"","","","","","",null,null,null,null,null,null,null,null,null,null,null,null,null,null,null,null,"",0,"","",0,"","",null,null,"",0,"","",0,"","",null,null,"",0,"","",0,"","",null,null,"",""]
[null,"",null,null,"",{"$f":"IF(Table13[[#This Row],[PROPORTIONAL]]=\"\", \"\", (ABS(1-Table13[[#This Row],[PROPORTIONAL]])))","v":""},"","",null,0,"","","","","","",null,null,null,null,null,null,null,null,null,null,null,null,null,null,null,null,"",0,"","",0,"","",null,null,"",0,"","",0,"","",null,null,"",0,"","",0,"","",null,null,"",""]
[null,"",null,null,"",{"$f":"IF(Table13[[#This Row],[PROPORTIONAL]]=\"\", \"\", (ABS(1-Table13[[#This Row],[PROPORTIONAL]])))","v":""},"","",null,0,"","","","","","",null,null,null,null,null,null,null,null,null,null,null,null,null,null,null,null,"",0,"","",0,"","",null,null,"",0,"","",0,"","",null,null,"",0,"","",0,"","",null,null,"",""]
[null,"",null,null,"",{"$f":"IF(Table13[[#This Row],[PROPORTIONAL]]=\"\", \"\", (ABS(1-Table13[[#This Row],[PROPORTIONAL]])))","v":""},"","",null,0,"","","","","","",null,null,null,null,null,null,null,null,null,null,null,null,null,null,null,null,"",0,"","",0,"","",null,null,"",0,"","",0,"","",null,null,"",0,"","",0,"","",null,null,"",""]
[null,"",null,null,"",{"$f":"IF(Table13[[#This Row],[PROPORTIONAL]]=\"\", \"\", (ABS(1-Table13[[#This Row],[PROPORTIONAL]])))","v":""},"","",null,0,"","","","","","",null,null,null,null,null,null,null,null,null,null,null,null,null,null,null,null,"",0,"","",0,"","",null,null,"",0,"","",0,"","",null,null,"",0,"","",0,"","",null,null,"",""]
[null,"",null,null,"",{"$f":"IF(Table13[[#This Row],[PROPORTIONAL]]=\"\", \"\", (ABS(1-Table13[[#This Row],[PROPORTIONAL]])))","v":""},"","",null,0,"","","","","","",null,null,null,null,null,null,null,null,null,null,null,null,null,null,null,null,"",0,"","",0,"","",null,null,"",0,"","",0,"","",null,null,"",0,"","",0,"","",null,null,"",""]
[null,"",null,null,"",{"$f":"IF(Table13[[#This Row],[PROPORTIONAL]]=\"\", \"\", (ABS(1-Table13[[#This Row],[PROPORTIONAL]])))","v":""},"","",null,0,"","","","","","",null,null,null,null,null,null,null,null,null,null,null,null,null,null,null,null,"",0,"","",0,"","",null,null,"",0,"","",0,"","",null,null,"",0,"","",0,"","",null,null,"",""]
[null,"",null,null,"",{"$f":"IF(Table13[[#This Row],[PROPORTIONAL]]=\"\", \"\", (ABS(1-Table13[[#This Row],[PROPORTIONAL]])))","v":""},"","",null,0,"","","","","","",null,null,null,null,null,null,null,null,null,null,null,null,null,null,null,null,"",0,"","",0,"","",null,null,"",0,"","",0,"","",null,null,"",0,"","",0,"","",null,null,"",""]
[null,"",null,null,{"$f":"IF(D708=\"\",\"\",C708/D708)","v":""},{"$f":"IF(Table13[[#This Row],[PROPORTIONAL]]=\"\", \"\", (ABS(1-Table13[[#This Row],[PROPORTIONAL]])))","v":""},"","",null,0,"","","","","","",null,null,null,null,null,null,null,null,null,null,null,null,null,null,null,null,"",0,"","",0,"","",null,null,"",0,"","",0,"","",null,null,"",0,"","",0,"","",null,null,"",""]
[null,"",null,null,{"$f":"IF(D709=\"\",\"\",C709/D709)","v":""},{"$f":"IF(Table13[[#This Row],[PROPORTIONAL]]=\"\", \"\", (ABS(1-Table13[[#This Row],[PROPORTIONAL]])))","v":""},"","",null,0,"","","","","","",null,null,null,null,null,null,null,null,null,null,null,null,null,null,null,null,"",0,"","",0,"","",null,null,"",0,"","",0,"","",null,null,"",0,"","",0,"","",null,null,"",""]
[null,"",null,null,{"$f":"IF(D710=\"\",\"\",C710/D710)","v":""},{"$f":"IF(Table13[[#This Row],[PROPORTIONAL]]=\"\", \"\", (ABS(1-Table13[[#This Row],[PROPORTIONAL]])))","v":""},"","",null,0,"","","","","","",null,null,null,null,null,null,null,null,null,null,null,null,null,null,null,null,"",0,"","",0,"","",null,null,"",0,"","",0,"","",null,null,"",0,"","",0,"","",null,null,"",""]
[null,"",null,null,{"$f":"IF(D711=\"\",\"\",C711/D711)","v":""},{"$f":"IF(Table13[[#This Row],[PROPORTIONAL]]=\"\", \"\", (ABS(1-Table13[[#This Row],[PROPORTIONAL]])))","v":""},"","",null,0,"","","","","",""]

{"sheet":"Helpsheet-1","index":7,"n_rows":5,"n_cols":2,"rows_kept":5,"cut":false,"hidden":true,"merged":[]}
["Chart Type - U Chart","In SQC, the u-chart is a type of control chart used to monitor \"count\"-type data where the sample \nsize is greater than one, typically the average number of nonconformities per unit.\n\nThe u-chart differs from the c-chart in that it accounts for the possibility that the number or size of \ninspection units for which nonconformities are to be counted may vary. Larger samples may be an \neconomic necessity or may be necessary to increase the area of opportunity in order to track very \nlow nonconformity levels.\n\nAs with the c-chart, the Poisson distribution is the basis for the chart and requires the same \nassumptions. The control limits for this chart type are u+/- 3*SQRT(u/n)  where  is the estimate of\nthe long-term process mean \n"]
["Metrics Used & its Basis","Specify the metric which is tracked through control chart. It could be derived from PPM.\nExample of typical metrics being used for U Chart\n- Defect Density\n- Fail/Pass, Defective/Non-defective, \n- Defects, \n- Non-conformances, \n- etc.."]
["Distribution followed - Poisson Distribution","Poisson Distribution\nA Poisson random variable is the number of successes that result from a Poisson experiment. \nThe probability distribution of a Poisson random variable is called a Poisson distribution\n\nA Poisson experiment is a statistical experiment that has the following properties: \n(1. ) The experiment results in outcomes that can be classified as successes or failures. \n(2.) The average number of successes (μ) that occurs in a specified region is known. \n(3.) The probability that a success will occur is proportional to the size of the region. \n(4.) The probability that a success will occur in an extremely small region is virtually zero. "]
["Data Type - Attributes / Variables","Data Types are classified into 2 categories :\n\nATTRIBUTE DATA\nAttributes data is defined as a count such as the number of employees, the number of errors, \nthe number of defective products, or the number of phone calls. A standard is set, and then an \nassessment is made to establish if the standard has been met. The number of times the standard \nis either met or not is the count. Attributes data never contains decimal places when it is collected,\nit is always whole numbers, e.g. 2, 15\nMetrics to be used Fail/Pass, Defective/Non-defective, Defects, Non-conformances, Defect Density, \n% Defective, % Meeting SLA etc.\n\n\nVARIABLE DATA\nVariables data is defined as a measurement such as height, weight, time, or length. Monetary values \nare also variables data. Generally, a measuring device such as a weighing scale, vernier, or \nclock produces this data. Another characteristic of variables data is that it can contain decimal places \ne.g. 3.4, 8.2. \nMetrics to be used Effort, Time, Productivity etc."]
["Sample or Subgroup size ","Sample or subgroup size is defined as the amount of data collected at one time. \nThis is best explained through examples.\n\n(a.) When assessing the temperature in a vat of liquid, the reading is measured once hourly; \n       therefore the sample size is one per hour. \n\n(b.) When measuring the height of parts, a sample of five parts is taken and measured every 15 minutes; \n      therefore the sample size is five. \n\n(c.) When checking the number of phone calls that ring more than three times before being answered, \n       the sample size is the total number of phone calls received, which will vary. \n\n(d.) When checking 10 invoices per day for errors, the sample size is 10."]

{"sheet":"Helpsheet-2","index":8,"n_rows":5,"n_cols":2,"rows_kept":5,"cut":false,"hidden":true,"merged":[]}
["Chart Type - XmR Chart","This chart is particularly useful when there is only one observation in each time period.  You can use Individual X & Moving Range\nControl Charts to assess both variables and attribute data.\n\nThe only condition that needs to be checked before using the XmR Control Chart is that the average count per sample \nIS GREATER THAN ONE.\n\nThere is no variation within a subgroup since each subgroup has a sample size of 1,and the difference between successive subgroups\nis used as a measure of  variation.\n\nThis difference is called a moving range. There is a corresponding moving range value for each of the individual X values \nexcept the very first value.\nFor Sub group size of 2, \nUCLx = X + (2.66)mR & UCLx = X -  (2.66)mR\nUCLmR = (3.268)mR & UCLmR = 0\n"]
["Metrics Used & its Basis","Specify the metric which is tracked through control chart. It could be derived from PPM.\nExample of typical metrics being used for XmR Chart\n- Productivity (Design, Code etc.)\n- Inspection Rate\n- etc.."]
["Distribution followed - Normal  Distribution","What Does Normal Distribution Mean?\nA probability distribution that plots all of its values in a symmetrical fashion and most of the results are situated around the \nprobability's mean. Values are equally likely to plot either above or below the mean. Grouping takes place at values that are close \nto the mean and then tails off symmetrically away from the mean. \n\nAlso known as a \"Gaussian distribution\" or \"bell curve\". \n"]
["Data Type - Attributes / Variables","Data Types are classified into 2 categories :\n\nATTRIBUTE DATA\nAttributes data is defined as a count such as the number of employees, the number of errors,  the number of defective products, \nor the number of phone calls. A standard is set, and then an assessment is made to establish if the standard has been met. \nThe number of times the standard is either met or not is the count. Attributes data never contains decimal places when it is collected,\nit is always whole numbers, e.g. 2, 15\nMetrics to be used Fail/Pass, Defective/Non-defective, Defects, Non-conformances, Defect Density, % Defective, % Meeting SLA\n\nVARIABLE DATA\nVariables data is defined as a measurement such as height, weight, time, or length. Monetary values are also variables data. \nGenerally, a measuring device such as a weighing scale, vernier, or clock produces this data. Another characteristic of \nvariables data is that it can contain decimal places \ne.g. 3.4, 8.2.\nMetrics to be used Effort, Time, Productivity etc."]
["Sample or Subgroup size ","Sample or subgroup size is defined as the amount of data collected at one time. This is best explained through examples.\n\n(a.) When assessing the temperature in a vat of liquid, the reading is measured once hourly; therefore the sample size is one \n       per hour. \n\n(b.) When measuring the height of parts, a sample of five parts is taken and measured every 15 minutes; therefore the sample size is five. \n\n(c.) When checking the number of phone calls that ring more than three times before being answered, the sample size is the total \n     number of phone calls received, which will vary. \n\n(d.) When checking 10 invoices per day for errors, the sample size is "]

{"sheet":"Helpsheet-3","index":9,"n_rows":6,"n_cols":2,"rows_kept":6,"cut":false,"hidden":true,"merged":[]}
["Chart Type - P Chart","In statistical quality control, the p-chart is a type of control chart used to monitor the proportion of nonconforming units in a sample, \nwhere the sample proportion nonconforming is defined as the ratio of the number of nonconforming units to the sample size, n.\n\nThe p-chart only accommodates \"pass\"/\"fail\"-type inspection as determined by one or more go-no go gauges or tests, effectively \napplying the specifications to the data before they are plotted on the chart.\n\nThe control limits for this chart type are p +/-  3 * SQRT \n(p(1-p)/n), where  is the estimate of the long-term process mean established during control-chart setup\n"]
["Metrics Used & its Basis","Specify the metric which is tracked through control chart. It could be derived from PPM.\nExample of typical metrics being used for P Chart\n- % Meeting SLA\n- % Defective,\n- etc.."]
["Distribution followed - Binomial  Distribution","What Does Binomial Distribution Mean?\n\nA probability distribution that summarizes the likelihood that a value will take one of two independent values under a given set of \nparameters or assumptions. The underlying assumptions of the binomial distribution are that there is only one outcome for each\ntrial, that each trial has the same probability of success and that each trial is mutually exclusive. \n"]
["Data Type - Attributes / Variables","Data Types are classified into 2 categories :\n\nATTRIBUTE DATA\nAttributes data is defined as a count such as the number of employees, the number of errors, the number of defective products, \nor the number of phone calls. A standard is set, and then an assessment is made to establish if the standard has been met. \nThe number of times the standard is either met or not is the count. Attributes data never contains decimal places when it is collected,\nit is always whole numbers, e.g. 2, 15\nMetrics to be used Fail/Pass, Defective/Non-defective, Defects, Non-conformances, Defect Density, % Defective, % Meeting SLA\n\nVARIABLE DATA\nVariables data is defined as a measurement such as height, weight, time, or length. Monetary values are also variables data. \nGenerally, a measuring device such as a weighing scale, vernier, or clock produces this data. Another characteristic of variables \ndata is that it can contain decimal places .\ne.g. 3.4, 8.2.\nMetrics to be used Effort, Time, Productivity etc."]
["Sample or Subgroup size ","Sample or subgroup size is defined as the amount of data collected at one time. This is best explained through examples.\n\n(a.) When assessing the temperature in a vat of liquid, the reading is measured once hourly; therefore the sample size is one \n      per hour. \n\n(b.) When measuring the height of parts, a sample of five parts is taken and measured every 15 minutes; therefore the sample size is five. \n\n(c.) When checking the number of phone calls that ring more than three times before being answered, the sample size is the total number\n      of phone calls received, which will vary. \n\n(d.) When checking 10 invoices per day for errors, the sample size is "]
["Metrics Used & its Basis","Specify the metric which is tracked through control chart.\nIt could be derived from PPM."]

{"sheet":"Cp-Calculator","index":10,"n_rows":34,"n_cols":19,"rows_kept":34,"cut":false,"hidden":true,"merged":[[0,0,0,3],[0,4,0,5]]}
["XMR and X Bar Chart",null,null,null,"X Median chart"]
["n","A2","D4","d2","n","A2"]
[1,2.66,3.27,1.1279999999999999,1]
[2,1.88,3.27,1.1279999999999999,2,1.88]
[3,1.0229999999999999,2.5750000000000002,1.6930000000000001,3,1.19]
[4,0.72899999999999998,2.282,2.0590000000000002,4,0.8]
[5,0.57699999999999996,2.1150000000000002,2.3260000000000001,5,0.69]
[6,0.48299999999999998,2.004,2.5430000000000001,6,0.55000000000000004]
["Process Capability"]
["Mean = ",{"$f":"XmR_Chart!F6","v":6.125},null,"USL =",{"$f":"XmR_Chart!H6","v":9},null,null,"Mean = ",{"$f":"U_Chart!F8","v":0.7407407407407407},null,"USL =",{"$f":"U_Chart!H6","v":1.5},null,null,"Mean = ",{"$f":"P_Chart!G7","v":0.95555555555555549},null,"USL =",{"$f":"P_Chart!I6","v":1.5}]
["R-bar/d2 = ",{"$f":"(XmR_Chart!F7)/(VLOOKUP(1,XMR_Table,4,FALSE))","v":0.63323201621073966},null,"LSL =",{"$f":"XmR_Chart!H7","v":1},null,null,"Standard Deviation =",{"$f":"SQRT(U_Chart!$F$8/U_Chart!$F$7)","v":0.16563466499998442},null,"LSL =",{"$f":"U_Chart!H7","v":0.5},null,null,"Standard Deviation =",{"$f":"STDEV(P_Chart!P14:P711)","v":8.8191710368819662E-2},null,"LSL =",{"$f":"P_Chart!I7","v":0.8}]
["Cp = ",{"$f":"XmR_Chart!V8","v":2.1059999999999999},null,"3 Sigma",null,null,null,"Cp = ",{"$f":"U_Chart!O8","v":1.006},null,"3 Sigma",null,null,null,"Cp = ",{"$f":"P_Chart!P8","v":1.323},null,"3 Sigma"]
["Cpk = ",{"$f":"MIN(B14:B15)","v":1.5129999999999999},null,"Specification",null,null,null,"Cpk = ",{"$f":"MIN(I14:I15)","v":0.48399999999999999},null,"Specification",null,null,null,"Cpk = ",{"$f":"MIN(P14:P15)","v":0.58799999999999997},null,"Specification"]
["Cpu = ",{"$f":"XmR_Chart!V9","v":1.5129999999999999},null,null,null,null,null,"Cpu = ",{"$f":"U_Chart!O9","v":1.528},null,null,null,null,null,"Cpu = ",{"$f":"P_Chart!P9","v":2.0579999999999998}]
["Cpl = ",{"$f":"XmR_Chart!V10","v":2.698},null,null,null,null,null,"Cpl = ",{"$f":"U_Chart!O10","v":0.48399999999999999},null,null,null,null,null,"Cpl = ",{"$f":"P_Chart!P10","v":0.58799999999999997}]
["X-MR Chart",null,null,null,null,null,null,"U Chart",null,null,null,null,null,null,"P Chart"]
["WARNING: DO NOT MAKE ANY CHANGES TO THIS TABLE",null,null,null,null,null,null,"WARNING: DO NOT MAKE ANY CHANGES TO THIS TABLE",null,null,null,null,null,null,"WARNING: DO NOT MAKE ANY CHANGES TO THIS TABLE"]
[-4,5.7499999999999999E-4,{"$f":"$B$10+A18*$B$11","v":3.5920719351570414},{"$f":"B18/$B$11","v":9.0803999999999993E-4},null,null,null,-4,5.7499999999999999E-4,{"$f":"$I$10+H18*$I$11","v":7.8202080740803037E-2},{"$f":"I18/$I$11","v":3.4714955350684234E-3},null,null,null,-4,5.7499999999999999E-4,{"$f":"$P$10+O18*$P$11","v":0.60278871408027679},{"$f":"P18/$P$11","v":6.519887159409171E-3}]
[-3.5,3.3E-3,{"$f":"$B$10+A19*$B$11","v":3.9086879432624113},{"$f":"B19/$B$11","v":5.21136E-3},null,null,null,-3.5,3.3E-3,{"$f":"$I$10+H19*$I$11","v":0.16101941324079527},{"$f":"I19/$I$11","v":1.9923365679523127E-2},null,null,null,-3.5,3.3E-3,{"$f":"$P$10+O19*$P$11","v":0.64688456926468674},{"$f":"P19/$P$11","v":3.7418482827913505E-2}]
[-3,1.4924999999999999E-2,4.2253039513677813,2.3569559999999996E-2,{"$f":"1.4*D26","v":2.1169175999999998},null,null,-3,1.4924999999999999E-2,0.24383674574078745,9.010794932329777E-2,{"$f":"1.4*K26","v":8.0931126343638642},null,null,-3,1.4924999999999999E-2,0.69098042444909646,0.16923359278988154,{"$f":"1.4*R26","v":15.199841282066078}]
[-2.5,5.3624999999999999E-2,4.5419199594731507,8.4684599999999999E-2,null,null,null,-2.5,5.3624999999999999E-2,0.32665407824077963,0.32375469229225079,null,null,null,-2.5,5.3624999999999999E-2,0.7350762796335063,0.60805034595359442]
[-2,0.1515,4.8585359675785202,0.23924879999999998,null,null,null,-2,0.1515,0.40947141074077187,0.91466360619628895,null,null,null,-2,0.1515,0.77917213481791614,1.7178485298269381]
[-1.5,0.33975000000000005,5.1751519756838906,0.53653320000000004,null,null,null,-1.5,0.33975000000000005,0.4922887432407641,2.0512010574599948,null,null,null,-1.5,0.33975000000000005,0.82326799000232598,3.85240289114655]
[-1,0.60424999999999995,5.4917679837892601,0.95423159999999985,null,null,null,-1,0.60424999999999995,0.57510607574075623,3.648089003591469,null,null,null,-1,0.60424999999999995,0.86736384518673582,6.851550984474768]
[-0.5,0.85324999999999995,5.8083839918946305,1.3474523999999999,null,null,null,-0.5,0.85324999999999995,0.65792340824074846,5.1513975048645779,null,null,null,-0.5,0.85324999999999995,0.91145970037114565,9.6749455978536965]
[0,0.95750000000000002,6.125,1.512084,{"$f":"1.25*$D$26","v":1.8901049999999999},null,null,0,0.95750000000000002,0.7407407407407407,5.7807947388313314,{"$f":"1.25*$K$26","v":7.2259934235391645},null,null,0,0.95750000000000002,0.95555555555555549,10.857029487190056,{"$f":"1.25*$R$26","v":13.57128685898757}]
[0.5,0.85324999999999995,6.4416160081053695,1.3474523999999999,null,null,null,0.5,0.85324999999999995,0.82355807324073294,5.1513975048645779,null,null,null,0.5,0.85324999999999995,0.99965141073996533,9.6749455978536965]
[1,0.60424999999999995,6.7582320162107399,0.95423159999999985,null,null,null,1,0.60424999999999995,0.90637540574072517,3.648089003591469,null,null,null,1,0.60424999999999995,1.0437472659243752,6.851550984474768]
[1.5,0.33975,7.0748480243161094,0.53653319999999993,null,null,null,1.5,0.33975,0.9891927382407173,2.0512010574599948,null,null,null,1.5,0.33975,1.0878431211087849,3.8524028911465495]
[2,0.1515,7.3914640324214798,0.23924879999999998,null,null,null,2,0.1515,1.0720100707407094,0.91466360619628895,null,null,null,2,0.1515,1.1319389762931948,1.7178485298269381]
[2.5,5.3624999999999999E-2,7.7080800405268493,8.4684599999999999E-2,null,null,null,2.5,5.3624999999999999E-2,1.1548274032407018,0.32375469229225079,null,null,null,2.5,5.3624999999999999E-2,1.1760348314776046,0.60805034595359442]
[3,1.4924999999999999E-2,8.0246960486322187,2.3569559999999996E-2,{"$f":"1.1*$D$26","v":1.6632924000000002},null,null,3,1.4924999999999999E-2,1.2376447357406939,9.010794932329777E-2,{"$f":"1.1*$K$26","v":6.3588742127144648},null,null,3,1.4924999999999999E-2,1.2201306866620145,0.16923359278988154,{"$f":"1.1*$R$26","v":11.942732435909063}]
[3.5,3.3E-3,8.3413120567375891,5.21136E-3,null,null,null,3.5,3.3E-3,1.320462068240686,1.9923365679523127E-2,null,null,null,3.5,3.3E-3,1.2642265418464242,{"$f":"P33/$P$11","v":3.7418482827913505E-2}]
[4,5.7499999999999999E-4,8.6579280648429595,9.0803999999999993E-4,null,null,null,4,5.7499999999999999E-4,1.4032794007406784,3.4714955350684234E-3,null,null,null,4,5.7499999999999999E-4,1.3083223970308342,{"$f":"P34/$P$11","v":6.519887159409171E-3}]